BEGIN:VCALENDAR
VERSION:2.0
PRODID:-//JayceLand - ECPv6.15.20//NONSGML v1.0//EN
CALSCALE:GREGORIAN
METHOD:PUBLISH
X-ORIGINAL-URL:https://jayceland.com/blog
X-WR-CALDESC:Events for JayceLand
REFRESH-INTERVAL;VALUE=DURATION:PT1H
X-Robots-Tag:noindex
X-PUBLISHED-TTL:PT1H
BEGIN:VTIMEZONE
TZID:America/New_York
BEGIN:DAYLIGHT
TZOFFSETFROM:-0500
TZOFFSETTO:-0400
TZNAME:EDT
DTSTART:20190310T070000
END:DAYLIGHT
BEGIN:STANDARD
TZOFFSETFROM:-0400
TZOFFSETTO:-0500
TZNAME:EST
DTSTART:20191103T060000
END:STANDARD
BEGIN:DAYLIGHT
TZOFFSETFROM:-0500
TZOFFSETTO:-0400
TZNAME:EDT
DTSTART:20200308T070000
END:DAYLIGHT
BEGIN:STANDARD
TZOFFSETFROM:-0400
TZOFFSETTO:-0500
TZNAME:EST
DTSTART:20201101T060000
END:STANDARD
BEGIN:DAYLIGHT
TZOFFSETFROM:-0500
TZOFFSETTO:-0400
TZNAME:EDT
DTSTART:20210314T070000
END:DAYLIGHT
BEGIN:STANDARD
TZOFFSETFROM:-0400
TZOFFSETTO:-0500
TZNAME:EST
DTSTART:20211107T060000
END:STANDARD
END:VTIMEZONE
BEGIN:VEVENT
DTSTART;TZID=America/New_York:20200402T120000
DTEND;TZID=America/New_York:20200402T131500
DTSTAMP:20260423T141424
CREATED:20200323T170333Z
LAST-MODIFIED:20200323T170333Z
UID:28104-1585828800-1585833300@jayceland.com
SUMMARY:Online Grief Circle (2020-Apr-2 @ 12 p.m.)
DESCRIPTION:Join us for this opportunity to share what's heavy on your heart during these uncertain times. We will be offering online grief circles every Tuesday and Thursday\, please join as often as you like. \n [source: M.K. Gandhi Institute for Nonviolence website\, 2020-Mar-23]
URL:https://jayceland.com/blog/event/online-grief-circle-2020-apr-2-12-p-m/
LOCATION:Gandhi Institute (M.K. Gandhi Institute for Nonviolence)\, 929 S. Plymouth Ave.\, Rochester\, New York\, 14608\, United States
CATEGORIES:JayceLand 2020-Apr-2
END:VEVENT
BEGIN:VEVENT
DTSTART;TZID=America/New_York:20200403T180000
DTEND;TZID=America/New_York:20200403T210000
DTSTAMP:20260423T141424
CREATED:20200219T195945Z
LAST-MODIFIED:20200219T195945Z
UID:27715-1585936800-1585947600@jayceland.com
SUMMARY:Alternate Paths Opening Reception (2020-Apr-3 @ 6 p.m.)
DESCRIPTION:This exciting group exhibit highlights alternative photo processes\, and features work by Marianne Pojman (fiber prints toned with tea and coffee\, plus other alternative process works)\, Jonathan Merritt (cyanotypes)\, Bill Bates (lith prints)\, Pat Bacon (photogravures)\, and me (showing all new kallitypes). \n [source: artist e-mail\, 2020-Feb-17]
URL:https://jayceland.com/blog/event/alternate-paths-opening-reception-2020-apr-3-6-p-m/
LOCATION:Nu Movement Art Cooperative\, 716 University Ave.\, Rochester\, New York\, 14607\, United States
CATEGORIES:JayceLand 2020-Apr-2
END:VEVENT
BEGIN:VEVENT
DTSTART;TZID=America/New_York:20200405T130000
DTEND;TZID=America/New_York:20200405T150000
DTSTAMP:20260423T141424
CREATED:20200323T170333Z
LAST-MODIFIED:20200323T170333Z
UID:28102-1586091600-1586098800@jayceland.com
SUMMARY:Online Workshop: Let's Talk About Hate
DESCRIPTION:What is hate? How does it shape our thoughts\, identities\, and communities? What can we do about it? Join Kit Miller and David Sanchez from the Gandhi Institute for an afternoon dedicated to exploring this seldom discussed topic through a variety of perspectives and traditions. \n [source: M.K. Gandhi Institute for Nonviolence website\, 2020-Mar-23]
URL:https://jayceland.com/blog/event/online-workshop-lets-talk-about-hate/
LOCATION:Gandhi Institute (M.K. Gandhi Institute for Nonviolence)\, 929 S. Plymouth Ave.\, Rochester\, New York\, 14608\, United States
CATEGORIES:JayceLand 2020-Apr-2
END:VEVENT
BEGIN:VEVENT
DTSTART;TZID=America/New_York:20200407T120000
DTEND;TZID=America/New_York:20200407T131500
DTSTAMP:20260423T141424
CREATED:20200401T150140Z
LAST-MODIFIED:20200401T150210Z
UID:28112-1586260800-1586265300@jayceland.com
SUMMARY:Online Grief Circle (2020-Apr-7 @ 12 p.m.)
DESCRIPTION:Join us for this opportunity to share what's heavy on your heart during these uncertain times. We will be offering online grief circles every Tuesday and Thursday\, please join as often as you like. \n [source: M.K. Gandhi Institute for Nonviolence website\, 2020-Mar-30]
URL:https://jayceland.com/blog/event/online-grief-circle-2020-apr-7-12-p-m/
LOCATION:Gandhi Institute (M.K. Gandhi Institute for Nonviolence)\, 929 S. Plymouth Ave.\, Rochester\, New York\, 14608\, United States
CATEGORIES:JayceLand 2020-Apr-2
END:VEVENT
BEGIN:VEVENT
DTSTART;TZID=America/New_York:20200407T121200
DTEND;TZID=America/New_York:20200407T121200
DTSTAMP:20260423T141424
CREATED:20200311T171128Z
LAST-MODIFIED:20200318T175007Z
UID:27998-1586261520-1586261520@jayceland.com
SUMMARY:Books Sandwiched In: Meaghan de Chateauvieux review of "No Visible Bruises: What We Don't Know About Domestic Violence Can Kill Us" by Rachel Louise Snyder
DESCRIPTION:In the Kate Gleason Auditorium of the Bausch and Lomb Library BuildingOnline only\, Meaghan de Chateauvieux will review No Visible Bruises: What We Don't Know About Domestic Violence Can Kill Us by Rachel Louise Snyder.  \n"Compulsively readable …  [Snyder] takes us into the lives of the abused\, the abusers and the survivors. . . The stories are devastating\, but Snyder keeps us reading by pointing us toward possible solutions." – The Washington Post \n [source: Friends and Foundation of the Rochester Public Library brochure\, 2020-Mar-2]
URL:https://jayceland.com/blog/event/books-sandwiched-in-meaghan-de-chateauvieux-review-of-no-visible-bruises-what-we-dont-know-about-domestic-violence-can-kill-us-by-rachel-louise-snyder/
LOCATION:Bausch and Lomb Library Building\, 110 South Ave.\, Rochester\, New York\, 14604\, United States
CATEGORIES:JayceLand 2020-Apr-2
END:VEVENT
BEGIN:VEVENT
DTSTART;TZID=America/New_York:20200414T121200
DTEND;TZID=America/New_York:20200414T121200
DTSTAMP:20260423T141424
CREATED:20200311T171128Z
LAST-MODIFIED:20200316T123724Z
UID:27999-1586866320-1586866320@jayceland.com
SUMMARY:Books Sandwiched In: Zhiyao Duan review of "Artificial Intelligence: A Guide for Thinking Humans" by Melanie Mitchell
DESCRIPTION:In the Kate Gleason Auditorium of the Bausch and Lomb Library BuildingOnline only\, Zhiyao Duan will review Artificial Intelligence: A Guide for Thinking Humans by Melanie Mitchell.  \nInterweaving stories about the science of AI and the people behind it\, Artificial Intelligence outlines the most interesting and provocative modern work in the field\, including how some of the most prominent AI systems work; their limitations; and their impact on humankind.  \n [source: Friends and Foundation of the Rochester Public Library brochure\, 2020-Mar-2]
URL:https://jayceland.com/blog/event/books-sandwiched-in-zhiyao-duan-review-of-artificial-intelligence-a-guide-for-thinking-humans-by-melanie-mitchell/
LOCATION:Bausch and Lomb Library Building\, 110 South Ave.\, Rochester\, New York\, 14604\, United States
CATEGORIES:JayceLand 2020-Apr-9
END:VEVENT
BEGIN:VEVENT
DTSTART;TZID=America/New_York:20200421T121200
DTEND;TZID=America/New_York:20200421T121200
DTSTAMP:20260423T141424
CREATED:20200311T171128Z
LAST-MODIFIED:20200318T174954Z
UID:28000-1587471120-1587471120@jayceland.com
SUMMARY:Books Sandwiched In: Dresden Engle review of "Home Work: A Memoir of My Hollywood Years" by Julie Andrews and Emma Walton Hamilton
DESCRIPTION:In the Kate Gleason Auditorium of the Bausch and Lomb Library BuildingOnline only\, Dresden Engle will review Home Work: A Memoir of My Hollywood Years by Julie Andrews and Emma Walton Hamilton.  \nIn this follow-up to her memoir Home\, Julie Andrews shares reflections on her astonishing career\, "Graceful and candid . . . Home Work has such profound meaning for artist and humanitarian Andrews. . . [a] treasury of delectable Hollywood revelations. " – Booklist \n [source: Friends and Foundation of the Rochester Public Library brochure\, 2020-Mar-2]
URL:https://jayceland.com/blog/event/books-sandwiched-in-dresden-engle-review-of-home-work-a-memoir-of-my-hollywood-years-by-julie-andrews-and-emma-walton-hamilton/
LOCATION:Bausch and Lomb Library Building\, 110 South Ave.\, Rochester\, New York\, 14604\, United States
CATEGORIES:JayceLand 2020-Apr-16
END:VEVENT
BEGIN:VEVENT
DTSTART;TZID=America/New_York:20200425T090000
DTEND;TZID=America/New_York:20200425T110000
DTSTAMP:20260423T141424
CREATED:20200311T171128Z
LAST-MODIFIED:20200311T171128Z
UID:27975-1587805200-1587812400@jayceland.com
SUMMARY:Tree Overstock Sale
DESCRIPTION:From 9:00am-11:00am on Saturday April 25th at the Monroe County ecopark\, you can come in and purchase trees in a first-come\, first-serve sale! This is a great opportunity to still get some trees even if you missed the deadline. More information can be found on our website here: http://www.monroecountyswcd.org/Tree.html \n [source: Monroe County Soil & Water Conservation District e-mail\, 2020-Mar-6]
URL:https://jayceland.com/blog/event/tree-overstock-sale/
LOCATION:EcoPark\, 10 Avion Dr.\, Gates\, New York\, 14624\, United States
CATEGORIES:JayceLand 2020-Apr-23
END:VEVENT
BEGIN:VEVENT
DTSTART;TZID=America/New_York:20200428T121200
DTEND;TZID=America/New_York:20200428T121200
DTSTAMP:20260423T141424
CREATED:20200311T171128Z
LAST-MODIFIED:20200318T174943Z
UID:28001-1588075920-1588075920@jayceland.com
SUMMARY:Books Sandwiched In: Frank Regan review of "The Uninhabitable Uninhabitable Earth: Earth Life After Warming" by David Wallace-Wells
DESCRIPTION:In the Kate Gleason Auditorium of the Bausch and Lomb Library BuildingOnline only\, Frank Regan will review The Uninhabitable Uninhabitable Earth: Earth Life After Warming by David Wallace-Wells.  \n"If the planet was broughtto the brink of climate catastrophe within the lifetime of a single generation\, the responsibility to avoid it belongs with a single generation\, too. We all also know that second lifetime. It is ours. " \n [source: Friends and Foundation of the Rochester Public Library brochure\, 2020-Mar-2]
URL:https://jayceland.com/blog/event/books-sandwiched-in-frank-regan-review-of-the-uninhabitable-uninhabitable-earth-earth-life-after-warming-by-david-wallace-wells/
LOCATION:Bausch and Lomb Library Building\, 110 South Ave.\, Rochester\, New York\, 14604\, United States
CATEGORIES:JayceLand 2020-Apr-23
END:VEVENT
END:VCALENDAR