BEGIN:VCALENDAR
VERSION:2.0
PRODID:-//JayceLand - ECPv6.15.20//NONSGML v1.0//EN
CALSCALE:GREGORIAN
METHOD:PUBLISH
X-WR-CALNAME:JayceLand
X-ORIGINAL-URL:https://jayceland.com/blog
X-WR-CALDESC:Events for JayceLand
REFRESH-INTERVAL;VALUE=DURATION:PT1H
X-Robots-Tag:noindex
X-PUBLISHED-TTL:PT1H
BEGIN:VTIMEZONE
TZID:America/New_York
BEGIN:DAYLIGHT
TZOFFSETFROM:-0500
TZOFFSETTO:-0400
TZNAME:EDT
DTSTART:20140309T070000
END:DAYLIGHT
BEGIN:STANDARD
TZOFFSETFROM:-0400
TZOFFSETTO:-0500
TZNAME:EST
DTSTART:20141102T060000
END:STANDARD
BEGIN:DAYLIGHT
TZOFFSETFROM:-0500
TZOFFSETTO:-0400
TZNAME:EDT
DTSTART:20150308T070000
END:DAYLIGHT
BEGIN:STANDARD
TZOFFSETFROM:-0400
TZOFFSETTO:-0500
TZNAME:EST
DTSTART:20151101T060000
END:STANDARD
BEGIN:DAYLIGHT
TZOFFSETFROM:-0500
TZOFFSETTO:-0400
TZNAME:EDT
DTSTART:20160313T070000
END:DAYLIGHT
BEGIN:STANDARD
TZOFFSETFROM:-0400
TZOFFSETTO:-0500
TZNAME:EST
DTSTART:20161106T060000
END:STANDARD
END:VTIMEZONE
BEGIN:VEVENT
DTSTART;TZID=America/New_York:20150417T220000
DTEND;TZID=America/New_York:20150418T010000
DTSTAMP:20260424T080139
CREATED:20150414T073343Z
LAST-MODIFIED:20150414T073343Z
UID:4296-1429308000-1429318800@jayceland.com
SUMMARY:5Head
DESCRIPTION:[source: Dinosaur Bar-B-Que website\, 2015-Apr-13]
URL:https://jayceland.com/blog/event/5head/
LOCATION:Dinosaur Bar-B-Que\, 99 Court St.\, Rochester\, New York\, 14604\, United States
CATEGORIES:JayceLand 2015-Apr-16
END:VEVENT
BEGIN:VEVENT
DTSTART;TZID=America/New_York:20150417T233000
DTEND;TZID=America/New_York:20150418T012900
DTSTAMP:20260424T080139
CREATED:20150414T073343Z
LAST-MODIFIED:20150414T073343Z
UID:4293-1429313400-1429320540@jayceland.com
SUMMARY:The Imitation Game
DESCRIPTION:The UofR Cinema Group is screening The Imitation Game (Morten Tyldum\, U.K. / U.S. 2014\, 119 min.) "During World War II\, mathematician Alan Turing tries to crack the enigma code with help from fellow mathematicians." [source: University of Rochester Cinema Group website\, 2015-Apr-13]
URL:https://jayceland.com/blog/event/the-imitation-game-3/
LOCATION:Hoyt Auditorium\, University of Rochester Campus\, Rochester\, New York\, United States
CATEGORIES:JayceLand 2015-Apr-16
END:VEVENT
BEGIN:VEVENT
DTSTART;TZID=America/New_York:20150418T083000
DTEND;TZID=America/New_York:20150418T113000
DTSTAMP:20260424T080139
CREATED:20150414T073343Z
LAST-MODIFIED:20150414T073343Z
UID:4297-1429345800-1429356600@jayceland.com
SUMMARY:UMHN Canal Clean Sweep 2015
DESCRIPTION:[source: UMHN Calendar\, 2015-Apr-13]
URL:https://jayceland.com/blog/event/umhn-canal-clean-sweep-2015/
LOCATION:Southside Living Center's Valentine Tower\, 400 Kendrick Rd.\, Rochester\, New York\, 14620\, United States
CATEGORIES:JayceLand 2015-Apr-16
END:VEVENT
BEGIN:VEVENT
DTSTART;TZID=America/New_York:20150418T090000
DTEND;TZID=America/New_York:20150418T180000
DTSTAMP:20260424T080139
CREATED:20150414T073344Z
LAST-MODIFIED:20150414T073344Z
UID:4298-1429347600-1429380000@jayceland.com
SUMMARY:Record Store Weekend 2015
DESCRIPTION:Saturday from 9 a.m. to 6 p.m. and Sunday from 12 p.m. to 5 p.m. is Record Store Weekend 2015 featuring a 7" record pressed by WAYO 104.3 FM\, "the amazing vinyl records of the late Doug Meech\, original drummer for Rochester's Chesterfield Kings"\, coffee from Fuego Coffee Roasters\, and more. [source: Bop Shop website\, 2015-Apr-13]
URL:https://jayceland.com/blog/event/record-store-weekend-2015/
LOCATION:Bop Shop Records\, 1460 Monroe Ave.\, Rochester\, New York\, 14618\, United States
CATEGORIES:JayceLand 2015-Apr-16
END:VEVENT
BEGIN:VEVENT
DTSTART;TZID=America/New_York:20150418T100000
DTEND;TZID=America/New_York:20150418T150000
DTSTAMP:20260424T080139
CREATED:20150414T073344Z
LAST-MODIFIED:20150414T073344Z
UID:4300-1429351200-1429369200@jayceland.com
SUMMARY:Yard(s)Sale: Spring Edition 2015
DESCRIPTION:Today from 10 a.m. to 3 p.m. is the Yard(s)Sale: Spring Edition 2015 featuring music by great modern-Americana one-man-band Hieronymus A. Bogs and art by numerous artists. [source: Facebook\, 2015-Apr-13]
URL:https://jayceland.com/blog/event/yardssale-spring-edition-2015/
LOCATION:The Yards\, 50-52 Public Market\, Rochester\, New York\, 14609\, United States
CATEGORIES:JayceLand 2015-Apr-16
END:VEVENT
BEGIN:VEVENT
DTSTART;TZID=America/New_York:20150418T100000
DTEND;TZID=America/New_York:20150418T180000
DTSTAMP:20260424T080139
CREATED:20150417T203832Z
LAST-MODIFIED:20150417T203832Z
UID:4354-1429351200-1429380000@jayceland.com
SUMMARY:Inaugural Raw-Milk Cheese Appreciation Day
DESCRIPTION:Today from 10 a.m. to 6 p.m. at the Little Bleu Cheese Shop is the Inaugural Raw-Milk Cheese Appreciation Day.  \nAn international event we're proud to be part of – we'll be sampling our favorite raw milk cheeses from the Finger Lakes and beyond\, discussing the benefits of raw milk\, and of course offering great discounts on the cheeses we're sampling. \n [source: Little Blue Cheese Shop e-mail\, 2015-Apr-17]
URL:https://jayceland.com/blog/event/inaugural-raw-milk-cheese-appreciation-day/
LOCATION:Little Bleu Cheese Shop\, 684 South Ave.\, Rochester\, New York\, 14620\, United States
CATEGORIES:JayceLand 2015-Apr-16
END:VEVENT
BEGIN:VEVENT
DTSTART;TZID=America/New_York:20150418T133000
DTEND;TZID=America/New_York:20150418T151100
DTSTAMP:20260424T080139
CREATED:20150416T180242Z
LAST-MODIFIED:20150416T180242Z
UID:4346-1429363800-1429369860@jayceland.com
SUMMARY:Still Alice matinee (2015-Apr-18 @ 1:30 p.m.)
DESCRIPTION:Today's 1:30 p.m. matinee at Cinema is Still Alice (Richard Glatzer\, Wash Westmoreland\, U.S. / France 2014\, 101 min.) "A linguistics professor and her family find their bonds tested when she is diagnosed with Alzheimer's Disease." [source: Cinema coming soon page\, 2015-Apr-16]
URL:https://jayceland.com/blog/event/still-alice-matinee-2015-apr-18-130-p-m/
LOCATION:Cinema Theatre\, 957 S. Clinton Ave.\, Rochester\, New York\, 14620\, United States
CATEGORIES:JayceLand 2015-Apr-16
END:VEVENT
BEGIN:VEVENT
DTSTART;TZID=America/New_York:20150418T140000
DTEND;TZID=America/New_York:20150418T150000
DTSTAMP:20260424T080139
CREATED:20150414T073344Z
LAST-MODIFIED:20150414T073344Z
UID:4301-1429365600-1429369200@jayceland.com
SUMMARY:How to Catch a Mouse: Simple Machines at Work
DESCRIPTION:Today in the Fisher Meeting Room of the Pittsford Community Library\, Larry Moss will use balloons to explain How to Catch a Mouse: Simple Machines at Work.  \nSome people know science is fun. Others need to be convinced. Balloons are used in this enjoyable\, interactive stage show to construct a Rube Goldberg-style mousetrap intended to solve the problem of a mouse on the loose. \n [source: Monroe County Library website\, 2015-Apr-13]
URL:https://jayceland.com/blog/event/how-to-catch-a-mouse-simple-machines-at-work/
LOCATION:Pittsford Community Library\, 24 State St.\, Pittsford\, New York\, 14534\, United States
CATEGORIES:JayceLand 2015-Apr-16
END:VEVENT
BEGIN:VEVENT
DTSTART;TZID=America/New_York:20150418T140000
DTEND;TZID=America/New_York:20150418T160000
DTSTAMP:20260424T080139
CREATED:20150414T073344Z
LAST-MODIFIED:20150414T073344Z
UID:4302-1429365600-1429372800@jayceland.com
SUMMARY:Abundance Cooperative Market Earth Day Birthday
DESCRIPTION:[source: Color Brighton Green website\, 2015-Apr-13]
URL:https://jayceland.com/blog/event/abundance-cooperative-market-earth-day-birthday/
LOCATION:Abundance Cooperative Market\, 571 South Ave.\, Rochester\, New York\, 14620\, United States
CATEGORIES:JayceLand 2015-Apr-16
END:VEVENT
BEGIN:VEVENT
DTSTART;TZID=America/New_York:20150418T161500
DTEND;TZID=America/New_York:20150418T180200
DTSTAMP:20260424T080139
CREATED:20150416T180242Z
LAST-MODIFIED:20150416T180242Z
UID:4347-1429373700-1429380120@jayceland.com
SUMMARY:Whiplash matinee (2015-Apr-18 @ 4:15 p.m.)
DESCRIPTION:Today's 4:15 p.m. matinee at Cinema is Whiplash (Damien Chazelle\, U.S. 2014\, 107 min.) "A promising young drummer enrolls at a cut-throat music conservatory where his dreams of greatness are mentored by an instructor who will stop at nothing to realize a student's potential." [source: Cinema coming soon page\, 2015-Apr-16]
URL:https://jayceland.com/blog/event/whiplash-matinee-2015-apr-18-415-p-m/
LOCATION:Cinema Theatre\, 957 S. Clinton Ave.\, Rochester\, New York\, 14620\, United States
CATEGORIES:JayceLand 2015-Apr-16
END:VEVENT
BEGIN:VEVENT
DTSTART;TZID=America/New_York:20150418T173000
DTEND;TZID=America/New_York:20150418T193000
DTSTAMP:20260424T080139
CREATED:20150414T073344Z
LAST-MODIFIED:20150414T073344Z
UID:4303-1429378200-1429385400@jayceland.com
SUMMARY:Fast Forward Film Festival Gala Reception
DESCRIPTION:[source: Fast Forward Film Festival box office site\, 2015-Apr-13]
URL:https://jayceland.com/blog/event/fast-forward-film-festival-gala-reception/
LOCATION:George Eastman House\, 900 East Ave.\, Rochester\, New York\, 14607\, United States
CATEGORIES:JayceLand 2015-Apr-16
END:VEVENT
BEGIN:VEVENT
DTSTART;TZID=America/New_York:20150418T190000
DTEND;TZID=America/New_York:20150418T210000
DTSTAMP:20260424T080139
CREATED:20150414T073345Z
LAST-MODIFIED:20150414T073345Z
UID:4305-1429383600-1429390800@jayceland.com
SUMMARY:Framing Sounds by Chris H. Lynn
DESCRIPTION:Starting at 7 p.m. in the VSW Auditorium is Framing Sounds by Chris Lynn\, "a sonic journey through Super 8mm and digital landscapes with Washington D.C. based filmmaker and composer Chris Lynn." [source: Visual Studies Workshop website\, 2015-Apr-13]
URL:https://jayceland.com/blog/event/framing-sounds-by-chris-h-lynn/
LOCATION:Visual Studies Workshop\, 31 Prince St.\, Rochester\, New York\, 14607\, United States
CATEGORIES:JayceLand 2015-Apr-16
END:VEVENT
BEGIN:VEVENT
DTSTART;TZID=America/New_York:20150418T190000
DTEND;TZID=America/New_York:20150419T020000
DTSTAMP:20260424T080139
CREATED:20150414T073345Z
LAST-MODIFIED:20150414T073345Z
UID:4306-1429383600-1429408800@jayceland.com
SUMMARY:Death Camp\, Hunted Down\, Aaron and The Burrs\, Green Dreams\, Technical Ecstasy\, The Fast Eddies\, and New City Slang
DESCRIPTION:They claim the bands start at 7 p.m. at the Bug Jar tonight: Death Camp\, Hunted Down\, Aaron and The Burrs\, punk hard-rock band Green Dreams\, Technical Ecstasy\, The Fast Eddies\, and New City Slang. [source: Bug Jar calendar\, 2015-Apr-13]
URL:https://jayceland.com/blog/event/death-camp-hunted-down-aaron-and-the-burrs-green-dreams-technical-ecstasy-the-fast-eddies-and-new-city-slang/
LOCATION:Bug Jar\, 219 Monroe Ave\, Rochester\, New York\, 14607\, United States
CATEGORIES:JayceLand 2015-Apr-16
END:VEVENT
BEGIN:VEVENT
DTSTART;TZID=America/New_York:20150418T200000
DTEND;TZID=America/New_York:20150418T213000
DTSTAMP:20260424T080139
CREATED:20150414T073344Z
LAST-MODIFIED:20150414T073344Z
UID:4304-1429387200-1429392600@jayceland.com
SUMMARY:Fast Forward Film Festival Film Screenings and Award Ceremony
DESCRIPTION:Selected short films will be screened in the Dryden Theatre. Following the film screenings\, festival attendees will vote for the Audience Choice Award. Juried awards will be presented to filmmakers for the following three categories: (1) Most inspiring\, compelling\, and engaging\, (2) Most unique perspective and (3) Strongest call to action. Winners will receive $1\,000 cash awards. Awards of $250 will also be given to Honorable Mentions in each of these three categories. The Audience Choice Award will be presented at the end of the evening. \n [source: Fast Forward Film Festival box office site\, 2015-Apr-13]
URL:https://jayceland.com/blog/event/fast-forward-film-festival-film-screenings-and-award-ceremony/
LOCATION:George Eastman House\, 900 East Ave.\, Rochester\, New York\, 14607\, United States
CATEGORIES:JayceLand 2015-Apr-16
END:VEVENT
BEGIN:VEVENT
DTSTART;TZID=America/New_York:20150418T200000
DTEND;TZID=America/New_York:20150418T220000
DTSTAMP:20260424T080139
CREATED:20150417T131344Z
LAST-MODIFIED:20150417T131344Z
UID:4351-1429387200-1429394400@jayceland.com
SUMMARY:Kinloch Nelson and Billy Rogan
DESCRIPTION:Kinloch Nelson's Guitar Artistry Series brings Billy Rogan's "sweeping sounds of altered tunings with the drama of finger-tapping and other aggressive hand techniques. The result is music that is evocative and atmospheric." \n [source: Facebook\, 2015-Apr-17]
URL:https://jayceland.com/blog/event/kinloch-nelson-and-billy-rogan/
LOCATION:Bernunzio Uptown Music\, 122 East Ave.\, Rochester\, New York\, 14604\, United States
CATEGORIES:JayceLand 2015-Apr-16
END:VEVENT
BEGIN:VEVENT
DTSTART;TZID=America/New_York:20150418T220000
DTEND;TZID=America/New_York:20150419T000000
DTSTAMP:20260424T080139
CREATED:20150414T073345Z
LAST-MODIFIED:20150414T073345Z
UID:4307-1429394400-1429401600@jayceland.com
SUMMARY:The Lime Works\, Attic Abasement\, and Jungle Heart
DESCRIPTION:[source: Carbon Records website\, 2015-Apr-13]
URL:https://jayceland.com/blog/event/the-lime-works-attic-abasement-and-jungle-heart/
LOCATION:Skylark Lounge\, 40 South Union St.\, Rochester\, New York\, 14607\, United States
CATEGORIES:JayceLand 2015-Apr-16
END:VEVENT
BEGIN:VEVENT
DTSTART;TZID=America/New_York:20150419T110000
DTEND;TZID=America/New_York:20150419T120000
DTSTAMP:20260424T080139
CREATED:20150414T073345Z
LAST-MODIFIED:20150414T073345Z
UID:4309-1429441200-1429444800@jayceland.com
SUMMARY:April Assembly Earth Day Discussion with Dr. Susan Spencer
DESCRIPTION:Starting at 11 a.m. at the Rochester Academy of Medicine is an April Assembly Earth Day Discussion with Dr. Susan Spencer discussing renewable energy. [source: Color Brighton Green website\, 2015-Apr-13]
URL:https://jayceland.com/blog/event/april-assembly-earth-day-discussion-with-dr-susan-spencer/
LOCATION:Rochester Academy of Medicine\, 1441 East Ave. #100\, Rochester\, New York\, 14610\, United States
CATEGORIES:JayceLand 2015-Apr-16
END:VEVENT
BEGIN:VEVENT
DTSTART;TZID=America/New_York:20150419T110000
DTEND;TZID=America/New_York:20150419T160000
DTSTAMP:20260424T080139
CREATED:20150414T073345Z
LAST-MODIFIED:20150414T073345Z
UID:4308-1429441200-1429459200@jayceland.com
SUMMARY:Playing with History with David Levinthal
DESCRIPTION:Today from 11 a.m. to 4 p.m. at George Eastman House\, David Levinthal will host a Family Day titled Playing with History.  \nIn conjunction with the exhibition of his series History\, join artist David Levinthal at this activity day for people of all ages. Learn about history and photography while using art supplies and toys to create your own interpretations of historical scenes. Then take photographs of the creations\, exploring the reality of fiction and paying homage to Levinthal's work. \n [source: Eastman House calendar\, 2015-Apr-13]
URL:https://jayceland.com/blog/event/playing-with-history-with-david-levinthal/
LOCATION:George Eastman House\, 900 East Ave.\, Rochester\, New York\, 14607\, United States
CATEGORIES:JayceLand 2015-Apr-16
END:VEVENT
BEGIN:VEVENT
DTSTART;TZID=America/New_York:20150419T120000
DTEND;TZID=America/New_York:20150419T170000
DTSTAMP:20260424T080139
CREATED:20150414T073344Z
LAST-MODIFIED:20150414T073344Z
UID:4299-1429444800-1429462800@jayceland.com
SUMMARY:Record Store Weekend 2015
DESCRIPTION:Saturday from 9 a.m. to 6 p.m. and Sunday from 12 p.m. to 5 p.m. is Record Store Weekend 2015 featuring a 7" record pressed by WAYO 104.3 FM\, "the amazing vinyl records of the late Doug Meech\, original drummer for Rochester's Chesterfield Kings"\, coffee from Fuego Coffee Roasters\, and more. [source: Bop Shop website\, 2015-Apr-13]
URL:https://jayceland.com/blog/event/record-store-weekend-2015-2/
LOCATION:Bop Shop Records\, 1460 Monroe Ave.\, Rochester\, New York\, 14618\, United States
CATEGORIES:JayceLand 2015-Apr-16
END:VEVENT
BEGIN:VEVENT
DTSTART;TZID=America/New_York:20150419T130000
DTEND;TZID=America/New_York:20150419T170000
DTSTAMP:20260424T080139
CREATED:20150414T073345Z
LAST-MODIFIED:20150414T073345Z
UID:4310-1429448400-1429462800@jayceland.com
SUMMARY:Pachamama Alliance's Awakening the Dreamer\, Changing the Dream Symposium
DESCRIPTION:Celebrate Earth Week 2015 and discover the hope\, connections and creative potential in these troubling times. An experience to inspire action toward the more sustainable\, just\, and fulfilling world our hearts know is possible. \n [source: Color Brighton Green website\, 2015-Apr-13]
URL:https://jayceland.com/blog/event/pachamama-alliances-awakening-the-dreamer-changing-the-dream-symposium/
LOCATION:Otto A. Shults Community Center\, Nazareth College 4245 East Ave.\, Rochester\, New York\, 14618\, United States
CATEGORIES:JayceLand 2015-Apr-16
END:VEVENT
BEGIN:VEVENT
DTSTART;TZID=America/New_York:20150419T133000
DTEND;TZID=America/New_York:20150419T151100
DTSTAMP:20260424T080139
CREATED:20150416T180242Z
LAST-MODIFIED:20150416T180242Z
UID:4348-1429450200-1429456260@jayceland.com
SUMMARY:Still Alice matinee (2015-Apr-19 @ 1:30 p.m.)
DESCRIPTION:Today's 1:30 p.m. matinee at Cinema is Still Alice (Richard Glatzer\, Wash Westmoreland\, U.S. / France 2014\, 101 min.) "A linguistics professor and her family find their bonds tested when she is diagnosed with Alzheimer's Disease." [source: Cinema coming soon page\, 2015-Apr-16]
URL:https://jayceland.com/blog/event/still-alice-matinee-2015-apr-19-130-p-m/
LOCATION:Cinema Theatre\, 957 S. Clinton Ave.\, Rochester\, New York\, 14620\, United States
CATEGORIES:JayceLand 2015-Apr-16
END:VEVENT
BEGIN:VEVENT
DTSTART;TZID=America/New_York:20150419T140000
DTEND;TZID=America/New_York:20150419T160200
DTSTAMP:20260424T080139
CREATED:20150414T073345Z
LAST-MODIFIED:20150414T073345Z
UID:4311-1429452000-1429459320@jayceland.com
SUMMARY:The Life and Times of Judge Roy Bean
DESCRIPTION:At 2 p.m.\, the Dryden will screen The Life and Times of Judge Roy Bean (John Huston\, U.S. 1972\, 122 min.\, 35mm).  \nIn this film based on the true story of Pecos County\, Texas\, Justice of the Peace Roy Bean\, director and co-screenwriter (with John Milius) dispenses with any attempt at character discovery and paints a brawling\, tumultuous\, and sometimes very funny portrait of the man-myth and his life in the dying days of the West. The always watchable and screen-filling Paul Newman is Judge Roy Bean\, who lords his brand of justice over both the lawless and the righteous in equal measure. Richard Moore's Technicolor cinematography captures all the action in stunning visuals including what Roger Ebert called "a Technicolor vision of Ava Gardner wandering through the ruins of the frontier." \n [source: Dryden website\, 2015-Apr-13]
URL:https://jayceland.com/blog/event/the-life-and-times-of-judge-roy-bean/
LOCATION:Dryden Theatre at George Eastman House\, 900 East Ave.\, Rochester\, New York\, 14607\, United States
CATEGORIES:JayceLand 2015-Apr-16
END:VEVENT
BEGIN:VEVENT
DTSTART;TZID=America/New_York:20150419T161500
DTEND;TZID=America/New_York:20150419T180200
DTSTAMP:20260424T080139
CREATED:20150416T180242Z
LAST-MODIFIED:20150416T180242Z
UID:4349-1429460100-1429466520@jayceland.com
SUMMARY:Whiplash matinee (2015-Apr-19 @ 4:15 p.m.)
DESCRIPTION:Today's 4:15 p.m. matinee at Cinema is Whiplash (Damien Chazelle\, U.S. 2014\, 107 min.) "A promising young drummer enrolls at a cut-throat music conservatory where his dreams of greatness are mentored by an instructor who will stop at nothing to realize a student's potential." [source: Cinema coming soon page\, 2015-Apr-16]
URL:https://jayceland.com/blog/event/whiplash-matinee-2015-apr-19-415-p-m/
LOCATION:Cinema Theatre\, 957 S. Clinton Ave.\, Rochester\, New York\, 14620\, United States
CATEGORIES:JayceLand 2015-Apr-16
END:VEVENT
BEGIN:VEVENT
DTSTART;TZID=America/New_York:20150419T200000
DTEND;TZID=America/New_York:20150419T220000
DTSTAMP:20260424T080139
CREATED:20150414T073346Z
LAST-MODIFIED:20150414T073346Z
UID:4312-1429473600-1429480800@jayceland.com
SUMMARY:An Evening of Film and Film Music with Jeff Beal and the Empire Film Music Ensemble
DESCRIPTION:Tonight at 8 p.m. in Kodak Hall at Eastman Theatre is the Empire Film Music Ensemble with Jeff Beal performing An Evening of Film and Film Music.  \nJeff Beal is an American composer of music for film\, media\, and the concert hall. With musical beginnings as a jazz trumpeter and recording artist\, his works are infused with an understanding of rhythm and spontaneity. Steven Schneider for the New York Times wrote of "the richness of Beal's musical thinking…his compositions often capture the liveliness and unpredictability of the best improvisation." Beal's seven solo CDs\, including Three Graces\, Contemplations (Triloka) Red Shift (Koch Jazz)\, and Liberation (Island Records) established him as a respected recording artist and composer. \n [source: Eastman School of Music calendar\, 2015-Apr-13]
URL:https://jayceland.com/blog/event/an-evening-of-film-and-film-music-with-jeff-beal-and-the-empire-film-music-ensemble/
LOCATION:Kodak Hall at Eastman Theatre\, 60 Gibbs St.\, Rochester\, New York\, 14604\, United States
CATEGORIES:JayceLand 2015-Apr-16
END:VEVENT
BEGIN:VEVENT
DTSTART;TZID=America/New_York:20150419T210000
DTEND;TZID=America/New_York:20150419T230000
DTSTAMP:20260424T080139
CREATED:20150414T073346Z
LAST-MODIFIED:20150414T073346Z
UID:4313-1429477200-1429484400@jayceland.com
SUMMARY:Made Violent\, Cold Fronts\, The Demos\, and Embers
DESCRIPTION:[source: Bug Jar calendar\, 2015-Apr-13]
URL:https://jayceland.com/blog/event/made-violent-cold-fronts-the-demos-and-embers/
LOCATION:New York
CATEGORIES:JayceLand 2015-Apr-16
END:VEVENT
BEGIN:VEVENT
DTSTART;TZID=America/New_York:20150419T210000
DTEND;TZID=America/New_York:20150419T230000
DTSTAMP:20260424T080139
CREATED:20150420T170001Z
LAST-MODIFIED:20150420T170402Z
UID:4369-1429477200-1429484400@jayceland.com
SUMMARY:Made Violent\, Cold Fronts\, The Demos\, and Embers
DESCRIPTION:[source: Bug Jar calendar\, 2015-Apr-13]
URL:https://jayceland.com/blog/event/made-violent-cold-fronts-the-demos-and-embers-2/
LOCATION:Bug Jar\, 219 Monroe Ave\, Rochester\, New York\, 14607\, United States
CATEGORIES:JayceLand 2015-Apr-16
END:VEVENT
BEGIN:VEVENT
DTSTART;TZID=America/New_York:20150420T133000
DTEND;TZID=America/New_York:20150420T151100
DTSTAMP:20260424T080139
CREATED:20150414T073346Z
LAST-MODIFIED:20150414T073346Z
UID:4314-1429536600-1429542660@jayceland.com
SUMMARY:Dodsworth
DESCRIPTION:For today's Senior Matinee at 1:30 p.m.\, the Dryden will screen Dodsworth (William Wyler\, U.S. 1936\, 101 min.\, 35mm).  \nDodsworth\, one of the most intelligent films of the 1930s\, is a study of a marriage in crisis. Produced by the legendary Samuel Goldwyn and directed by the great William Wyler\, Dodsworth was one of eight films the two collaborated on over the next ten years. Based on the Sinclair Lewis novel\, Sidney Howard adapted his Broadway play to the screen and Walter Huston reprised his role of Sam Dodsworth\, which he had played more than three hundred times on the stage. The cast also included Ruth Chatterton as Fran Dodsworth\, in one of the best roles of her career\, Mary Astor\, Paul Lukas\, Maria Ouspenskaya\, and David Niven in one of his first American films. The New York Times placed Dodsworth on their Ten Best Films list in 1936 and was one of the twenty highest grossing movies of the year. \n [source: Dryden website\, 2015-Apr-13]
URL:https://jayceland.com/blog/event/dodsworth/
LOCATION:Dryden Theatre at George Eastman House\, 900 East Ave.\, Rochester\, New York\, 14607\, United States
CATEGORIES:JayceLand 2015-Apr-16
END:VEVENT
BEGIN:VEVENT
DTSTART;TZID=America/New_York:20150420T183000
DTEND;TZID=America/New_York:20150420T201000
DTSTAMP:20260424T080139
CREATED:20150414T073346Z
LAST-MODIFIED:20150414T073346Z
UID:4315-1429554600-1429560600@jayceland.com
SUMMARY:Future Weather\, Q&A with Dr. James Hansen
DESCRIPTION:As part of the Science in Film Series\, the Little will screen Future Weather (Jenny Deller\, U.S. 2012\, 100 min.) followed by a discussion with Dr. James Hansen.  \nFuture Weather is a movie about a midwestern teen who is abandoned by her mother and takes survival into her own hands. \n [source: Color Brighton Green website\, 2015-Apr-13]
URL:https://jayceland.com/blog/event/future-weather-qa-with-dr-james-hansen/
LOCATION:Little Theatre\, 240 East Ave. #100\, Rochester\, New York\, 14604\, United States
CATEGORIES:JayceLand 2015-Apr-16
END:VEVENT
BEGIN:VEVENT
DTSTART;TZID=America/New_York:20150420T200000
DTEND;TZID=America/New_York:20150420T210000
DTSTAMP:20260424T080139
CREATED:20150414T073346Z
LAST-MODIFIED:20150414T073346Z
UID:4316-1429560000-1429563600@jayceland.com
SUMMARY:Parklet Public Forum
DESCRIPTION:Today at 7 p.m. is a Parklet Public Forum at Joe Bean Coffee Roasters.  \nJoe Bean Coffee—in collaboration with Staach\, Slow Road Consulting and the City of Rochester are working to create Rochester's first Parklet – A public green space outside of our coffee bar. We believe this is a step toward making our neighborhood more walkable\, bike-friendly and green. This public forum is meant to give the scope of the project\, answer questions and address concerns. The City of Rochester sees this as a pilot parklet program to be adopted city-wide in the near future. Please note—the coffee bar will not be open during the forum. \n [source: Facebook\, 2015-Apr-13]
URL:https://jayceland.com/blog/event/parklet-public-forum/
LOCATION:Joe Bean Coffee Roasters\, 1344 University Ave\, Rochester\, New York\, 14607\, United States
CATEGORIES:JayceLand 2015-Apr-16
END:VEVENT
BEGIN:VEVENT
DTSTART;TZID=America/New_York:20150421T121200
DTEND;TZID=America/New_York:20150421T125200
DTSTAMP:20260424T080139
CREATED:20150414T073346Z
LAST-MODIFIED:20150414T073346Z
UID:4317-1429618320-1429620720@jayceland.com
SUMMARY:Books Sandwiched-In\, Life in Motion: An Unlikely Ballerina by Misty Copeland
DESCRIPTION:Today from 12:12 p.m. to 12:52 p.m. in the Kate Gleason Auditorium of the Bausch and Lomb Library Building is another Books Sandwiched-In discussing Life in Motion: An Unlikely Ballerina by Misty Copeland. [source: Monroe County Library website\, 2015-Apr-13]
URL:https://jayceland.com/blog/event/books-sandwiched-in-life-in-motion-an-unlikely-ballerina-by-misty-copeland/
LOCATION:Bausch and Lomb Library Building\, 110 South Ave.\, Rochester\, New York\, 14604\, United States
CATEGORIES:JayceLand 2015-Apr-16
END:VEVENT
END:VCALENDAR