BEGIN:VCALENDAR
VERSION:2.0
PRODID:-//JayceLand - ECPv6.15.20//NONSGML v1.0//EN
CALSCALE:GREGORIAN
METHOD:PUBLISH
X-ORIGINAL-URL:https://jayceland.com/blog
X-WR-CALDESC:Events for JayceLand
REFRESH-INTERVAL;VALUE=DURATION:PT1H
X-Robots-Tag:noindex
X-PUBLISHED-TTL:PT1H
BEGIN:VTIMEZONE
TZID:America/New_York
BEGIN:DAYLIGHT
TZOFFSETFROM:-0500
TZOFFSETTO:-0400
TZNAME:EDT
DTSTART:20190310T070000
END:DAYLIGHT
BEGIN:STANDARD
TZOFFSETFROM:-0400
TZOFFSETTO:-0500
TZNAME:EST
DTSTART:20191103T060000
END:STANDARD
BEGIN:DAYLIGHT
TZOFFSETFROM:-0500
TZOFFSETTO:-0400
TZNAME:EDT
DTSTART:20200308T070000
END:DAYLIGHT
BEGIN:STANDARD
TZOFFSETFROM:-0400
TZOFFSETTO:-0500
TZNAME:EST
DTSTART:20201101T060000
END:STANDARD
BEGIN:DAYLIGHT
TZOFFSETFROM:-0500
TZOFFSETTO:-0400
TZNAME:EDT
DTSTART:20210314T070000
END:DAYLIGHT
BEGIN:STANDARD
TZOFFSETFROM:-0400
TZOFFSETTO:-0500
TZNAME:EST
DTSTART:20211107T060000
END:STANDARD
END:VTIMEZONE
BEGIN:VEVENT
DTSTART;TZID=America/New_York:20200306T200000
DTEND;TZID=America/New_York:20200306T220000
DTSTAMP:20260424T090238
CREATED:20200304T184813Z
LAST-MODIFIED:20200304T184813Z
UID:27877-1583524800-1583532000@jayceland.com
SUMMARY:First Friday Comedy
DESCRIPTION:Dario Joseph hosts a night of stand-up comedy featuring Malcolm Whitfield\, Rj Purpura and Shirelle Kinder. \n [source: Rochester City Newspaper events calendar\, 2020-Mar-2]
URL:https://jayceland.com/blog/event/first-friday-comedy/
LOCATION:Nox Cocktail Lounge\, 302 N. Goodman St.\, Rochester\, New York\, 14607\, United States
CATEGORIES:JayceLand 2020-Mar-5
END:VEVENT
BEGIN:VEVENT
DTSTART;TZID=America/New_York:20200306T190000
DTEND;TZID=America/New_York:20200306T205300
DTSTAMP:20260424T090238
CREATED:20200304T184814Z
LAST-MODIFIED:20200304T184814Z
UID:27884-1583521200-1583527980@jayceland.com
SUMMARY:The Gentlemen screening (2020-Mar-6 @ 7 p.m.)
DESCRIPTION:The Cinema will screen The Gentlemen (Guy Ritchie\, U.S. 2019\, 113 min.) "An American expat tries to sell off his highly profitable marijuana empire in London\, triggering plots\, schemes\, bribery and blackmail in an attempt to steal his domain out from under him." [source: Cinema Theater coming soon page\, 2020-Mar-4]
URL:https://jayceland.com/blog/event/the-gentlemen-screening-2020-mar-6-7-p-m/
LOCATION:Cinema Theatre\, 957 S. Clinton Ave.\, Rochester\, New York\, 14620\, United States
CATEGORIES:JayceLand 2020-Mar-5
END:VEVENT
BEGIN:VEVENT
DTSTART;TZID=America/New_York:20200306T190000
DTEND;TZID=America/New_York:20200306T203000
DTSTAMP:20260424T090238
CREATED:20200304T184813Z
LAST-MODIFIED:20200304T184813Z
UID:27871-1583521200-1583526600@jayceland.com
SUMMARY:Jamie Lissow comic performance (2020-Mar-6 @ 7 p.m.)
DESCRIPTION:There's all sorts of comedy. Insult comedy\, observational comedy\, character comedy. Then\, there's Jamie Lissow comedy: stand-up that mirrors his life; loose and light\, and carried off with a smile\, even after he spent five years living on the road. Actor\, comedian and Rochester native Jamie Lissow is best known for his role in the current Netflix Original hit Series "Real Rob"\, alongside Snl alum Rob Schneider; a show Jamie co-wrote and co-produced. \n [source: Comedy @ the Carlson website\, 2020-Mar-2]
URL:https://jayceland.com/blog/event/jamie-lissow-comic-performance-2020-mar-6-7-p-m/
LOCATION:Comedy at The Carlson\, 50 Carlson Rd.\, Rochester\, New York\, 14610\, United States
CATEGORIES:JayceLand 2020-Mar-5
END:VEVENT
BEGIN:VEVENT
DTSTART;TZID=America/New_York:20200306T163000
DTEND;TZID=America/New_York:20200306T174500
DTSTAMP:20260424T090238
CREATED:20200219T195945Z
LAST-MODIFIED:20200219T195945Z
UID:27714-1583512200-1583516700@jayceland.com
SUMMARY:Keynote Interview: Gary Numan
DESCRIPTION:Cornell University will host a Keynote Interview with Gary Numan in Klarman Hall auditorium as part of When Machines Rock: A Celebration of Robert Moog and Electronic Music.  \nJoin us for a conversation with Gary Numan\, a pioneer of electronic popular music\, with hit singles "Are 'Friends' Electric?" and "Cars." Numan is also the recipient of the Ivor Novello Inspiration Award.   \nJudith Peraino\, professor of music at Cornell\, is conducting the interview and moderating the discussion. \n\n [source: Cornell University website\, 2020-Feb-17]
URL:https://jayceland.com/blog/event/keynote-interview-gary-numan/
LOCATION:Cornell University\, 144 East Ave.\, Ithaca\, New York\, 14853\, United States
CATEGORIES:JayceLand 2020-Mar-5
END:VEVENT
BEGIN:VEVENT
DTSTART;TZID=America/New_York:20200306T130000
DTEND;TZID=America/New_York:20200306T140000
DTSTAMP:20260424T090238
CREATED:20200304T184813Z
LAST-MODIFIED:20200304T184813Z
UID:27876-1583499600-1583503200@jayceland.com
SUMMARY:Curator's Gallery Talk: Heather Shannon
DESCRIPTION:Associate Curator in the Department of Photography\, Heather Shannon\, will guide visitors through Alejandro Cartagena: Photo Structure\, Foto Estructura. \n [source: George Eastman Museum website\, 2020-Mar-2]
URL:https://jayceland.com/blog/event/curators-gallery-talk-heather-shannon/
LOCATION:George Eastman Museum\, 900 East Ave.\, Rochester\, New York\, 14607\, United States
CATEGORIES:JayceLand 2020-Mar-5
END:VEVENT
BEGIN:VEVENT
DTSTART;TZID=America/New_York:20200305T210000
DTEND;TZID=America/New_York:20200305T230000
DTSTAMP:20260424T090238
CREATED:20200304T184813Z
LAST-MODIFIED:20200304T184813Z
UID:27861-1583442000-1583449200@jayceland.com
SUMMARY:Sore Ear Collective Presents: County Kings\, Troubleshooter\, Sedai\, Whylan musical performances
DESCRIPTION:[source: Facebook\, 2020-Mar-2]
URL:https://jayceland.com/blog/event/sore-ear-collective-presents-county-kings-troubleshooter-sedai-whylan-musical-performances/
LOCATION:Bug Jar\, 219 Monroe Ave\, Rochester\, New York\, 14607\, United States
CATEGORIES:JayceLand 2020-Mar-5
END:VEVENT
BEGIN:VEVENT
DTSTART;TZID=America/New_York:20200305T205000
DTEND;TZID=America/New_York:20200305T223900
DTSTAMP:20260424T090238
CREATED:20200226T190508Z
LAST-MODIFIED:20200226T190508Z
UID:27814-1583441400-1583447940@jayceland.com
SUMMARY:Bombshell screening (2020-Mar-5 @ 8:50 p.m.)
DESCRIPTION:The Cinema will screen Bombshell (Jay Roach\, U.S. / Canada 2019\, 109 min.) "A group of women take on Fox News head Roger Ailes and the toxic atmosphere he presided over at the network." [source: Cinema Theater coming soon page\, 2020-Feb-26]
URL:https://jayceland.com/blog/event/bombshell-screening-2020-mar-5-850-p-m/
LOCATION:Cinema Theatre\, 957 S. Clinton Ave.\, Rochester\, New York\, 14620\, United States
CATEGORIES:JayceLand 2020-Mar-5
END:VEVENT
BEGIN:VEVENT
DTSTART;TZID=America/New_York:20200305T193000
DTEND;TZID=America/New_York:20200305T213000
DTSTAMP:20260424T090238
CREATED:20200304T184813Z
LAST-MODIFIED:20200304T184813Z
UID:27862-1583436600-1583443800@jayceland.com
SUMMARY:Diva Goddam musical performance
DESCRIPTION:For the first night of her Rochester Residency\, Zahyia will be Reviving her one woman show on it's 10th anniversary.   \nThis time backed by a killer band! The event features the music of Nina Simone\, Billie Holiday\, and Tina Turner. \n\n [source: Facebook\, 2020-Mar-2]
URL:https://jayceland.com/blog/event/diva-goddam-musical-performance/
LOCATION:Three Heads Brewing\, 186 Atlantic Ave.\, Rochester\, New York\, 14607\, United States
CATEGORIES:JayceLand 2020-Mar-5
END:VEVENT
BEGIN:VEVENT
DTSTART;TZID=America/New_York:20200305T193000
DTEND;TZID=America/New_York:20200305T210000
DTSTAMP:20260424T090238
CREATED:20200304T184813Z
LAST-MODIFIED:20200304T184813Z
UID:27870-1583436600-1583442000@jayceland.com
SUMMARY:Jamie Lissow comic performance (2020-Mar-5 @ 7:30 p.m.)
DESCRIPTION:There's all sorts of comedy. Insult comedy\, observational comedy\, character comedy. Then\, there's Jamie Lissow comedy: stand-up that mirrors his life; loose and light\, and carried off with a smile\, even after he spent five years living on the road. Actor\, comedian and Rochester native Jamie Lissow is best known for his role in the current Netflix Original hit Series "Real Rob"\, alongside Snl alum Rob Schneider; a show Jamie co-wrote and co-produced. \n [source: Comedy @ the Carlson website\, 2020-Mar-2]
URL:https://jayceland.com/blog/event/jamie-lissow-comic-performance-2020-mar-5-730-p-m/
LOCATION:Comedy at The Carlson\, 50 Carlson Rd.\, Rochester\, New York\, 14610\, United States
CATEGORIES:JayceLand 2020-Mar-5
END:VEVENT
BEGIN:VEVENT
DTSTART;TZID=America/New_York:20200305T190000
DTEND;TZID=America/New_York:20200305T204800
DTSTAMP:20260424T090238
CREATED:20200226T190508Z
LAST-MODIFIED:20200226T190508Z
UID:27807-1583434800-1583441280@jayceland.com
SUMMARY:Jojo Rabbit screening (2020-Mar-5 @ 7 p.m.)
DESCRIPTION:The Cinema will screen Jojo Rabbit (Taika Waititi\, New Zealand / Czech Republic / U.S. 2019\, 108 min.) "A young boy in Hitler's army finds out his mother is hiding a Jewish girl in their home." [source: Cinema Theater coming soon page\, 2020-Feb-26]
URL:https://jayceland.com/blog/event/jojo-rabbit-screening-2020-mar-5-7-p-m/
LOCATION:Cinema Theatre\, 957 S. Clinton Ave.\, Rochester\, New York\, 14620\, United States
CATEGORIES:JayceLand 2020-Mar-5
END:VEVENT
BEGIN:VEVENT
DTSTART;TZID=America/New_York:20200305T183000
DTEND;TZID=America/New_York:20200305T203000
DTSTAMP:20260424T090238
CREATED:20200304T184813Z
LAST-MODIFIED:20200304T184813Z
UID:27878-1583433000-1583440200@jayceland.com
SUMMARY:History Happy Hour: Women's Heritage with Maya Rook
DESCRIPTION:Maya Rook will explore the role of women throughout history and how their stories have been included (and often excluded) from the historical record. This class will also focus on the contributions of fascinating women throughout American history. At the end of class will be a group discussion on women in society today\, shifting notions of gender\, and how the history of women will be told in the future. \n [source: Rochester City Newspaper events calendar\, 2020-Mar-2]
URL:https://jayceland.com/blog/event/history-happy-hour-womens-heritage-with-maya-rook/
LOCATION:Nox Cocktail Lounge\, 302 N. Goodman St.\, Rochester\, New York\, 14607\, United States
CATEGORIES:JayceLand 2020-Mar-5
END:VEVENT
BEGIN:VEVENT
DTSTART;TZID=America/New_York:20200305T163000
DTEND;TZID=America/New_York:20200305T173000
DTSTAMP:20260424T090238
CREATED:20200304T184813Z
LAST-MODIFIED:20200304T184813Z
UID:27865-1583425800-1583429400@jayceland.com
SUMMARY:Public Meeting re. New Scattering Gardens
DESCRIPTION:All are invited to a discussion led by landscape architect Martha Lyons about the City's plans to develop new scattering gardens at Mount Hope Cemetery. \n [source: Friends of Mt. Hope website\, 2020-Mar-2]
URL:https://jayceland.com/blog/event/public-meeting-re-new-scattering-gardens/
LOCATION:Mt. Hope Cemetery North Gatehouse\, 791 Mt. Hope Ave.\, Rochester\, New York\, 14620\, United States
CATEGORIES:JayceLand 2020-Mar-5
END:VEVENT
END:VCALENDAR