BEGIN:VCALENDAR
VERSION:2.0
PRODID:-//JayceLand - ECPv6.15.20//NONSGML v1.0//EN
CALSCALE:GREGORIAN
METHOD:PUBLISH
X-WR-CALNAME:JayceLand
X-ORIGINAL-URL:https://jayceland.com/blog
X-WR-CALDESC:Events for JayceLand
REFRESH-INTERVAL;VALUE=DURATION:PT1H
X-Robots-Tag:noindex
X-PUBLISHED-TTL:PT1H
BEGIN:VTIMEZONE
TZID:America/New_York
BEGIN:DAYLIGHT
TZOFFSETFROM:-0500
TZOFFSETTO:-0400
TZNAME:EDT
DTSTART:20180311T070000
END:DAYLIGHT
BEGIN:STANDARD
TZOFFSETFROM:-0400
TZOFFSETTO:-0500
TZNAME:EST
DTSTART:20181104T060000
END:STANDARD
BEGIN:DAYLIGHT
TZOFFSETFROM:-0500
TZOFFSETTO:-0400
TZNAME:EDT
DTSTART:20190310T070000
END:DAYLIGHT
BEGIN:STANDARD
TZOFFSETFROM:-0400
TZOFFSETTO:-0500
TZNAME:EST
DTSTART:20191103T060000
END:STANDARD
BEGIN:DAYLIGHT
TZOFFSETFROM:-0500
TZOFFSETTO:-0400
TZNAME:EDT
DTSTART:20200308T070000
END:DAYLIGHT
BEGIN:STANDARD
TZOFFSETFROM:-0400
TZOFFSETTO:-0500
TZNAME:EST
DTSTART:20201101T060000
END:STANDARD
END:VTIMEZONE
BEGIN:VEVENT
DTSTART;TZID=America/New_York:20190926T204000
DTEND;TZID=America/New_York:20190926T222900
DTSTAMP:20260422T151436
CREATED:20190918T175257Z
LAST-MODIFIED:20190918T175257Z
UID:25623-1569530400-1569536940@jayceland.com
SUMMARY:Luce screening (2019-Sep-26 @ 8:40 p.m.)
DESCRIPTION:The Cinema will screen Luce (Julius Onah\, U.S. 2019\, 109 min.) "A married couple is forced to reckon with their idealized image of their son\, adopted from war-torn Eritrea\, after an alarming discovery by a devoted high school teacher threatens his status as an all-star student." [source: Cinema Theater coming soon page\, 2019-Sep-18]
URL:https://jayceland.com/blog/event/luce-screening-2019-sep-26-840-p-m/
LOCATION:Cinema Theatre\, 957 S. Clinton Ave.\, Rochester\, New York\, 14620\, United States
CATEGORIES:JayceLand 2019-Sep-26
END:VEVENT
BEGIN:VEVENT
DTSTART;TZID=America/New_York:20190926T190000
DTEND;TZID=America/New_York:20190926T203700
DTSTAMP:20260422T151436
CREATED:20190918T175257Z
LAST-MODIFIED:20190918T175257Z
UID:25617-1569524400-1569530220@jayceland.com
SUMMARY:Maiden screening (2019-Sep-26 @ 7 p.m.)
DESCRIPTION:The Cinema will screen Maiden (Alex Holmes\, U.K. 2018\, 97 min.) "The story of Tracy Edwards\, a 24-year-old cook on charter boats\, who became the skipper of the first ever all-female crew to enter the Whitbread Round the World Race in 1989." [source: Cinema Theater coming soon page\, 2019-Sep-18]
URL:https://jayceland.com/blog/event/maiden-screening-2019-sep-26-7-p-m/
LOCATION:Cinema Theatre\, 957 S. Clinton Ave.\, Rochester\, New York\, 14620\, United States
CATEGORIES:JayceLand 2019-Sep-26
END:VEVENT
BEGIN:VEVENT
DTSTART;TZID=America/New_York:20190926T173000
DTEND;TZID=America/New_York:20190926T190000
DTSTAMP:20260422T151436
CREATED:20190925T171221Z
LAST-MODIFIED:20190925T171221Z
UID:25716-1569519000-1569524400@jayceland.com
SUMMARY:History Happy Hour: Witches and Witchcraft by Maya Rook
DESCRIPTION:Maya Rook to explores the roots of magic and witchcraft in the west\, how beliefs developed over time\, the turning point of the witch trials that vilified the practice of magic\, and how the stereotype of the witch was created along with its continuing impact on our understanding of witches and witchcraft today. \n [source: Rochester City Newspaper events calendar\, 2019-Sep-23]
URL:https://jayceland.com/blog/event/history-happy-hour-witches-and-witchcraft-by-maya-rook/
LOCATION:Nox Cocktail Lounge\, 302 N. Goodman St.\, Rochester\, New York\, 14607\, United States
CATEGORIES:JayceLand 2019-Sep-26
END:VEVENT
BEGIN:VEVENT
DTSTART;TZID=America/New_York:20190926T120000
DTEND;TZID=America/New_York:20190926T130000
DTSTAMP:20260422T151436
CREATED:20190925T171219Z
LAST-MODIFIED:20190925T171219Z
UID:25715-1569499200-1569502800@jayceland.com
SUMMARY:Got Health: Menopause Matters! lecture
DESCRIPTION:In the Kate Gleason Auditorium of the Bausch and Lomb Library Building will host a lecture titled Got Health: Menopause Matters!  \nWomen have a lot to look forward to in the second half of their lives. Good health can help women stay independent and feel fulfilled as they age. Join us to learn more about what menopause is\, how to have a healthy menopause and tips for managing symptoms like hot flashes\, sleep issues\, mood changes and weight gain. This talk is part of a monthly series sponsored by U of R's Center for Community Health and Prevention in partnership with the Central Library of Rochester and Monroe County. \n [source: Rochester City Newspaper events calendar\, 2019-Sep-23]
URL:https://jayceland.com/blog/event/got-health-menopause-matters-lecture/
LOCATION:Bausch and Lomb Library Building\, 110 South Ave.\, Rochester\, New York\, 14604\, United States
CATEGORIES:JayceLand 2019-Sep-26
END:VEVENT
BEGIN:VEVENT
DTSTART;TZID=America/New_York:20190926T093000
DTEND;TZID=America/New_York:20190926T170000
DTSTAMP:20260422T151436
CREATED:20190911T161103Z
LAST-MODIFIED:20190911T161103Z
UID:25375-1569490200-1569517200@jayceland.com
SUMMARY:Fantastic Findings Sale (2019-Sep-26 @ 9:30 a.m.)
DESCRIPTION:Fantastic Findings is an annual upscale "next-to-new" sale organized by the RMSC Council to support the Rochester Museum and Science Center. Discover beautiful furniture and art\, as well as china\, elegant glass\, silver\, lamps\, jewelry\, linens\, toys and other fantastic treasures and collectibles. Searching for antiques? We've got them as well. \n [source: Rochester Museum and Science Center website\, 2019-Sep-9]
URL:https://jayceland.com/blog/event/fantastic-findings-sale-2019-sep-26-930-a-m/
LOCATION:Rochester Museum and Science Center (RMSC)\, 657 East Ave.\, Rochester\, New York\, 14607\, United States
CATEGORIES:JayceLand 2019-Sep-26
END:VEVENT
END:VCALENDAR