BEGIN:VCALENDAR
VERSION:2.0
PRODID:-//JayceLand - ECPv6.15.20//NONSGML v1.0//EN
CALSCALE:GREGORIAN
METHOD:PUBLISH
X-WR-CALNAME:JayceLand
X-ORIGINAL-URL:https://jayceland.com/blog
X-WR-CALDESC:Events for JayceLand
REFRESH-INTERVAL;VALUE=DURATION:PT1H
X-Robots-Tag:noindex
X-PUBLISHED-TTL:PT1H
BEGIN:VTIMEZONE
TZID:America/New_York
BEGIN:DAYLIGHT
TZOFFSETFROM:-0500
TZOFFSETTO:-0400
TZNAME:EDT
DTSTART:20180311T070000
END:DAYLIGHT
BEGIN:STANDARD
TZOFFSETFROM:-0400
TZOFFSETTO:-0500
TZNAME:EST
DTSTART:20181104T060000
END:STANDARD
BEGIN:DAYLIGHT
TZOFFSETFROM:-0500
TZOFFSETTO:-0400
TZNAME:EDT
DTSTART:20190310T070000
END:DAYLIGHT
BEGIN:STANDARD
TZOFFSETFROM:-0400
TZOFFSETTO:-0500
TZNAME:EST
DTSTART:20191103T060000
END:STANDARD
BEGIN:DAYLIGHT
TZOFFSETFROM:-0500
TZOFFSETTO:-0400
TZNAME:EDT
DTSTART:20200308T070000
END:DAYLIGHT
BEGIN:STANDARD
TZOFFSETFROM:-0400
TZOFFSETTO:-0500
TZNAME:EST
DTSTART:20201101T060000
END:STANDARD
END:VTIMEZONE
BEGIN:VEVENT
DTSTART;TZID=America/New_York:20190706T204500
DTEND;TZID=America/New_York:20190706T222600
DTSTAMP:20260425T095723
CREATED:20190703T182343Z
LAST-MODIFIED:20190703T182343Z
UID:24629-1562445900-1562451960@jayceland.com
SUMMARY:All is True screening (2019-Jul-6 @ 8:45 p.m.)
DESCRIPTION:The Cinema will screen All is True (Kenneth Branagh\, U.K. 2018\, 101 min.) "A look at the final days in the life of renowned playwright William Shakespeare." [source: Cinema Theater coming soon page\, 2019-Jul-3]
URL:https://jayceland.com/blog/event/all-is-true-screening-2019-jul-6-845-p-m/
LOCATION:Cinema Theatre\, 957 S. Clinton Ave.\, Rochester\, New York\, 14620\, United States
CATEGORIES:JayceLand 2019-Jul-4
END:VEVENT
BEGIN:VEVENT
DTSTART;TZID=America/New_York:20190706T200000
DTEND;TZID=America/New_York:20190706T220000
DTSTAMP:20260425T095723
CREATED:20190703T182342Z
LAST-MODIFIED:20190703T182342Z
UID:24598-1562443200-1562450400@jayceland.com
SUMMARY:Time And Pressure\, The Weight We Carry\, Revival musical performances
DESCRIPTION:[source: Facebook\, 2019-Jul-1]
URL:https://jayceland.com/blog/event/time-and-pressure-the-weight-we-carry-revival-musical-performances/
LOCATION:Bug Jar\, 219 Monroe Ave\, Rochester\, New York\, 14607\, United States
CATEGORIES:JayceLand 2019-Jul-4
END:VEVENT
BEGIN:VEVENT
DTSTART;TZID=America/New_York:20190706T193000
DTEND;TZID=America/New_York:20190706T222400
DTSTAMP:20260425T095723
CREATED:20190703T182343Z
LAST-MODIFIED:20190703T182343Z
UID:24618-1562441400-1562451840@jayceland.com
SUMMARY:America\, America screening
DESCRIPTION:The Dryden will screen America\, America (Elia Kazan\, U.S. 1963\, 174 min.\, 35mm) as part of the Fourth of July series.  \nElia Kazan gives cinema perhaps its most poignant portrait of the immigrant experience in this epic adaptation of his own book inspired by his uncle's trying journey from Turkey to the United States. Kazan's use of non-actors and Haskell Wexler's cinematography coalesce in a Neorealist flavor that captures the essence of the migration experience. The confluence of Kazan's classic mastery with Wexler's cutting-edge vision results in a synthesis neither too maudlin nor abstract\, but a genuinely moving experience. \n [source: George Eastman Museum calendar\, 2019-Jul-1]
URL:https://jayceland.com/blog/event/america-america-screening/
LOCATION:Dryden Theatre at George Eastman Museum (formerly George Eastman House)\, 900 East Ave.\, Rochester\, New York\, 14607\, United States
CATEGORIES:JayceLand 2019-Jul-4
END:VEVENT
BEGIN:VEVENT
DTSTART;TZID=America/New_York:20190706T190000
DTEND;TZID=America/New_York:20190706T204400
DTSTAMP:20260425T095723
CREATED:20190703T182344Z
LAST-MODIFIED:20190703T182344Z
UID:24635-1562439600-1562445840@jayceland.com
SUMMARY:Pokémon: Detective Pikachu screening (2019-Jul-6 @ 7 p.m.)
DESCRIPTION:The Cinema will screen Pokémon: Detective Pikachu (Rob Letterman\, U.S. / Japan / Canada 2019\, 104 min.) "In a world where people collect Pokémon to do battle\, a boy comes across an intelligent talking Pikachu who seeks to be a detective." [source: Cinema Theater coming soon page\, 2019-Jul-3]
URL:https://jayceland.com/blog/event/pokemon-detective-pikachu-screening-2019-jul-6-7-p-m/
LOCATION:Cinema Theatre\, 957 S. Clinton Ave.\, Rochester\, New York\, 14620\, United States
CATEGORIES:JayceLand 2019-Jul-4
END:VEVENT
BEGIN:VEVENT
DTSTART;TZID=America/New_York:20190706T183000
DTEND;TZID=America/New_York:20190706T193000
DTSTAMP:20260425T095723
CREATED:20190703T182343Z
LAST-MODIFIED:20190703T182343Z
UID:24607-1562437800-1562441400@jayceland.com
SUMMARY:Food Insecurity and Food Deserts in Rochester
DESCRIPTION:At least since the "War on Poverty\," politicians have gone back and forth between saying that the answer is\, on the one hand\, more aid\, such as that offered by publicly and privately funded food programs\, or on the other hand\, that aid should be cut off such that those in need do not become reliant on it.   \nHowever\, as "food insecurity" and the proliferation of "food deserts" have become common place\, those who are intent on truly solving the problems facing poor and working people in the U.S. and around the world\, must begin to look beyond symptoms to root causes.   \nEastern Service Workers Association's (ESWA) organizers and members will present their analysis of the causes of poverty\, hunger and inequality in Rochester as well as throughout the Nation and will discuss their strategy of uniting the region's lowest-paid workers in organizing and running mutual aid programs while building an independent voice with which to fight for permanent solutions to poverty by holding government agencies accountable to the interests of the most vulnerable in our communities. \n\n [source: Abundance Food Co-op events page\, 2019-Jul-1]
URL:https://jayceland.com/blog/event/food-insecurity-and-food-deserts-in-rochester/
LOCATION:Abundance Cooperative Market (formerly Echo Tone Music)\, 571 South Ave.\, Rochester\, New York\, 14620\, United States
CATEGORIES:JayceLand 2019-Jul-4
END:VEVENT
BEGIN:VEVENT
DTSTART;TZID=America/New_York:20190706T163000
DTEND;TZID=America/New_York:20190706T180400
DTSTAMP:20260425T095723
CREATED:20190703T182343Z
LAST-MODIFIED:20190703T182343Z
UID:24627-1562430600-1562436240@jayceland.com
SUMMARY:The Tomorrow Man screening (2019-Jul-6 @ 4:30 p.m.)
DESCRIPTION:The Cinema will screen The Tomorrow Man (Noble Jones\, U.S. 2019\, 94 min.) "Ed Hemsler spends his life preparing for a disaster that may never come. Ronnie Meisner spends her life shopping for things she may never use. These two people will try to find love while trying not to get lost in each other's stuff." [source: Cinema Theater coming soon page\, 2019-Jul-3]
URL:https://jayceland.com/blog/event/the-tomorrow-man-screening-2019-jul-6-430-p-m/
LOCATION:Cinema Theatre\, 957 S. Clinton Ave.\, Rochester\, New York\, 14620\, United States
CATEGORIES:JayceLand 2019-Jul-4
END:VEVENT
BEGIN:VEVENT
DTSTART;TZID=America/New_York:20190706T110000
DTEND;TZID=America/New_York:20190706T120000
DTSTAMP:20260425T095723
CREATED:20190703T182343Z
LAST-MODIFIED:20190703T182343Z
UID:24605-1562410800-1562414400@jayceland.com
SUMMARY:Theme Tour: Civil War Stories — The Tragedy of War
DESCRIPTION:This tour explores the life altering changes in the lives of Rochesterians resulting from the Civil War. \n [source: Friends of Mt. Hope website\, 2019-Jul-1]
URL:https://jayceland.com/blog/event/theme-tour-civil-war-stories-the-tragedy-of-war/
LOCATION:Mt. Hope Cemetery North Gatehouse\, 791 Mt. Hope Ave.\, Rochester\, New York\, 14620\, United States
CATEGORIES:JayceLand 2019-Jul-4
END:VEVENT
BEGIN:VEVENT
DTSTART;TZID=America/New_York:20190705T204500
DTEND;TZID=America/New_York:20190705T222600
DTSTAMP:20260425T095723
CREATED:20190703T182343Z
LAST-MODIFIED:20190703T182343Z
UID:24626-1562359500-1562365560@jayceland.com
SUMMARY:All is True screening (2019-Jul-5 @ 8:45 p.m.)
DESCRIPTION:The Cinema will screen All is True (Kenneth Branagh\, U.K. 2018\, 101 min.) "A look at the final days in the life of renowned playwright William Shakespeare." [source: Cinema Theater coming soon page\, 2019-Jul-3]
URL:https://jayceland.com/blog/event/all-is-true-screening-2019-jul-5-845-p-m/
LOCATION:Cinema Theatre\, 957 S. Clinton Ave.\, Rochester\, New York\, 14620\, United States
CATEGORIES:JayceLand 2019-Jul-4
END:VEVENT
BEGIN:VEVENT
DTSTART;TZID=America/New_York:20190705T193000
DTEND;TZID=America/New_York:20190705T212000
DTSTAMP:20260425T095723
CREATED:20190703T182343Z
LAST-MODIFIED:20190703T182343Z
UID:24619-1562355000-1562361600@jayceland.com
SUMMARY:American Graffiti screening
DESCRIPTION:The Dryden will screen American Graffiti (George Lucas\, U.S. 1973\, 110 min.\, 35mm) as part of the Fourth of July series.  \nAs influential for launching so many careers as it was for inspiring a new subgenre of nostalgic film and television\, George Lucas's first commercial feature was turned down by four studios before finding a home at Universal. A soundtrack of more than forty vintage songs accompany Ron Howard\, Richard Dreyfuss\, Harrison Ford\, Cindy Williams\, Mackenzie Phillips\, Charles Martin Smith\, Candy Clark\, and Paul Lemat as they cruise around 1962 Modesto\, California\, post—high school and pre—real life. Balancing the tragic and the comic—and decidedly differentiating his film from the exploitative "teens and cars" movies of the 1950s and '60s—Lucas pulled from his own experiences to craft a moving portrait of the transition to adulthood. \n [source: George Eastman Museum calendar\, 2019-Jul-1]
URL:https://jayceland.com/blog/event/american-graffiti-screening/
LOCATION:Dryden Theatre at George Eastman Museum (formerly George Eastman House)\, 900 East Ave.\, Rochester\, New York\, 14607\, United States
CATEGORIES:JayceLand 2019-Jul-4
END:VEVENT
BEGIN:VEVENT
DTSTART;TZID=America/New_York:20190705T190000
DTEND;TZID=America/New_York:20190705T204400
DTSTAMP:20260425T095723
CREATED:20190703T182343Z
LAST-MODIFIED:20190703T182343Z
UID:24625-1562353200-1562359440@jayceland.com
SUMMARY:Pokémon: Detective Pikachu screening (2019-Jul-5 @ 7 p.m.)
DESCRIPTION:The Cinema will screen Pokémon: Detective Pikachu (Rob Letterman\, U.S. / Japan / Canada 2019\, 104 min.) "In a world where people collect Pokémon to do battle\, a boy comes across an intelligent talking Pikachu who seeks to be a detective." [source: Cinema Theater coming soon page\, 2019-Jul-3]
URL:https://jayceland.com/blog/event/pokemon-detective-pikachu-screening-2019-jul-5-7-p-m/
LOCATION:Cinema Theatre\, 957 S. Clinton Ave.\, Rochester\, New York\, 14620\, United States
CATEGORIES:JayceLand 2019-Jul-4
END:VEVENT
BEGIN:VEVENT
DTSTART;TZID=America/New_York:20190704T210000
DTEND;TZID=America/New_York:20190704T230000
DTSTAMP:20260425T095723
CREATED:20190703T182342Z
LAST-MODIFIED:20190703T182342Z
UID:24599-1562274000-1562281200@jayceland.com
SUMMARY:The Chasm\, Cruciamentum\, Infernal Conjuration\, Demontage musical performances
DESCRIPTION:Legendary Mexican death metal band The Chasm making a stop on the tour with U.K. evil death metal Cruciamentum and Mexican grinders Infernal Conjuration. Due to no Canadian dates Toronto's very own Demontage will also play. \n [source: Facebook\, 2019-Jul-1]
URL:https://jayceland.com/blog/event/the-chasm-cruciamentum-infernal-conjuration-demontage-musical-performances/
LOCATION:Bug Jar\, 219 Monroe Ave\, Rochester\, New York\, 14607\, United States
CATEGORIES:JayceLand 2019-Jul-4
END:VEVENT
BEGIN:VEVENT
DTSTART;TZID=America/New_York:20190704T193000
DTEND;TZID=America/New_York:20190704T215500
DTSTAMP:20260425T095723
CREATED:20190703T182343Z
LAST-MODIFIED:20190703T182343Z
UID:24620-1562268600-1562277300@jayceland.com
SUMMARY:Born on the Fourth of July screening
DESCRIPTION:The Dryden will screen Born on the Fourth of July (Oliver Stone\, U.S. 1989\, 145 min.\, 35mm) as part of the Fourth of July series.  \nBased on the autobiography of soldier turned activist Ron Kovic\, this film garnered Tom Cruise his first Academy Award nomination. Brought up in a typically patriotic household\, Kovic (Cruise) heeds the call for young men to volunteer for the U.S. Marine Corps. In his second tour of duty in the Vietnam War\, Kovic is wounded\, leaving him paralyzed from the chest down. Depressed and distraught through military hospitals and his altered home life\, Kovic tries to find solace among other disillusioned soldiers. Oliver Stone's bombastic style is leavened by the beauty of the imagery captured by Robert Richardson in this middle chapter of Stone's Vietnam Trilogy. \n [source: George Eastman Museum calendar\, 2019-Jul-1]
URL:https://jayceland.com/blog/event/born-on-the-fourth-of-july-screening/
LOCATION:Dryden Theatre at George Eastman Museum (formerly George Eastman House)\, 900 East Ave.\, Rochester\, New York\, 14607\, United States
CATEGORIES:JayceLand 2019-Jul-4
END:VEVENT
BEGIN:VEVENT
DTSTART;TZID=America/New_York:20190704T190000
DTEND;TZID=America/New_York:20190704T201500
DTSTAMP:20260425T095723
CREATED:20190703T182342Z
LAST-MODIFIED:20190703T182342Z
UID:24604-1562266800-1562271300@jayceland.com
SUMMARY:Independence Day Twilight Tour
DESCRIPTION:This 75-minute tour includes some topics covered on Sunday North Section tours as well as new material\, on an alternate route in the North Section. \n [source: Friends of Mt. Hope website\, 2019-Jul-1]
URL:https://jayceland.com/blog/event/independence-day-twilight-tour/
LOCATION:Mt. Hope Cemetery North Gatehouse\, 791 Mt. Hope Ave.\, Rochester\, New York\, 14620\, United States
CATEGORIES:JayceLand 2019-Jul-4
END:VEVENT
END:VCALENDAR