BEGIN:VCALENDAR
VERSION:2.0
PRODID:-//JayceLand - ECPv6.15.20//NONSGML v1.0//EN
CALSCALE:GREGORIAN
METHOD:PUBLISH
X-ORIGINAL-URL:https://jayceland.com/blog
X-WR-CALDESC:Events for JayceLand
REFRESH-INTERVAL;VALUE=DURATION:PT1H
X-Robots-Tag:noindex
X-PUBLISHED-TTL:PT1H
BEGIN:VTIMEZONE
TZID:America/New_York
BEGIN:DAYLIGHT
TZOFFSETFROM:-0500
TZOFFSETTO:-0400
TZNAME:EDT
DTSTART:20170312T070000
END:DAYLIGHT
BEGIN:STANDARD
TZOFFSETFROM:-0400
TZOFFSETTO:-0500
TZNAME:EST
DTSTART:20171105T060000
END:STANDARD
BEGIN:DAYLIGHT
TZOFFSETFROM:-0500
TZOFFSETTO:-0400
TZNAME:EDT
DTSTART:20180311T070000
END:DAYLIGHT
BEGIN:STANDARD
TZOFFSETFROM:-0400
TZOFFSETTO:-0500
TZNAME:EST
DTSTART:20181104T060000
END:STANDARD
BEGIN:DAYLIGHT
TZOFFSETFROM:-0500
TZOFFSETTO:-0400
TZNAME:EDT
DTSTART:20190310T070000
END:DAYLIGHT
BEGIN:STANDARD
TZOFFSETFROM:-0400
TZOFFSETTO:-0500
TZNAME:EST
DTSTART:20191103T060000
END:STANDARD
END:VTIMEZONE
BEGIN:VEVENT
DTSTART;TZID=America/New_York:20180907T180000
DTEND;TZID=America/New_York:20180907T210000
DTSTAMP:20260422T111434
CREATED:20180905T171045Z
LAST-MODIFIED:20180905T171045Z
UID:20384-1536343200-1536354000@jayceland.com
SUMMARY:Opening Reception: Lola Flash—AIDS FLASHback
DESCRIPTION:VSW will host an Opening Reception for Lola Flash's AIDS FLASHback\, on display through October 27.  \nLola Flash has been photographing for over thirty years with numerous exhibitions to date. She earned a BA from the Maryland Institute College of Art and a MA from the London College of Printing.  AIDS FLASHback focuses on Flash's previous work as an activist. About the work she notes\, "These selections are a reflection of the late 80s and early 90s\, a time when the AIDS crisis was at its height in New York City. I was an activist and a member of ACT UP\, as well as ART+ (an affinity group focusing on issues around brown people affected by AIDS). Some of the images are from ACT UP demonstrations in New York and Washington\, DC. Others are photographs which speak to the sadness and loss of too many friends during that period\, as well as the anger towards many of the institutions that silently watched us die." \n [source: Visual Studies Workshop website\, 2018-Sep-3]
URL:https://jayceland.com/blog/event/opening-reception-lola-flash-aids-flashback/
LOCATION:Visual Studies Workshop\, 31 Prince St.\, Rochester\, New York\, 14607\, United States
CATEGORIES:JayceLand 2018-Sep-6
END:VEVENT
BEGIN:VEVENT
DTSTART;TZID=America/New_York:20180907T170000
DTEND;TZID=America/New_York:20180907T210000
DTSTAMP:20260422T111434
CREATED:20180905T171044Z
LAST-MODIFIED:20180905T171044Z
UID:20371-1536339600-1536354000@jayceland.com
SUMMARY:Opening Reception: SNAFU by John Kosboth\, JFK/AJVK
DESCRIPTION:Image City Photography Gallery will host an Opening Reception for SNAFU by John Kosboth\, JFK/AJVK\, on display through September 30.  \nOur next exhibit\, SNAFU\, is recent work by John Kosboth\, JFK/AJVK. John's photography is dynamic and thought provoking. \n [source: Image City Photography Gallery website\, 2018-Sep-3]
URL:https://jayceland.com/blog/event/opening-reception-snafu-by-john-kosboth-jfk-ajvk/
LOCATION:Image City Photography Gallery\, 722 University Ave.\, Rochester\, New York\, 14607\, United States
CATEGORIES:JayceLand 2018-Sep-6
END:VEVENT
BEGIN:VEVENT
DTSTART;TZID=America/New_York:20180906T210000
DTEND;TZID=America/New_York:20180906T230000
DTSTAMP:20260422T111434
CREATED:20180905T171045Z
LAST-MODIFIED:20180905T171045Z
UID:20376-1536267600-1536274800@jayceland.com
SUMMARY:Turnip Heart\, Evil Hearted You\, Boy Jr. musical performances
DESCRIPTION:[source: Facebook\, 2018-Sep-3]
URL:https://jayceland.com/blog/event/turnip-heart-evil-hearted-you-boy-jr-musical-performances/
LOCATION:Bug Jar\, 219 Monroe Ave\, Rochester\, New York\, 14607\, United States
CATEGORIES:JayceLand 2018-Sep-6
END:VEVENT
BEGIN:VEVENT
DTSTART;TZID=America/New_York:20180906T193000
DTEND;TZID=America/New_York:20180906T211200
DTSTAMP:20260422T111434
CREATED:20180905T171047Z
LAST-MODIFIED:20180905T171047Z
UID:20399-1536262200-1536268320@jayceland.com
SUMMARY:Ava screening
DESCRIPTION:The Dryden will screen Ava (Sadaf Foroughi\, Canada/Iran 2017\, 102 min.\, DCP\, Persian w/subtitles).  \nBased on the director's own adolescent experiences\, Sadaf Foroughi's Ava is a gripping debut about coming of age in a strict society. Living with her well-to-do parents in Tehran\, Ava is bright and focused\, with common teenage concerns—friendships\, music\, social status\, academic performance. When her mistrustful and overprotective mother questions her relationship with a boy\, Ava is overwhelmed by a newfound rage. The model student begins to rebel against the strictures imposed by her parents\, her school\, and society. \n [source: George Eastman Museum calendar\, 2018-Sep-3]
URL:https://jayceland.com/blog/event/ava-screening/
LOCATION:Dryden Theatre at George Eastman Museum (formerly George Eastman House)\, 900 East Ave.\, Rochester\, New York\, 14607\, United States
CATEGORIES:JayceLand 2018-Sep-6
END:VEVENT
BEGIN:VEVENT
DTSTART;TZID=America/New_York:20180906T193000
DTEND;TZID=America/New_York:20180906T210000
DTSTAMP:20260422T111434
CREATED:20180822T171826Z
LAST-MODIFIED:20180822T171826Z
UID:20237-1536262200-1536267600@jayceland.com
SUMMARY:11th Annual Sankofa Theatre Festival: Now and Then (2018-Sep-6 @ 7:30 p.m.)
DESCRIPTION:The MuCCC will host the 11th Annual Sankofa Theatre Festival performance of Now and Then by Grace Flores.  \nWe've heard it said that we are spirits having a human experience. What if eight such spirits have more than one human experience? Cross over and beyond dimensions into the Now and Then for one such probable option. \n [source: event coordinator e-mail\, 2018-Aug-22]
URL:https://jayceland.com/blog/event/11th-annual-sankofa-theatre-festival-now-and-then-2018-sep-6-730-p-m/
LOCATION:MuCCC (Multi-use Community Cultural Center)\, 142 Atlantic Ave.\, Rochester\, New York\, 14607\, United States
CATEGORIES:JayceLand 2018-Sep-6
END:VEVENT
BEGIN:VEVENT
DTSTART;TZID=America/New_York:20180906T190000
DTEND;TZID=America/New_York:20180906T210000
DTSTAMP:20260422T111434
CREATED:20180905T171048Z
LAST-MODIFIED:20180905T171048Z
UID:20409-1536260400-1536267600@jayceland.com
SUMMARY:Intro to Medicinal Cannabis
DESCRIPTION:This presentation styled class is designed to teach students the fundamental principles of medicinal cannabis\, CBD oil\, its benefits\, uses and how to use it to help a number of conditions.  Medical cannabis is safe and can be a natural alternative treatment to prescription medication if used properly. This class is taught by certified specialist Iya Brenda. \n [source: Facebook\, 2018-Sep-3]
URL:https://jayceland.com/blog/event/intro-to-medicinal-cannabis/
LOCATION:540WMain Community Arts Education and Cultural Center\, 540 W. Main St.\, Rochester\, New York\, 14608\, United States
CATEGORIES:JayceLand 2018-Sep-6
END:VEVENT
BEGIN:VEVENT
DTSTART;TZID=America/New_York:20180906T190000
DTEND;TZID=America/New_York:20180906T210000
DTSTAMP:20260422T111434
CREATED:20180905T171047Z
LAST-MODIFIED:20180905T171047Z
UID:20402-1536260400-1536267600@jayceland.com
SUMMARY:GUMP\, Tosser\, Claude Bennington's Fever Dream\, Rut musical performances
DESCRIPTION:[source: WNY Shows website\, 2018-Sep-3]
URL:https://jayceland.com/blog/event/gump-tosser-claude-benningtons-fever-dream-rut-musical-performances/
LOCATION:Smugtown Mushrooms\, 936 Exchange St.\, Rochester\, New York\, 14608\, United States
CATEGORIES:JayceLand 2018-Sep-6
END:VEVENT
BEGIN:VEVENT
DTSTART;TZID=America/New_York:20180906T190000
DTEND;TZID=America/New_York:20180906T203400
DTSTAMP:20260422T111434
CREATED:20180830T110110Z
LAST-MODIFIED:20180830T110110Z
UID:20338-1536260400-1536266040@jayceland.com
SUMMARY:Won't You Be My Neighbor? screening (2018-Sep-6 @ 7 p.m.)
DESCRIPTION:The Cinema will screen Won't You Be My Neighbor? (Morgan Neville\, U.S. 2018\, 94 min.) "Charmingly soft-spoken and yet powerfully incisive expressing his profound ideals\, Fred Rogers was a unique presence on television for generations. Through interviews of his family and colleagues\, the life of this would-be pastor is explored as a man who found a more important calling to provide an oasis for children in a video sea of violent bombardment. That proved to be his landmark series\, Mister Rogers' Neighborhood." [source: Cinema Theater coming soon page\, 2018-Aug-30]
URL:https://jayceland.com/blog/event/wont-you-be-my-neighbor-screening-2018-sep-6-7-p-m/
LOCATION:Cinema Theatre\, 957 S. Clinton Ave.\, Rochester\, New York\, 14620\, United States
CATEGORIES:JayceLand 2018-Sep-6
END:VEVENT
BEGIN:VEVENT
DTSTART;TZID=America/New_York:20180906T180000
DTEND;TZID=America/New_York:20180906T190000
DTSTAMP:20260422T111434
CREATED:20180905T171047Z
LAST-MODIFIED:20180905T171047Z
UID:20400-1536256800-1536260400@jayceland.com
SUMMARY:Gallery Talk by Christopher Bensch: The Toys of Levinthal's War\, Myth\, Desire
DESCRIPTION:The George Eastman Museum will host a Gallery Talk by Christopher Bensch on The Toys of Levinthal's War\, Myth\, Desire.  \nChristopher Bensch\, vice president for collections and chief curator at the Strong National Museum of Play\, will lead guests through the exhibition David Levinthal: War\, Myth\, Desire\, and discuss the historic and cultural impact of the toys Levinthal uses in creating his photographs. \n [source: George Eastman Museum calendar\, 2018-Sep-3]
URL:https://jayceland.com/blog/event/gallery-talk-by-christopher-bensch-the-toys-of-levinthals-war-myth-desire/
LOCATION:George Eastman Museum (formerly George Eastman House)\, 900 East Ave.\, Rochester\, New York\, 14607\, United States
CATEGORIES:JayceLand 2018-Sep-6
END:VEVENT
END:VCALENDAR