BEGIN:VCALENDAR
VERSION:2.0
PRODID:-//JayceLand - ECPv6.15.20//NONSGML v1.0//EN
CALSCALE:GREGORIAN
METHOD:PUBLISH
X-WR-CALNAME:JayceLand
X-ORIGINAL-URL:https://jayceland.com/blog
X-WR-CALDESC:Events for JayceLand
REFRESH-INTERVAL;VALUE=DURATION:PT1H
X-Robots-Tag:noindex
X-PUBLISHED-TTL:PT1H
BEGIN:VTIMEZONE
TZID:America/New_York
BEGIN:DAYLIGHT
TZOFFSETFROM:-0500
TZOFFSETTO:-0400
TZNAME:EDT
DTSTART:20170312T070000
END:DAYLIGHT
BEGIN:STANDARD
TZOFFSETFROM:-0400
TZOFFSETTO:-0500
TZNAME:EST
DTSTART:20171105T060000
END:STANDARD
BEGIN:DAYLIGHT
TZOFFSETFROM:-0500
TZOFFSETTO:-0400
TZNAME:EDT
DTSTART:20180311T070000
END:DAYLIGHT
BEGIN:STANDARD
TZOFFSETFROM:-0400
TZOFFSETTO:-0500
TZNAME:EST
DTSTART:20181104T060000
END:STANDARD
BEGIN:DAYLIGHT
TZOFFSETFROM:-0500
TZOFFSETTO:-0400
TZNAME:EDT
DTSTART:20190310T070000
END:DAYLIGHT
BEGIN:STANDARD
TZOFFSETFROM:-0400
TZOFFSETTO:-0500
TZNAME:EST
DTSTART:20191103T060000
END:STANDARD
END:VTIMEZONE
BEGIN:VEVENT
DTSTART;TZID=America/New_York:20181013T100000
DTEND;TZID=America/New_York:20181013T153000
DTSTAMP:20260422T100106
CREATED:20181010T170934Z
LAST-MODIFIED:20181010T170934Z
UID:20945-1539424800-1539444600@jayceland.com
SUMMARY:Pumpkin Patch Train Rides (2018-Oct-13 @ 10 a.m.)
DESCRIPTION:Our Most Popular Event: Enjoy a mile-and-a-half train ride through our rural museum grounds\, located in the scenic heart of the Genesee Valley! Ride aboard authentically restored freight train cabooses to the Pumpkin Patch! Every child will visit our Pumpkin Patch to choose a small baby pumpkin to take home to decorate. Complementary apple cider and cookies for everyone. Fresh\, hot\, Duke's Donuts will also be available for purchase! Enjoy our friendly petting zoo after your ride! \n [source: Rochester and Genesee Valley Railroad Museum website\, 2018-Oct-7]
URL:https://jayceland.com/blog/event/pumpkin-patch-train-rides-2018-oct-13-10-a-m/
LOCATION:Rochester and Genesee Valley Railroad Museum\, 282 Rush Scottsville Rd.\, Rush\, New York\, 14534\, United States
CATEGORIES:JayceLand 2018-Oct-11
END:VEVENT
BEGIN:VEVENT
DTSTART;TZID=America/New_York:20181012T210500
DTEND;TZID=America/New_York:20181012T225000
DTSTAMP:20260422T100106
CREATED:20181010T170936Z
LAST-MODIFIED:20181010T170936Z
UID:20968-1539378300-1539384600@jayceland.com
SUMMARY:The Children Act screening (2018-Oct-12 @ 9:05 p.m.)
DESCRIPTION:The Cinema will screen The Children Act (Richard Eyre\, U.K. 2017\, 105 min.) "As her marriage crumbles\, a judge must decide a case involving a teenage boy who is refusing a blood transfusion on religious principle." [source: Cinema Theater coming soon page\, 2018-Oct-10]
URL:https://jayceland.com/blog/event/the-children-act-screening-2018-oct-12-905-p-m/
LOCATION:Cinema Theatre\, 957 S. Clinton Ave.\, Rochester\, New York\, 14620\, United States
CATEGORIES:JayceLand 2018-Oct-11
END:VEVENT
BEGIN:VEVENT
DTSTART;TZID=America/New_York:20181012T193000
DTEND;TZID=America/New_York:20181012T213700
DTSTAMP:20260422T100106
CREATED:20181010T170935Z
LAST-MODIFIED:20181010T170935Z
UID:20956-1539372600-1539380220@jayceland.com
SUMMARY:No Intenso Agora (In the Intense Now) screening
DESCRIPTION:The Dryden will screen No Intenso Agora (In the Intense Now\, JoÃ£o Moreira Salles\, Brazil 2017\, 127 min.\, DCP\, Portuguese and French w/subtitles) as part of the Labor Film Series.  \nLike Chris Marker's classic documentary A Grin Without a Cat\, JoÃ£o Moreira Salles's film speaks to the late 1960s as a moment of great historical intensity. Footage from China during the 1966 Cultural Revolution is juxtaposed with that of the French students' uprising in May of 1968 and the Soviet invasion of Czechoslovakia in August of the same year. Funerals of students\, workers\, and police officers link the events of 1968 in the cities of Paris\, Lyon\, Prague\, and Rio de Janeiro. The footage\, all of it archival\, reveals the state of mind of those filmed—joy\, enchantment\, fear\, disappointment\, dismay—and sheds light on the relationship between a film document and its political context. \n [source: George Eastman Museum calendar\, 2018-Oct-7]
URL:https://jayceland.com/blog/event/no-intenso-agora-in-the-intense-now-screening/
LOCATION:Dryden Theatre at George Eastman Museum (formerly George Eastman House)\, 900 East Ave.\, Rochester\, New York\, 14607\, United States
CATEGORIES:JayceLand 2018-Oct-11
END:VEVENT
BEGIN:VEVENT
DTSTART;TZID=America/New_York:20181012T193000
DTEND;TZID=America/New_York:20181012T213000
DTSTAMP:20260422T100106
CREATED:20181010T170935Z
LAST-MODIFIED:20181010T170935Z
UID:20952-1539372600-1539379800@jayceland.com
SUMMARY:Eastman Wind Ensemble and Eastman Wind Orchestra musical performance (2018-Oct-12 @ 7:30 p.m.)
DESCRIPTION:[source: Eastman School of Music Calendar\, 2018-Oct-7]
URL:https://jayceland.com/blog/event/eastman-wind-ensemble-and-eastman-wind-orchestra-musical-performance-2018-oct-12-730-p-m/
LOCATION:Kodak Center (formerly Kodak on the Ridge)\, 200 W. Ridge Road\, Rochester\, New York\, 14615\, United States
CATEGORIES:JayceLand 2018-Oct-11
END:VEVENT
BEGIN:VEVENT
DTSTART;TZID=America/New_York:20181012T190000
DTEND;TZID=America/New_York:20181012T210300
DTSTAMP:20260422T100106
CREATED:20181010T170935Z
LAST-MODIFIED:20181010T170935Z
UID:20961-1539370800-1539378180@jayceland.com
SUMMARY:Fahrenheit 11/9 screening (2018-Oct-12 @ 7 p.m.)
DESCRIPTION:The Cinema will screen Fahrenheit 11/9 (Michael Moore\, U.S. 2018\, 123 min.) "Filmmaker Michael Moore examines the current state of American politics\, particularly the Donald J. Trump presidency and gun violence\, while highlighting the power of grassroots democratic movements." [source: Cinema Theater coming soon page\, 2018-Oct-10]
URL:https://jayceland.com/blog/event/fahrenheit-11-9-screening-2018-oct-12-7-p-m/
LOCATION:Cinema Theatre\, 957 S. Clinton Ave.\, Rochester\, New York\, 14620\, United States
CATEGORIES:JayceLand 2018-Oct-11
END:VEVENT
BEGIN:VEVENT
DTSTART;TZID=America/New_York:20181012T120000
DTEND;TZID=America/New_York:20181012T180000
DTSTAMP:20260422T100106
CREATED:20181010T170936Z
LAST-MODIFIED:20181010T170936Z
UID:20976-1539345600-1539367200@jayceland.com
SUMMARY:The Upstate New York Horror Film Festival (2018-Oct-12 @ 12 p.m.)
DESCRIPTION:The Cinema will host The Upstate New York Horror Film Festival. " \nThe festival features 60 short films from around the world. Awards will be presented in various categories. \n [source: Cinema Theater coming soon page\, 2018-Oct-10]
URL:https://jayceland.com/blog/event/the-upstate-new-york-horror-film-festival-2018-oct-12-12-p-m/
LOCATION:Cinema Theatre\, 957 S. Clinton Ave.\, Rochester\, New York\, 14620\, United States
CATEGORIES:JayceLand 2018-Oct-11
END:VEVENT
BEGIN:VEVENT
DTSTART;TZID=America/New_York:20181011T204500
DTEND;TZID=America/New_York:20181011T224700
DTSTAMP:20260422T100106
CREATED:20181003T170814Z
LAST-MODIFIED:20181003T170814Z
UID:20865-1539290700-1539298020@jayceland.com
SUMMARY:Operation Finale screening (2018-Oct-11 @ 8:45 p.m.)
DESCRIPTION:The Cinema will screen Operation Finale (Chris Weitz\, U.S. 2018\, 122 min.) "A team of secret agents set out to track down the Nazi officer who masterminded the Holocaust." [source: Cinema Theater coming soon page\, 2018-Oct-3]
URL:https://jayceland.com/blog/event/operation-finale-screening-2018-oct-11-845-p-m/
LOCATION:Cinema Theatre\, 957 S. Clinton Ave.\, Rochester\, New York\, 14620\, United States
CATEGORIES:JayceLand 2018-Oct-11
END:VEVENT
BEGIN:VEVENT
DTSTART;TZID=America/New_York:20181011T193000
DTEND;TZID=America/New_York:20181011T213000
DTSTAMP:20260422T100106
CREATED:20181010T170935Z
LAST-MODIFIED:20181010T170935Z
UID:20951-1539286200-1539293400@jayceland.com
SUMMARY:Eastman Musica Nova musical performance (2018-Oct-11 @ 7:30 p.m.)
DESCRIPTION:[source: Eastman School of Music Calendar\, 2018-Oct-7]
URL:https://jayceland.com/blog/event/eastman-musica-nova-musical-performance-2018-oct-11-730-p-m/
LOCATION:Kilbourn Hall at Eastman School of Music\, 60 Gibbs St.\, Rochester\, New York\, 14604\, United States
CATEGORIES:JayceLand 2018-Oct-11
END:VEVENT
BEGIN:VEVENT
DTSTART;TZID=America/New_York:20181011T193000
DTEND;TZID=America/New_York:20181011T212200
DTSTAMP:20260422T100106
CREATED:20181010T170935Z
LAST-MODIFIED:20181010T170935Z
UID:20955-1539286200-1539292920@jayceland.com
SUMMARY:The Seventh Cross screening (2018-Oct-11 @ 7:30 p.m.)
DESCRIPTION:The Dryden will screen The Seventh Cross (Fred Zinneman\, U.S. 1944\, 112 min.\, 35mm) as part of the Reinventing Hollywood series.  \nSpencer Tracy is George Heisler\, one of seven prisoners who escape from a German concentration camp in 1936. The commandant of the camp is determined to track them down and vows that each one he recovers will be put on a cross to die. One by one\, the men are captured until only one cross remains empty. The final escapee will need to not only think on his feet\, but also have faith in humanity—particularly difficult in a Germany on the verge of war. A unique voice-over narration is only one of the techniques that distinguish this film. \n [source: George Eastman Museum calendar\, 2018-Oct-7]
URL:https://jayceland.com/blog/event/the-seventh-cross-screening-2018-oct-11-730-p-m/
LOCATION:Dryden Theatre at George Eastman Museum (formerly George Eastman House)\, 900 East Ave.\, Rochester\, New York\, 14607\, United States
CATEGORIES:JayceLand 2018-Oct-11
END:VEVENT
BEGIN:VEVENT
DTSTART;TZID=America/New_York:20181011T190000
DTEND;TZID=America/New_York:20181011T204300
DTSTAMP:20260422T100106
CREATED:20181003T170814Z
LAST-MODIFIED:20181003T170814Z
UID:20858-1539284400-1539290580@jayceland.com
SUMMARY:Puzzle screening (2018-Oct-11 @ 7 p.m.)
DESCRIPTION:The Cinema will screen Puzzle (Marc Turtletaub\, U.S. 2018\, 103 min.) "Agnes\, taken for granted as a suburban mother\, discovers a passion for solving jigsaw puzzles which unexpectedly draws her into a new world — where her life unfolds in ways she could never have imagined." [source: Cinema Theater coming soon page\, 2018-Oct-3]
URL:https://jayceland.com/blog/event/puzzle-screening-2018-oct-11-7-p-m/
LOCATION:Cinema Theatre\, 957 S. Clinton Ave.\, Rochester\, New York\, 14620\, United States
CATEGORIES:JayceLand 2018-Oct-11
END:VEVENT
BEGIN:VEVENT
DTSTART;TZID=America/New_York:20181011T180000
DTEND;TZID=America/New_York:20181011T200000
DTSTAMP:20260422T100106
CREATED:20181010T170934Z
LAST-MODIFIED:20181010T170934Z
UID:20949-1539280800-1539288000@jayceland.com
SUMMARY:Film Series—Curatorial Outlooks: Greg de Cuir\, Jr.
DESCRIPTION:Film curator\, writer and translator Greg de Cuir\, Jr. will discuss his research on Yugoslavian documentary and experimental short films found in regional film archives throughout the U.S. He has selected a program of 16mm films found in the VSW Film Collection\, many of which were part of the Reynolds Audio-Visual Department at the Rochester Public Library. De Cuir\, a native on Los Angeles\, was a co-curator of the 2018 Flaherty Film Seminar\, and now lives in Belgrade\, Serbia\, where he is a selector for the Alternative Film/Video festival. \n [source: Visual Studies Workshop website\, 2018-Oct-7]
URL:https://jayceland.com/blog/event/film-series-curatorial-outlooks-greg-de-cuir-jr/
LOCATION:Visual Studies Workshop\, 31 Prince St.\, Rochester\, New York\, 14607\, United States
CATEGORIES:JayceLand 2018-Oct-11
END:VEVENT
BEGIN:VEVENT
DTSTART;TZID=America/New_York:20181011T180000
DTEND;TZID=America/New_York:20181011T190000
DTSTAMP:20260422T100106
CREATED:20181010T170935Z
LAST-MODIFIED:20181010T170935Z
UID:20954-1539280800-1539284400@jayceland.com
SUMMARY:Kiliii Yuyan: On the Sea Ice\, We Wear White
DESCRIPTION:Kiliii Yuyan will present a Wish You Were Here lecture titled On the Sea Ice\, We Wear White in the Dryden Theatre at the George Eastman Museum.  \nKiliii Yuyan is an indigenous HézhÃ¨ and Chinese-American photographer\, filmmaker\, and journalist whose award-winning work has been published by the Nature Conservancy\, NPR\, Pacific Standard\, and National Geographic Traveler. Yuyan's mission is to rewrite the narratives of minority and indigenous cultures—especially those who live close to the land. Against a backdrop of ecological upheaval\, Yuyan shows us the essential connection to nature that has kept traditional cultures alive for millennia. His work presents an alternative vision of humanity's greatest treasures—community\, culture and the earth. \n [source: George Eastman Museum calendar\, 2018-Oct-7]
URL:https://jayceland.com/blog/event/kiliii-yuyan-on-the-sea-ice-we-wear-white/
LOCATION:Dryden Theatre at George Eastman Museum (formerly George Eastman House)\, 900 East Ave.\, Rochester\, New York\, 14607\, United States
CATEGORIES:JayceLand 2018-Oct-11
END:VEVENT
END:VCALENDAR