BEGIN:VCALENDAR
VERSION:2.0
PRODID:-//JayceLand - ECPv6.15.20//NONSGML v1.0//EN
CALSCALE:GREGORIAN
METHOD:PUBLISH
X-WR-CALNAME:JayceLand
X-ORIGINAL-URL:https://jayceland.com/blog
X-WR-CALDESC:Events for JayceLand
REFRESH-INTERVAL;VALUE=DURATION:PT1H
X-Robots-Tag:noindex
X-PUBLISHED-TTL:PT1H
BEGIN:VTIMEZONE
TZID:America/New_York
BEGIN:DAYLIGHT
TZOFFSETFROM:-0500
TZOFFSETTO:-0400
TZNAME:EDT
DTSTART:20170312T070000
END:DAYLIGHT
BEGIN:STANDARD
TZOFFSETFROM:-0400
TZOFFSETTO:-0500
TZNAME:EST
DTSTART:20171105T060000
END:STANDARD
BEGIN:DAYLIGHT
TZOFFSETFROM:-0500
TZOFFSETTO:-0400
TZNAME:EDT
DTSTART:20180311T070000
END:DAYLIGHT
BEGIN:STANDARD
TZOFFSETFROM:-0400
TZOFFSETTO:-0500
TZNAME:EST
DTSTART:20181104T060000
END:STANDARD
BEGIN:DAYLIGHT
TZOFFSETFROM:-0500
TZOFFSETTO:-0400
TZNAME:EDT
DTSTART:20190310T070000
END:DAYLIGHT
BEGIN:STANDARD
TZOFFSETFROM:-0400
TZOFFSETTO:-0500
TZNAME:EST
DTSTART:20191103T060000
END:STANDARD
END:VTIMEZONE
BEGIN:VEVENT
DTSTART;TZID=America/New_York:20180719T190000
DTEND;TZID=America/New_York:20180719T205300
DTSTAMP:20260421T123027
CREATED:20180711T173624Z
LAST-MODIFIED:20180711T173624Z
UID:19665-1532026800-1532033580@jayceland.com
SUMMARY:First Reformed screening (2018-Jul-19 @ 7 p.m.)
DESCRIPTION:The Cinema will screen First Reformed (Paul Schrader\, U.S. 2017\, 113 min.) "A priest of a small congregation in upstate New York grapples with mounting despair brought on by tragedy\, worldly concerns and a tormented past." [source: Cinema Theater coming soon page\, 2018-Jul-11]
URL:https://jayceland.com/blog/event/first-reformed-screening-2018-jul-19-7-p-m/
LOCATION:Cinema Theatre\, 957 S. Clinton Ave.\, Rochester\, New York\, 14620\, United States
CATEGORIES:JayceLand 2018-Jul-19
END:VEVENT
BEGIN:VEVENT
DTSTART;TZID=America/New_York:20180719T183000
DTEND;TZID=America/New_York:20180719T193000
DTSTAMP:20260421T123027
CREATED:20180718T184448Z
LAST-MODIFIED:20180718T184448Z
UID:19738-1532025000-1532028600@jayceland.com
SUMMARY:LGBTQ Historic Sites Tour: Resistence in the 70s — We have come full circle
DESCRIPTION:Our Western New York LGBTQ Historic Sites committee is planning a tour of key center city sites in the early LGBTQ movement\, including Rochester's City Hall\, the Rochester Federal Buiiding and Genesee Crossroads Park\, and Two Saints Church (St. Lukes/St. Simons)\, to take place during Rochester Pride Week 2018.  The tour will begin at City Hall — parking is available in the City Hall Parking Lot. \n [source: Landmark Society website\, 2018-Jul-16]
URL:https://jayceland.com/blog/event/lgbtq-historic-sites-tour-resistence-in-the-70s-we-have-come-full-circle/
LOCATION:City Hall\, 30 Church St\, Rochester\, New York\, 14614\, United States
CATEGORIES:JayceLand 2018-Jul-19
END:VEVENT
END:VCALENDAR