BEGIN:VCALENDAR
VERSION:2.0
PRODID:-//JayceLand - ECPv6.15.20//NONSGML v1.0//EN
CALSCALE:GREGORIAN
METHOD:PUBLISH
X-WR-CALNAME:JayceLand
X-ORIGINAL-URL:https://jayceland.com/blog
X-WR-CALDESC:Events for JayceLand
REFRESH-INTERVAL;VALUE=DURATION:PT1H
X-Robots-Tag:noindex
X-PUBLISHED-TTL:PT1H
BEGIN:VTIMEZONE
TZID:America/New_York
BEGIN:DAYLIGHT
TZOFFSETFROM:-0500
TZOFFSETTO:-0400
TZNAME:EDT
DTSTART:20170312T070000
END:DAYLIGHT
BEGIN:STANDARD
TZOFFSETFROM:-0400
TZOFFSETTO:-0500
TZNAME:EST
DTSTART:20171105T060000
END:STANDARD
BEGIN:DAYLIGHT
TZOFFSETFROM:-0500
TZOFFSETTO:-0400
TZNAME:EDT
DTSTART:20180311T070000
END:DAYLIGHT
BEGIN:STANDARD
TZOFFSETFROM:-0400
TZOFFSETTO:-0500
TZNAME:EST
DTSTART:20181104T060000
END:STANDARD
BEGIN:DAYLIGHT
TZOFFSETFROM:-0500
TZOFFSETTO:-0400
TZNAME:EDT
DTSTART:20190310T070000
END:DAYLIGHT
BEGIN:STANDARD
TZOFFSETFROM:-0400
TZOFFSETTO:-0500
TZNAME:EST
DTSTART:20191103T060000
END:STANDARD
END:VTIMEZONE
BEGIN:VEVENT
DTSTART;TZID=America/New_York:20180809T190000
DTEND;TZID=America/New_York:20180809T210000
DTSTAMP:20260422T015939
CREATED:20180808T171615Z
LAST-MODIFIED:20180808T171615Z
UID:20038-1533841200-1533848400@jayceland.com
SUMMARY:Are Tiny Houses the Solution to Homelessness?
DESCRIPTION:Are Tiny Houses a fad or an essential part of dealing with homelessness? Join the Green Party of Monroe County for a discussion with Andrew Lunetta\, Executive Director of A Tiny Home for Good\, a Syracuse agency that helps people get into tiny houses. \n [source: Facebook\, 2018-Aug-6]
URL:https://jayceland.com/blog/event/are-tiny-houses-the-solution-to-homelessness/
LOCATION:Flying Squirrel Community Space\, 285 Clarissa St.\, Rochester\, New York\, 14608\, United States
CATEGORIES:JayceLand 2018-Aug-9
END:VEVENT
BEGIN:VEVENT
DTSTART;TZID=America/New_York:20180809T190000
DTEND;TZID=America/New_York:20180809T210000
DTSTAMP:20260422T015939
CREATED:20180808T171614Z
LAST-MODIFIED:20180808T171614Z
UID:20019-1533841200-1533848400@jayceland.com
SUMMARY:Twilight Tour (2018-Aug-9 @ 7 p.m.)
DESCRIPTION:This 75-minute tour includes some topics covered on Sunday North Section tours as well as new material\, on an alternate route of the North Section. \n [source: Friends of Mt. Hope website\, 2018-Aug-6]
URL:https://jayceland.com/blog/event/twilight-tour-2018-aug-9-7-p-m/
LOCATION:Mt. Hope Cemetery North Gatehouse\, 791 Mt. Hope Ave.\, Rochester\, New York\, 14620\, United States
CATEGORIES:JayceLand 2018-Aug-9
END:VEVENT
END:VCALENDAR