BEGIN:VCALENDAR
VERSION:2.0
PRODID:-//JayceLand - ECPv6.15.20//NONSGML v1.0//EN
CALSCALE:GREGORIAN
METHOD:PUBLISH
X-ORIGINAL-URL:https://jayceland.com/blog
X-WR-CALDESC:Events for JayceLand
REFRESH-INTERVAL;VALUE=DURATION:PT1H
X-Robots-Tag:noindex
X-PUBLISHED-TTL:PT1H
BEGIN:VTIMEZONE
TZID:America/New_York
BEGIN:DAYLIGHT
TZOFFSETFROM:-0500
TZOFFSETTO:-0400
TZNAME:EDT
DTSTART:20160313T070000
END:DAYLIGHT
BEGIN:STANDARD
TZOFFSETFROM:-0400
TZOFFSETTO:-0500
TZNAME:EST
DTSTART:20161106T060000
END:STANDARD
BEGIN:DAYLIGHT
TZOFFSETFROM:-0500
TZOFFSETTO:-0400
TZNAME:EDT
DTSTART:20170312T070000
END:DAYLIGHT
BEGIN:STANDARD
TZOFFSETFROM:-0400
TZOFFSETTO:-0500
TZNAME:EST
DTSTART:20171105T060000
END:STANDARD
BEGIN:DAYLIGHT
TZOFFSETFROM:-0500
TZOFFSETTO:-0400
TZNAME:EDT
DTSTART:20180311T070000
END:DAYLIGHT
BEGIN:STANDARD
TZOFFSETFROM:-0400
TZOFFSETTO:-0500
TZNAME:EST
DTSTART:20181104T060000
END:STANDARD
END:VTIMEZONE
BEGIN:VEVENT
DTSTART;TZID=America/New_York:20171005T193000
DTEND;TZID=America/New_York:20171005T205600
DTSTAMP:20260424T070419
CREATED:20171004T164948Z
LAST-MODIFIED:20171004T164948Z
UID:14918-1507231800-1507236960@jayceland.com
SUMMARY:Pokolenie (A Generation) screening (2017-Oct-5 @ 7:30 p.m.)
DESCRIPTION:The Dryden will screen Pokolenie (A Generation\, Andrzej Wajda\, Poland 1955\, 86 min.\, 35mm\, Polish w/subtitles) as part of the Wajda series.  \nAndrzej Wajda's debut feature is an intimate account of growing up in Nazi-occupied Warsaw\, and marks the beginning of his "war trilogy" that continued with Kanal (screening October 12) and ended with Ashes and Diamonds (screening October 19). Based on the eponymous novel by Bohdan Czeszko\, A Generation paints a detailed psychological profile of a young rebel who is forced to embrace adulthood prematurely by joining the underground communist resistance. Already in his first film\, Wajda's trademark is evident: the volatile mixture of personal and political\, the questioning of official\, state-sanctioned historical narratives\, the corrosive effects of ideology on an individual\, the price of responsibility—all also staples of the so-called Polish Film School that Wajda helped to create with this film. \n [source: George Eastman Museum\, 2017-Oct-2]
URL:https://jayceland.com/blog/event/pokolenie-a-generation-screening-2017-oct-5-730-p-m/
LOCATION:Dryden Theatre at George Eastman Museum (formerly George Eastman House)\, 900 East Ave.\, Rochester\, New York\, 14607\, United States
CATEGORIES:JayceLand 2017-Oct-5
END:VEVENT
BEGIN:VEVENT
DTSTART;TZID=America/New_York:20171005T190000
DTEND;TZID=America/New_York:20171005T210000
DTSTAMP:20260424T070419
CREATED:20171004T164948Z
LAST-MODIFIED:20171004T164948Z
UID:14917-1507230000-1507237200@jayceland.com
SUMMARY:An Evening with Douglas Crimp
DESCRIPTION:Come celebrate art critic Douglas Crimp's recently published memoir and cultural history of New York\, Before Pictures\, which touches upon his experiences in the city's vibrant gay circles and art worlds in the 1970s. After a reading\, Rachel Haidu will join Crimp in conversation. Books will be available for purchase. \n [source: Memorial Art Gallery website\, 2017-Oct-2]
URL:https://jayceland.com/blog/event/an-evening-with-douglas-crimp/
LOCATION:Memorial Art Gallery\, 500 University Ave.\, Rochester\, New York\, 14607\, United States
CATEGORIES:JayceLand 2017-Oct-5
END:VEVENT
BEGIN:VEVENT
DTSTART;TZID=America/New_York:20171005T190000
DTEND;TZID=America/New_York:20171005T210000
DTSTAMP:20260424T070419
CREATED:20170927T144109Z
LAST-MODIFIED:20170927T144109Z
UID:14822-1507230000-1507237200@jayceland.com
SUMMARY:The Big Sick screening (2017-Oct-5 @ 7 p.m.)
DESCRIPTION:The Cinema will screen The Big Sick (Michael Showalter\, U.S. 2017\, 120 min.) "Pakistan-born comedian Kumail Nanjiani and grad student Emily Gardner fall in love but struggle as their cultures clash. When Emily contracts a mysterious illness\, Kumail finds himself forced to face her feisty parents\, his family's expectations\, and his true feelings." [source: Cinema Theater coming soon page\, 2017-Sep-27]
URL:https://jayceland.com/blog/event/the-big-sick-screening-2017-oct-5-7-p-m/
LOCATION:Cinema Theatre\, 957 S. Clinton Ave.\, Rochester\, New York\, 14620\, United States
CATEGORIES:JayceLand 2017-Oct-5
END:VEVENT
BEGIN:VEVENT
DTSTART;TZID=America/New_York:20171005T190000
DTEND;TZID=America/New_York:20171005T203000
DTSTAMP:20260424T070419
CREATED:20171004T164949Z
LAST-MODIFIED:20171004T164949Z
UID:14924-1507230000-1507235400@jayceland.com
SUMMARY:Christian Faith and LGBT Experience Lecture
DESCRIPTION:With guest speaker Milo Primeaux\, Esq.\, a queer-identified transgender attorney who provides direct legal services to low-income lesbian\, gay\, bisexual\, transgender\, and queer (LGBTQ) individuals in the greater Rochester area on a variety of legal issues related to their status as LGBTQ. \n [source: Rochester City Newspaper events calendar\, 2017-Oct-2]
URL:https://jayceland.com/blog/event/christian-faith-and-lgbt-experience-lecture/
LOCATION:Third Presbyterian Church\, 4 Meigs St.\, Rochester\, New York\, 14607\, United States
CATEGORIES:JayceLand 2017-Oct-5
END:VEVENT
END:VCALENDAR