BEGIN:VCALENDAR
VERSION:2.0
PRODID:-//JayceLand - ECPv6.15.20//NONSGML v1.0//EN
CALSCALE:GREGORIAN
METHOD:PUBLISH
X-ORIGINAL-URL:https://jayceland.com/blog
X-WR-CALDESC:Events for JayceLand
REFRESH-INTERVAL;VALUE=DURATION:PT1H
X-Robots-Tag:noindex
X-PUBLISHED-TTL:PT1H
BEGIN:VTIMEZONE
TZID:America/New_York
BEGIN:DAYLIGHT
TZOFFSETFROM:-0500
TZOFFSETTO:-0400
TZNAME:EDT
DTSTART:20160313T070000
END:DAYLIGHT
BEGIN:STANDARD
TZOFFSETFROM:-0400
TZOFFSETTO:-0500
TZNAME:EST
DTSTART:20161106T060000
END:STANDARD
BEGIN:DAYLIGHT
TZOFFSETFROM:-0500
TZOFFSETTO:-0400
TZNAME:EDT
DTSTART:20170312T070000
END:DAYLIGHT
BEGIN:STANDARD
TZOFFSETFROM:-0400
TZOFFSETTO:-0500
TZNAME:EST
DTSTART:20171105T060000
END:STANDARD
BEGIN:DAYLIGHT
TZOFFSETFROM:-0500
TZOFFSETTO:-0400
TZNAME:EDT
DTSTART:20180311T070000
END:DAYLIGHT
BEGIN:STANDARD
TZOFFSETFROM:-0400
TZOFFSETTO:-0500
TZNAME:EST
DTSTART:20181104T060000
END:STANDARD
END:VTIMEZONE
BEGIN:VEVENT
DTSTART;TZID=America/New_York:20171109T190000
DTEND;TZID=America/New_York:20171109T204200
DTSTAMP:20260420T223120
CREATED:20171101T192555Z
LAST-MODIFIED:20171101T192555Z
UID:15699-1510254000-1510260120@jayceland.com
SUMMARY:Brad's Status screening (2017-Nov-9 @ 7 p.m.)
DESCRIPTION:The Cinema will screen Brad's Status (Mike White\, U.S. 2017\, 102 min.) "A father takes his son to tour colleges on the East Coast and meets up with an old friend who makes him feel inferior about his life's choices." [source: Cinema Theater coming soon page\, 2017-Nov-1]
URL:https://jayceland.com/blog/event/brads-status-screening-2017-nov-9-7-p-m/
LOCATION:Cinema Theatre\, 957 S. Clinton Ave.\, Rochester\, New York\, 14620\, United States
CATEGORIES:JayceLand 2017-Nov-9
END:VEVENT
BEGIN:VEVENT
DTSTART;TZID=America/New_York:20171109T190000
DTEND;TZID=America/New_York:20171109T200000
DTSTAMP:20260420T223120
CREATED:20171108T180307Z
LAST-MODIFIED:20171108T180307Z
UID:15816-1510254000-1510257600@jayceland.com
SUMMARY:Come As You Are Storytelling Show
DESCRIPTION:In this encore performance of a Fringe Festival show\, four Rochester women present true stories of facing others' expectations and staying true to themselves\, followed by a story slam\, where you will have a chance to share your own experiences. \n [source: Rochester City Newspaper events calendar\, 2017-Nov-6]
URL:https://jayceland.com/blog/event/come-as-you-are-storytelling-show/
LOCATION:Writers & Books\, 740 University Ave.\, Rochester\, New York\, 14607\, United States
CATEGORIES:JayceLand 2017-Nov-9
END:VEVENT
BEGIN:VEVENT
DTSTART;TZID=America/New_York:20171109T180000
DTEND;TZID=America/New_York:20171109T200000
DTSTAMP:20260420T223120
CREATED:20171108T180304Z
LAST-MODIFIED:20171108T180304Z
UID:15802-1510250400-1510257600@jayceland.com
SUMMARY:Exhibition Preview: Stories of Indian Cinema
DESCRIPTION:The George Eastman Museum will present an Exhibition Preview of Stories of Indian Cinema beginning with Curators' Remarks and Conversation with Nandita Raman\, Jurij Meden\, and William Green in the Dryden Theatre. [source: George Eastman Museum\, 2017-Nov-6]
URL:https://jayceland.com/blog/event/exhibition-preview-stories-of-indian-cinema/
LOCATION:George Eastman Museum (formerly George Eastman House)\, 900 East Ave.\, Rochester\, New York\, 14607\, United States
CATEGORIES:JayceLand 2017-Nov-9
END:VEVENT
END:VCALENDAR