BEGIN:VCALENDAR
VERSION:2.0
PRODID:-//JayceLand - ECPv6.15.20//NONSGML v1.0//EN
CALSCALE:GREGORIAN
METHOD:PUBLISH
X-ORIGINAL-URL:https://jayceland.com/blog
X-WR-CALDESC:Events for JayceLand
REFRESH-INTERVAL;VALUE=DURATION:PT1H
X-Robots-Tag:noindex
X-PUBLISHED-TTL:PT1H
BEGIN:VTIMEZONE
TZID:America/New_York
BEGIN:DAYLIGHT
TZOFFSETFROM:-0500
TZOFFSETTO:-0400
TZNAME:EDT
DTSTART:20160313T070000
END:DAYLIGHT
BEGIN:STANDARD
TZOFFSETFROM:-0400
TZOFFSETTO:-0500
TZNAME:EST
DTSTART:20161106T060000
END:STANDARD
BEGIN:DAYLIGHT
TZOFFSETFROM:-0500
TZOFFSETTO:-0400
TZNAME:EDT
DTSTART:20170312T070000
END:DAYLIGHT
BEGIN:STANDARD
TZOFFSETFROM:-0400
TZOFFSETTO:-0500
TZNAME:EST
DTSTART:20171105T060000
END:STANDARD
BEGIN:DAYLIGHT
TZOFFSETFROM:-0500
TZOFFSETTO:-0400
TZNAME:EDT
DTSTART:20180311T070000
END:DAYLIGHT
BEGIN:STANDARD
TZOFFSETFROM:-0400
TZOFFSETTO:-0500
TZNAME:EST
DTSTART:20181104T060000
END:STANDARD
END:VTIMEZONE
BEGIN:VEVENT
DTSTART;TZID=America/New_York:20170414T180000
DTEND;TZID=America/New_York:20170414T210000
DTSTAMP:20260422T000554
CREATED:20170412T170513Z
LAST-MODIFIED:20170412T170513Z
UID:12304-1492192800-1492203600@jayceland.com
SUMMARY:Opening Reception: Unforeseen Structures
DESCRIPTION:At the Flower City Arts Center is the Opening Reception for Unforeseen Structures by Mitch Goldstein\, on display through May 20.  \nUnforeseen Structures is artist Mitch Goldstein's examination of emergent form using darkroom photography techniques\, specifically the photogram. Photograms use no cameras or lenses — instead\, objects are placed on or near unexposed photographic paper and briefly exposed to light. This process results in abstract black and white compositions\, which emerge unpredictably from the physical materials used in their creation. Goldstein relinquishes control\, relying instead on intuition and chance to allow form and structure to develop from the process. \n [source: Flower City Arts Center website\, 2017-Apr-10]
URL:https://jayceland.com/blog/event/opening-reception-unforeseen-structures/
LOCATION:Flower City Arts Center (formerly Genesee Center for Arts and Education)\, 713 Monroe Ave.\, Rochester\, New York\, 14607\, United States
CATEGORIES:JayceLand 2017-Apr-13
END:VEVENT
BEGIN:VEVENT
DTSTART;TZID=America/New_York:20170414T180000
DTEND;TZID=America/New_York:20170414T210000
DTSTAMP:20260422T000554
CREATED:20170412T170513Z
LAST-MODIFIED:20170412T170513Z
UID:12303-1492192800-1492203600@jayceland.com
SUMMARY:Friday Fling: Ceramics (2017-Apr-14 @ 6 p.m.)
DESCRIPTION:Advanced registration and payment required. The perfect date night — come to the studio and learn to throw a bowl! We provide the clay\, the tools\, and of course the wine/beer and snacks. You just come ready to get dirty!  Start your weekend off right! Create with us while you sip your favorite adult beverage. Supplies and drinks are provided and instructors will walk you through the process as you create your unique piece of art. Pre—registration is required and flings fill up fast\, so reserve your spot today! (21+ only) \n [source: Flower City Arts Center website\, 2017-Apr-10]
URL:https://jayceland.com/blog/event/friday-fling-ceramics-2017-apr-14-6-p-m/
LOCATION:Flower City Arts Center (formerly Genesee Center for Arts and Education)\, 713 Monroe Ave.\, Rochester\, New York\, 14607\, United States
CATEGORIES:JayceLand 2017-Apr-13
END:VEVENT
BEGIN:VEVENT
DTSTART;TZID=America/New_York:20170414T161500
DTEND;TZID=America/New_York:20170414T181300
DTSTAMP:20260422T000554
CREATED:20170412T170516Z
LAST-MODIFIED:20170412T170516Z
UID:12339-1492186500-1492193580@jayceland.com
SUMMARY:Lion screening (2017-Apr-14 @ 4:15 p.m.)
DESCRIPTION:The Cinema will screen Lion (Garth Davis\, U.S. / Australia / U.K. 2016\, 118 min.) "A five-year-old Indian boy gets lost on the streets of Calcutta\, thousands of kilometers from home. He survives many challenges before being adopted by a couple in Australia; 25 years later\, he sets out to find his lost family." [source: Cinema Theater coming soon page\, 2017-Apr-12]
URL:https://jayceland.com/blog/event/lion-screening-2017-apr-14-415-p-m/
LOCATION:Cinema Theatre\, 957 S. Clinton Ave.\, Rochester\, New York\, 14620\, United States
CATEGORIES:JayceLand 2017-Apr-13
END:VEVENT
BEGIN:VEVENT
DTSTART;TZID=America/New_York:20170414T140000
DTEND;TZID=America/New_York:20170414T154400
DTSTAMP:20260422T000554
CREATED:20170412T170515Z
LAST-MODIFIED:20170412T170515Z
UID:12331-1492178400-1492184640@jayceland.com
SUMMARY:The Lego Batman Movie screening (2017-Apr-14 @ 2 p.m.)
DESCRIPTION:The Cinema will screen The Lego Batman Movie (Chris McKay\, U.S. / Denmark 2017\, 104 min.) "A cooler-than-ever Bruce Wayne must deal with the usual suspects as they plan to rule Gotham City\, while discovering that he has accidentally adopted a teenage orphan who wishes to become his sidekick." [source: Cinema Theater coming soon page\, 2017-Apr-12]
URL:https://jayceland.com/blog/event/the-lego-batman-movie-screening-2017-apr-14-2-p-m/
LOCATION:Cinema Theatre\, 957 S. Clinton Ave.\, Rochester\, New York\, 14620\, United States
CATEGORIES:JayceLand 2017-Apr-13
END:VEVENT
BEGIN:VEVENT
DTSTART;TZID=America/New_York:20170414T103000
DTEND;TZID=America/New_York:20170414T113000
DTSTAMP:20260422T000554
CREATED:20170412T170513Z
LAST-MODIFIED:20170412T170513Z
UID:12297-1492165800-1492169400@jayceland.com
SUMMARY:Eastman School of Music's tetRoc 4tet musical performance
DESCRIPTION:[source: Monroe County Library website\, 2017-Apr-10]
URL:https://jayceland.com/blog/event/eastman-school-of-musics-tetroc-4tet-musical-performance/
LOCATION:Brighton Memorial Library\, 2300 Elmwood Ave.\, Rochester\, New York\, 14618\, United States
CATEGORIES:JayceLand 2017-Apr-13
END:VEVENT
BEGIN:VEVENT
DTSTART;TZID=America/New_York:20170413T210000
DTEND;TZID=America/New_York:20170413T223800
DTSTAMP:20260422T000554
CREATED:20170405T173231Z
LAST-MODIFIED:20170405T173231Z
UID:12211-1492117200-1492123080@jayceland.com
SUMMARY:Before I Fall screening (2017-Apr-13 @ 9 p.m.)
DESCRIPTION:The Cinema will screen Before I Fall (Ry Russo-Young\, U.S. 2017\, 98 min.) "February 12 is just another day in Sam's charmed life\, until it turns out to be her last. Stuck reliving her last day over one inexplicable week\, Sam untangles the mystery around her death and discovers everything she's losing." [source: Cinema Theater coming soon page\, 2017-Apr-5]
URL:https://jayceland.com/blog/event/before-i-fall-screening-2017-apr-13-9-p-m/
LOCATION:Cinema Theatre\, 957 S. Clinton Ave.\, Rochester\, New York\, 14620\, United States
CATEGORIES:JayceLand 2017-Apr-13
END:VEVENT
BEGIN:VEVENT
DTSTART;TZID=America/New_York:20170413T203000
DTEND;TZID=America/New_York:20170413T223000
DTSTAMP:20260422T000554
CREATED:20170412T170512Z
LAST-MODIFIED:20170412T170512Z
UID:12290-1492115400-1492122600@jayceland.com
SUMMARY:Dave Diprimo Band\, The Byways\, Ben Sheridan musical performances
DESCRIPTION:[source: Facebook\, 2017-Apr-10]
URL:https://jayceland.com/blog/event/dave-diprimo-band-the-byways-ben-sheridan-musical-performances/
LOCATION:Bug Jar\, 219 Monroe Ave\, Rochester\, New York\, 14607\, United States
CATEGORIES:JayceLand 2017-Apr-13
END:VEVENT
BEGIN:VEVENT
DTSTART;TZID=America/New_York:20170413T200000
DTEND;TZID=America/New_York:20170413T220000
DTSTAMP:20260422T000554
CREATED:20170412T170513Z
LAST-MODIFIED:20170412T170513Z
UID:12300-1492113600-1492120800@jayceland.com
SUMMARY:Eastman Jazz Lab Band musical performance (2017-Apr-13 @ 8 p.m.)
DESCRIPTION:[source: Eastman School of Music Calendar\, 2017-Apr-10]
URL:https://jayceland.com/blog/event/eastman-jazz-lab-band-musical-performance-2017-apr-13-8-p-m/
LOCATION:Kilbourn Hall at Eastman School of Music\, 60 Gibbs St.\, Rochester\, New York\, 14604\, United States
CATEGORIES:JayceLand 2017-Apr-13
END:VEVENT
BEGIN:VEVENT
DTSTART;TZID=America/New_York:20170413T193000
DTEND;TZID=America/New_York:20170413T213600
DTSTAMP:20260422T000554
CREATED:20170412T170513Z
LAST-MODIFIED:20170412T170513Z
UID:12305-1492111800-1492119360@jayceland.com
SUMMARY:Cool Hand Luke screening (2017-Apr-13 @ 7:30 p.m.)
DESCRIPTION:The Dryden will screen Cool Hand Luke (Stuart Rosenberg\, U.S. 1967\, 126 min.\, 35mm) as part of the 12 Postcards from Prison series.  \nIn this film about prison life and undying spirit\, Paul Newman is Luke\, a loner sent to a chain-gang camp for "cutting heads off parking meters." For his fellow chain-gangers\, Luke offers inspiration\, whether it's digging ditches all night long or eating 50 eggs to win a bet with Oscar winner George Kennedy. First-time feature director Rosenberg's exciting staging and Conrad Hall's superb color photography make a traditional subject—life on a Southern chain gang—seem fresh\, and Newman gives one of his best "loner" roles as the title convict. \n [source: George Eastman Museum calendar\, 2017-Apr-10]
URL:https://jayceland.com/blog/event/cool-hand-luke-screening-2017-apr-13-730-p-m/
LOCATION:Dryden Theatre at George Eastman Museum (formerly George Eastman House)\, 900 East Ave.\, Rochester\, New York\, 14607\, United States
CATEGORIES:JayceLand 2017-Apr-13
END:VEVENT
BEGIN:VEVENT
DTSTART;TZID=America/New_York:20170413T190000
DTEND;TZID=America/New_York:20170413T205800
DTSTAMP:20260422T000554
CREATED:20170405T173231Z
LAST-MODIFIED:20170405T173231Z
UID:12204-1492110000-1492117080@jayceland.com
SUMMARY:Lion screening (2017-Apr-13 @ 7 p.m.)
DESCRIPTION:The Cinema will screen Lion (Garth Davis\, U.S. / Australia / U.K. 2016\, 118 min.) "A five-year-old Indian boy gets lost on the streets of Calcutta\, thousands of kilometers from home. He survives many challenges before being adopted by a couple in Australia; 25 years later\, he sets out to find his lost family." [source: Cinema Theater coming soon page\, 2017-Apr-5]
URL:https://jayceland.com/blog/event/lion-screening-2017-apr-13-7-p-m/
LOCATION:Cinema Theatre\, 957 S. Clinton Ave.\, Rochester\, New York\, 14620\, United States
CATEGORIES:JayceLand 2017-Apr-13
END:VEVENT
BEGIN:VEVENT
DTSTART;TZID=America/New_York:20170413T190000
DTEND;TZID=America/New_York:20170413T200000
DTSTAMP:20260422T000554
CREATED:20170412T170514Z
LAST-MODIFIED:20170412T170514Z
UID:12314-1492110000-1492113600@jayceland.com
SUMMARY:Who Moved My House?
DESCRIPTION:Fairport and Perinton have an amazing number of structures\, big and small\, that have been moved — picked up and carted to a different location within the community. Explore the reasons\, methods of moving\, and stories behind many of these relocated structures. Bill Poray is the historian for Perinton and the village of Fairport. \n [source: Rochester City Newspaper events calendar\, 2017-Apr-10]
URL:https://jayceland.com/blog/event/who-moved-my-house/
LOCATION:Fairport Library\, 1 Village Landing\, Fairport\, New York\, 14450\, United States
CATEGORIES:JayceLand 2017-Apr-13
END:VEVENT
BEGIN:VEVENT
DTSTART;TZID=America/New_York:20170413T170000
DTEND;TZID=America/New_York:20170413T190000
DTSTAMP:20260422T000554
CREATED:20170412T170517Z
LAST-MODIFIED:20170412T170517Z
UID:12342-1492102800-1492110000@jayceland.com
SUMMARY:Public Meeting—Genesee Valley Park (2017-Apr-13 @ 5 p.m.)
DESCRIPTION:The City's Bureau of Architecture and Engineering will hold an informational meeting to discuss a new concession stand and bathroom facility as well as a new playground with tot and pre-teen playsets. \n [source: City of Rochester website\, 2017-Apr-12]
URL:https://jayceland.com/blog/event/public-meeting-genesee-valley-park-2017-apr-13-5-p-m/
LOCATION:Field House Lodge in Genesee Valley Park\, 1316 Genesee St.\, Rochester\, New York\, 14611\, United States
CATEGORIES:JayceLand 2017-Apr-13
END:VEVENT
END:VCALENDAR