BEGIN:VCALENDAR
VERSION:2.0
PRODID:-//JayceLand - ECPv6.15.20//NONSGML v1.0//EN
CALSCALE:GREGORIAN
METHOD:PUBLISH
X-ORIGINAL-URL:https://jayceland.com/blog
X-WR-CALDESC:Events for JayceLand
REFRESH-INTERVAL;VALUE=DURATION:PT1H
X-Robots-Tag:noindex
X-PUBLISHED-TTL:PT1H
BEGIN:VTIMEZONE
TZID:America/New_York
BEGIN:DAYLIGHT
TZOFFSETFROM:-0500
TZOFFSETTO:-0400
TZNAME:EDT
DTSTART:20140309T070000
END:DAYLIGHT
BEGIN:STANDARD
TZOFFSETFROM:-0400
TZOFFSETTO:-0500
TZNAME:EST
DTSTART:20141102T060000
END:STANDARD
BEGIN:DAYLIGHT
TZOFFSETFROM:-0500
TZOFFSETTO:-0400
TZNAME:EDT
DTSTART:20150308T070000
END:DAYLIGHT
BEGIN:STANDARD
TZOFFSETFROM:-0400
TZOFFSETTO:-0500
TZNAME:EST
DTSTART:20151101T060000
END:STANDARD
BEGIN:DAYLIGHT
TZOFFSETFROM:-0500
TZOFFSETTO:-0400
TZNAME:EDT
DTSTART:20160313T070000
END:DAYLIGHT
BEGIN:STANDARD
TZOFFSETFROM:-0400
TZOFFSETTO:-0500
TZNAME:EST
DTSTART:20161106T060000
END:STANDARD
END:VTIMEZONE
BEGIN:VEVENT
DTSTART;TZID=America/New_York:20151106T200000
DTEND;TZID=America/New_York:20151106T212500
DTSTAMP:20260424T133606
CREATED:20151104T185052Z
LAST-MODIFIED:20151104T185052Z
UID:6185-1446840000-1446845100@jayceland.com
SUMMARY:Digging For Fire screening
DESCRIPTION:The Dryden will screen Digging For Fire (Joe Swanberg\, U.S. 2015\, 85 min.\, DCP).  \nThe discovery of a bone and a gun sends a husband and wife on separate adventures over the course of a weekend. Digging for Fire\, the latest film by prolific independent filmmaker Joe Swanberg (Drinking Buddies)\, is a profound meditation on subjects of love and trust\, and features a strong cast of emerging and established actors: Jake Johnson\, Rosemarie Dewitt\, Orlando Bloom\, Brie Larson\, Sam Rockwell\, Anna Kendrick\, and Mike Birbiglia. \n [source: George Eastman Museum calendar\, 2015-Nov-2]
URL:https://jayceland.com/blog/event/digging-for-fire-screening/
LOCATION:Dryden Theatre at George Eastman Museum (formerly George Eastman House)\, 900 East Ave.\, Rochester\, New York\, 14607\, United States
CATEGORIES:JayceLand 2015-Nov-5
END:VEVENT
BEGIN:VEVENT
DTSTART;TZID=America/New_York:20151106T193000
DTEND;TZID=America/New_York:20151106T213000
DTSTAMP:20260424T133606
CREATED:20151104T185051Z
LAST-MODIFIED:20151104T185051Z
UID:6169-1446838200-1446845400@jayceland.com
SUMMARY:Confessions Of A Nightingale theatrical performance (2015-Nov-6 @ 7:30 p.m.)
DESCRIPTION:He was one of the great twentieth century American playwrights\, and Tennessee Williams' private persona is shown to have been just as fascinating as his plays in this delightful\, moving\, and incisive ninety minute drama. The play is structured as an interview with a reporter\, to whose unheard questions Williams responds directly to the audience as if they are doing the asking. We learn of the struggles of his early years\, his first successes\, the price of his fame and his later years of dissolution and decline\, all in Williams' delightfully witty style. Part of the Rainbow Theater Festival. \n [source: Bread and Water Theatre website\, 2015-Nov-2]
URL:https://jayceland.com/blog/event/confessions-of-a-nightingale-theatrical-performance-2015-nov-6-730-p-m/
LOCATION:Bread and Water Theatre\, 172 W. Main St.\, Rochester\, New York\, United States
CATEGORIES:JayceLand 2015-Nov-5
END:VEVENT
BEGIN:VEVENT
DTSTART;TZID=America/New_York:20151106T193000
DTEND;TZID=America/New_York:20151106T213000
DTSTAMP:20260424T133606
CREATED:20151028T180537Z
LAST-MODIFIED:20151028T180537Z
UID:6103-1446838200-1446845400@jayceland.com
SUMMARY:Henry V theatrical performance (2015-Nov-6 @ 7:30 p.m.)
DESCRIPTION:The Shakespeare Players program of the Rochester Community Players presents Henry V at the MuCCC.  \n"Henry V concludes the "Henriad" Cycle that began in Spring with Richard II. Young King Henry V takes the throne in a most contentious atmosphere and must learn fast how to lead in war\, love\, and politics. \n [source: MuCCC website\, 2015-Oct-26]
URL:https://jayceland.com/blog/event/henry-v-theatrical-performance-2015-nov-6-730-p-m/
LOCATION:MuCCC (Multi-use Community Cultural Center)\, 142 Atlantic Ave.\, Rochester\, New York\, 14607\, United States
CATEGORIES:JayceLand 2015-Nov-5
END:VEVENT
BEGIN:VEVENT
DTSTART;TZID=America/New_York:20151106T190000
DTEND;TZID=America/New_York:20151106T210000
DTSTAMP:20260424T133606
CREATED:20151104T185051Z
LAST-MODIFIED:20151104T185051Z
UID:6178-1446836400-1446843600@jayceland.com
SUMMARY:Wide Open Mic hosted by Norm Davis (2015-Nov-6 @ 7 p.m.)
DESCRIPTION:[source: Writers and Books website\, 2015-Nov-2]
URL:https://jayceland.com/blog/event/wide-open-mic-hosted-by-norm-davis-2015-nov-6-7-p-m/
LOCATION:Writers & Books\, 740 University Ave.\, Rochester\, New York\, 14607\, United States
CATEGORIES:JayceLand 2015-Nov-5
END:VEVENT
BEGIN:VEVENT
DTSTART;TZID=America/New_York:20151106T190000
DTEND;TZID=America/New_York:20151106T202000
DTSTAMP:20260424T133606
CREATED:20151104T185051Z
LAST-MODIFIED:20151104T185051Z
UID:6193-1446836400-1446841200@jayceland.com
SUMMARY:Grandma screening (2015-Nov-6 @ 7 p.m.)
DESCRIPTION:The Cinema will screen Grandma (Paul Weitz\, U.S. 2015\, 80 min.) "A teenager facing an unplanned pregnancy seeks help from her acerbic grandmother\, a woman who is long estranged from her daughter." [source: Cinema coming soon page\, 2015-Nov-4]
URL:https://jayceland.com/blog/event/grandma-screening-2015-nov-6-7-p-m/
LOCATION:Cinema Theatre\, 957 S. Clinton Ave.\, Rochester\, New York\, 14620\, United States
CATEGORIES:JayceLand 2015-Nov-5
END:VEVENT
BEGIN:VEVENT
DTSTART;TZID=America/New_York:20151106T180000
DTEND;TZID=America/New_York:20151106T230000
DTSTAMP:20260424T133606
CREATED:20151104T185051Z
LAST-MODIFIED:20151104T185051Z
UID:6163-1446832800-1446850800@jayceland.com
SUMMARY:Bill Daniel: Tri X Noise Photo Exhibit and Book Release; The Drippers\, Pengo\, The Temptators\, Martin Freeman musical performances
DESCRIPTION:Launching his latest book\, Tri X Noise\, artist\, photographer and filmmaker Bill Daniel presents a one night "pop-up" show of black and white photographs documenting his participation in American underground subculture over the past 30 years. Included in the exhibit are images from the Texas skate punk scene in the 1980's\, graffiti art in San Francisco in the early 90's\, adventures on freight trains\, and documentation of countless art shows and film screenings from the basements and backyards of the American counterculture movement.  This event will also feature live performances from local bands The Drippers\, Pengo\, The Temptators and Martin Freeman. \n [source: Visual Studies Workshop website\, 2015-Nov-2]
URL:https://jayceland.com/blog/event/bill-daniel-tri-x-noise-photo-exhibit-and-book-release-the-drippers-pengo-the-temptators-martin-freeman-musical-performances/
LOCATION:Visual Studies Workshop\, 31 Prince St.\, Rochester\, New York\, 14607\, United States
CATEGORIES:JayceLand 2015-Nov-5
END:VEVENT
BEGIN:VEVENT
DTSTART;TZID=America/New_York:20151105T210500
DTEND;TZID=America/New_York:20151105T230800
DTSTAMP:20260424T133606
CREATED:20151028T180537Z
LAST-MODIFIED:20151028T180537Z
UID:6140-1446757500-1446764880@jayceland.com
SUMMARY:The Walk screening (2015-Nov-5 @ 9:05 p.m.)
DESCRIPTION:The Cinema will screen The Walk (Robert Zemeckis\, U.S. 2015\, 123 min.) "In 1974\, high-wire artist Philippe Petit recruits a team of people to help him realize his dream: to walk the immense void between the World Trade Center towers." [source: Cinema coming soon page\, 2015-Oct-28]
URL:https://jayceland.com/blog/event/the-walk-screening-2015-nov-5-905-p-m/
LOCATION:Cinema Theatre\, 957 S. Clinton Ave.\, Rochester\, New York\, 14620\, United States
CATEGORIES:JayceLand 2015-Nov-5
END:VEVENT
BEGIN:VEVENT
DTSTART;TZID=America/New_York:20151105T203000
DTEND;TZID=America/New_York:20151105T230000
DTSTAMP:20260424T133606
CREATED:20151104T185050Z
LAST-MODIFIED:20151104T185050Z
UID:6159-1446755400-1446764400@jayceland.com
SUMMARY:The Sun Ra Arkestra directed by Marshall Allen
DESCRIPTION:From the mid-1950s to his death\, Sun Ra led "The Arkestra\," an ensemble with an ever-changing name and flexible lineup\, although certain core members remained with the group through its various incarnations (Marshal Allen\, John Gilmore\, June Tyson\, and others). It was by turns called "The Solar Myth Arkestra\," "His Cosmo Discipline Arkestra\," the "Blue Universe Arkestra\," "Myth Science Arkestra\," "The Jet Set Omniverse Arkestra\," and many other variations. Sun Ra asserted that the ever-changing name of his ensemble reflected the ever-changing nature of his music. His mainstream success was limited\, but Sun Ra was a prolific recording artist and frequent live performer. His music ranged from keyboard solos to big bands of over 30 musicians and touched on virtually the entire history of jazz\, from ragtime to swing music\, from bebop to free jazz. He also used free improvisation and was one of the early musicians to make extensive use of electronic keyboards. \n  [source: Bop Shop website\, 2015-Nov-2]
URL:https://jayceland.com/blog/event/the-sun-ra-arkestra-directed-by-marshall-allen/
LOCATION:Lovin' Cup\, 300 Park Point Dr.\, Rochester\, New York\, 14623\, United States
CATEGORIES:JayceLand 2015-Nov-5
END:VEVENT
BEGIN:VEVENT
DTSTART;TZID=America/New_York:20151105T200000
DTEND;TZID=America/New_York:20151105T212300
DTSTAMP:20260424T133606
CREATED:20151104T185050Z
LAST-MODIFIED:20151104T185050Z
UID:6184-1446753600-1446758580@jayceland.com
SUMMARY:La maternelle (Children of Montmarte) screening
DESCRIPTION:The Dryden will screen La maternelle (Children of Montmarte\, Jean BenoÃ®t-Lévy\, Marie Epstein\, France 1933\, 83 min.\, 35mm\, French w/ subtitles).  \nSeemingly destined to a rosy future made of fancy dresses and evenings out with Paris high society\, Rose suddenly realizes the harshness of life when her bankrupt father dies and her fiancé leaves her. She settles for a modest existence\, taking a job as maid in a kindergarten in Montmartre\, home of working-class Parisians\, drug dealers\, prostitutes\, and social outcasts—but\, it will turn into a touching and rewarding experience. Directed and adapted by Jean BenoÃ®t-Lévy and Marie Epstein from Léon Frapié's Prix Goncourt—winning novel La maternelle (1904)\, Children of Montmartre is a most human representation of children's life in an educational institution in the best tradition of French realism between the wars. The film's insight into the children's inner world notably anticipates themes and suggestions of films such as Truffaut's The 400 Blows (1959) and Small Change (1976)\, De Sica's The Children Are Watching U.S. (1944)\, and Reed's The Fallen Idol (1948). A true rediscovery from the George Eastman Museum vaults\, this rare vintage print is not to be missed! Presented by Daniela CurrÃ²\, preservation manager\, Moving Image Department. \n [source: George Eastman Museum calendar\, 2015-Nov-2]
URL:https://jayceland.com/blog/event/la-maternelle-children-of-montmarte-screening/
LOCATION:Dryden Theatre at George Eastman Museum (formerly George Eastman House)\, 900 East Ave.\, Rochester\, New York\, 14607\, United States
CATEGORIES:JayceLand 2015-Nov-5
END:VEVENT
BEGIN:VEVENT
DTSTART;TZID=America/New_York:20151105T190000
DTEND;TZID=America/New_York:20151105T210100
DTSTAMP:20260424T133606
CREATED:20151028T180537Z
LAST-MODIFIED:20151028T180537Z
UID:6133-1446750000-1446757260@jayceland.com
SUMMARY:Everest screening (2015-Nov-5 @ 7 p.m.)
DESCRIPTION:The Cinema will screen Everest (Baltasar Kormákur\, U.S. / U.K. / Iceland 2015\, 121 min.) "A climbing expedition on Mt. Everest is devastated by a severe snow storm." [source: Cinema coming soon page\, 2015-Oct-28]
URL:https://jayceland.com/blog/event/everest-screening-2015-nov-5-7-p-m/
LOCATION:Cinema Theatre\, 957 S. Clinton Ave.\, Rochester\, New York\, 14620\, United States
CATEGORIES:JayceLand 2015-Nov-5
END:VEVENT
BEGIN:VEVENT
DTSTART;TZID=America/New_York:20151105T190000
DTEND;TZID=America/New_York:20151105T210000
DTSTAMP:20260424T133606
CREATED:20151028T180536Z
LAST-MODIFIED:20151028T180536Z
UID:6120-1446750000-1446757200@jayceland.com
SUMMARY:Grand Opening
DESCRIPTION:Cash bar and food. We'll have delicious selections from our charcuterie boards and shared plates menu. Entertainment for the evening will be the hilarious comedy stylings from our house troupe\, the Photo City Players. \n [source: City Newspaper events calendar\, 2015-Oct-26]
URL:https://jayceland.com/blog/event/grand-opening/
LOCATION:Photo City Improv and Comedy Club\, 543 Atlantic Ave.\, Rochester\, New York\, 14609\, United States
CATEGORIES:JayceLand 2015-Nov-5
END:VEVENT
BEGIN:VEVENT
DTSTART;TZID=America/New_York:20151105T163000
DTEND;TZID=America/New_York:20151105T183000
DTSTAMP:20260424T133606
CREATED:20151104T185050Z
LAST-MODIFIED:20151104T185050Z
UID:6190-1446741000-1446748200@jayceland.com
SUMMARY:Toys\, Trinkets\, and Photographs
DESCRIPTION:Designed by Sound Exchange's Resident Artist Intern Nikki Joshi\, "Toys\, Trinkets\, and Photographs" produces unexpected rhythms from popular toys and everyday objects- including newspapers\, playing cards\, flower pots\, and even bubble wrap- all integrated within thought-provoking photography installations from University of Rochester art students. \n [source: Facebook\, 2015-Nov-2]
URL:https://jayceland.com/blog/event/toys-trinkets-and-photographs/
LOCATION:Sage Art Center\, 835 Wilson Blvd.\, Rochester\, New York\, 14611\, United States
CATEGORIES:JayceLand 2015-Nov-5
END:VEVENT
END:VCALENDAR