BEGIN:VCALENDAR
VERSION:2.0
PRODID:-//JayceLand - ECPv6.15.20//NONSGML v1.0//EN
CALSCALE:GREGORIAN
METHOD:PUBLISH
X-ORIGINAL-URL:https://jayceland.com/blog
X-WR-CALDESC:Events for JayceLand
REFRESH-INTERVAL;VALUE=DURATION:PT1H
X-Robots-Tag:noindex
X-PUBLISHED-TTL:PT1H
BEGIN:VTIMEZONE
TZID:America/New_York
BEGIN:DAYLIGHT
TZOFFSETFROM:-0500
TZOFFSETTO:-0400
TZNAME:EDT
DTSTART:20140309T070000
END:DAYLIGHT
BEGIN:STANDARD
TZOFFSETFROM:-0400
TZOFFSETTO:-0500
TZNAME:EST
DTSTART:20141102T060000
END:STANDARD
BEGIN:DAYLIGHT
TZOFFSETFROM:-0500
TZOFFSETTO:-0400
TZNAME:EDT
DTSTART:20150308T070000
END:DAYLIGHT
BEGIN:STANDARD
TZOFFSETFROM:-0400
TZOFFSETTO:-0500
TZNAME:EST
DTSTART:20151101T060000
END:STANDARD
BEGIN:DAYLIGHT
TZOFFSETFROM:-0500
TZOFFSETTO:-0400
TZNAME:EDT
DTSTART:20160313T070000
END:DAYLIGHT
BEGIN:STANDARD
TZOFFSETFROM:-0400
TZOFFSETTO:-0500
TZNAME:EST
DTSTART:20161106T060000
END:STANDARD
END:VTIMEZONE
BEGIN:VEVENT
DTSTART;TZID=America/New_York:20150612T150000
DTEND;TZID=America/New_York:20150612T170000
DTSTAMP:20260423T121728
CREATED:20150610T142851Z
LAST-MODIFIED:20150610T142851Z
UID:4828-1434121200-1434128400@jayceland.com
SUMMARY:Crawdiddies CD Release Show
DESCRIPTION:Signal in the Static\, an all original album by The Crawdiddies is an expression of the active heartbeat in the Rochester music scene. Fully funded by fans\, family\, and friends\, this music springs from connection in the community. It features twelve songs that demonstrate the band's capacity for creating evocative grooves. From the carefree saunter of 'peppermint Tea' to the forthright release of 'misplaced Loyalty' the album addresses the forces and feelings that exist in all of us. \n [source: Bop Shop website\, 2015-Jun-8]
URL:https://jayceland.com/blog/event/crawdiddies-cd-release-show/
LOCATION:Bop Shop Records\, 1460 Monroe Ave.\, Rochester\, New York\, 14618\, United States
CATEGORIES:JayceLand 2015-Jun-11
END:VEVENT
BEGIN:VEVENT
DTSTART;TZID=America/New_York:20150611T210000
DTEND;TZID=America/New_York:20150611T230000
DTSTAMP:20260423T121728
CREATED:20150610T142850Z
LAST-MODIFIED:20150610T142850Z
UID:4822-1434056400-1434063600@jayceland.com
SUMMARY:Alberto Alaska. Bears and Company\, Periodc Table Of Elephants
DESCRIPTION:[source: Bug Jar calendar\, 2015-Jun-8]
URL:https://jayceland.com/blog/event/alberto-alaska-bears-and-company-periodc-table-of-elephants/
LOCATION:Bug Jar\, 219 Monroe Ave\, Rochester\, New York\, 14607\, United States
CATEGORIES:JayceLand 2015-Jun-11
END:VEVENT
BEGIN:VEVENT
DTSTART;TZID=America/New_York:20150611T205000
DTEND;TZID=America/New_York:20150611T222700
DTSTAMP:20260423T121728
CREATED:20150603T134217Z
LAST-MODIFIED:20150603T134217Z
UID:4805-1434055800-1434061620@jayceland.com
SUMMARY:While We're Young screening (2015-Jun-11 @ 8:50 p.m.)
DESCRIPTION:At 8:50 p.m.\, the Cinema will screen the surprisingly astute While We're Young (Noah Baumbach\, U.S. 2015\, 97 min.) "A middle-aged couple's career and marriage are overturned when a disarming young couple enters their lives." [source: Cinema coming soon page\, 2015-Jun-3]
URL:https://jayceland.com/blog/event/while-were-young-screening-2015-jun-11-850-p-m/
LOCATION:Cinema Theatre\, 957 S. Clinton Ave.\, Rochester\, New York\, 14620\, United States
CATEGORIES:JayceLand 2015-Jun-11
END:VEVENT
BEGIN:VEVENT
DTSTART;TZID=America/New_York:20150611T200000
DTEND;TZID=America/New_York:20150611T214800
DTSTAMP:20260423T121728
CREATED:20150610T142854Z
LAST-MODIFIED:20150610T142854Z
UID:4838-1434052800-1434059280@jayceland.com
SUMMARY:Mutter Küsters' Fahrt zum Himmel (Mother Küsters Goes to Heaven) screening
DESCRIPTION:The Dryden will screen Mutter Küsters' Fahrt zum Himmel (Mother Küsters Goes to Heaven\, R. W. Fassbinder\, West Germany 1975\, 108 min.\, 35mm\, German w/subtitles).  \nWhen mass layoffs are announced\, a worker first shoots his superior and then himself. His utterly helpless wife\, Mother Küsters (Brigitte Mira)\, faces a catastrophe. Her son (Armin Meier) and his wife (Irm Hermann) do not want to be publicly associated with the "factory killer." Mother Küsters's daughter Corinna (Ingrid Caven)\, singer in a nightclub\, uses the unexpected publicity to advance her career. A reporter (Gottfried John) writes a denunciatory article. The only people who support Mother Küsters are communists Karl (Karlheinz BÃ¶hm) and his wife Marianne (Margit Carstensen). Mother Küsters feels that they take her seriously\, but her hopes that her husband might be publicly rehabilitated are in vain. She turns to an "anarchist" (Matthias Fuchs) for help. An almost impossibly touching portrayal of a working-class woman entangled in web of unwanted media attention and politics. Fassbinder reluctantly shot a special\, more "optimistic" ending for American audiences\, but later fell in love with it\, claiming it to be far more poignant and effective. \n [source: Dryden website\, 2015-Jun-8]
URL:https://jayceland.com/blog/event/mutter-kusters-fahrt-zum-himmel-mother-kusters-goes-to-heaven-screening/
LOCATION:Dryden Theatre at George Eastman House\, 900 East Ave.\, Rochester\, New York\, 14607\, United States
CATEGORIES:JayceLand 2015-Jun-11
END:VEVENT
BEGIN:VEVENT
DTSTART;TZID=America/New_York:20150611T193000
DTEND;TZID=America/New_York:20150611T213000
DTSTAMP:20260423T121728
CREATED:20150603T134209Z
LAST-MODIFIED:20150603T134209Z
UID:4777-1434051000-1434058200@jayceland.com
SUMMARY:4000 miles performance (2015-Jun-11 @ 7:30 p.m.)
DESCRIPTION:The MuCCC will host a performance of 4000 miles by Amy Herzog.  \nWhen 21 year-old Leo suffers a major loss while on a cross-country bike trip\, he seeks solace from his feisty 81 year-old grandmother Vera in her West Village apartment. Over the course of a single month\, these roommates infuriate\, bewilder\, and ultimately reach each other. \n [source: MuCCC website\, 2015-Jun-1]
URL:https://jayceland.com/blog/event/4000-miles-performance-2015-jun-11-730-p-m/
LOCATION:MuCCC (Multi-use Community Cultural Center)\, 142 Atlantic Ave.\, Rochester\, New York\, 14607\, United States
CATEGORIES:JayceLand 2015-Jun-11
END:VEVENT
BEGIN:VEVENT
DTSTART;TZID=America/New_York:20150611T190000
DTEND;TZID=America/New_York:20150611T210000
DTSTAMP:20260423T121728
CREATED:20150610T142853Z
LAST-MODIFIED:20150610T142853Z
UID:4834-1434049200-1434056400@jayceland.com
SUMMARY:Richard Price lecture
DESCRIPTION:Richard Price is the author of nine novels\, including Clockers\, Freedomland\, Lush Life\, and most recently the New York Times bestseller The Whites. He was nominated for an Academy Award for his screenplay for The Color of Money and won an Edgar Award for his writing on the HBO series The Wire. \n [source: MAG website\, 2015-Jun-8]
URL:https://jayceland.com/blog/event/richard-price-lecture/
LOCATION:Memorial Art Gallery\, 500 University Ave.\, Rochester\, New York\, 14607\, United States
CATEGORIES:JayceLand 2015-Jun-11
END:VEVENT
BEGIN:VEVENT
DTSTART;TZID=America/New_York:20150611T190000
DTEND;TZID=America/New_York:20150611T204800
DTSTAMP:20260423T121728
CREATED:20150603T134216Z
LAST-MODIFIED:20150603T134216Z
UID:4799-1434049200-1434055680@jayceland.com
SUMMARY:Ex Machina screening (2015-Jun-11 @ 7 p.m.)
DESCRIPTION:Starting at 7 p.m.\, the Cinema will screen the very good sci-fi and othewise okay movie Ex Machina (Alex Garland\, U.S. 2015\, 108 min.) "A young programmer is selected to participate in a breakthrough experiment in artificial intelligence by evaluating the human qualities of a breathtaking female A.I." [source: Cinema coming soon page\, 2015-Jun-3]
URL:https://jayceland.com/blog/event/ex-machina-screening-2015-jun-11-7-p-m/
LOCATION:Cinema Theatre\, 957 S. Clinton Ave.\, Rochester\, New York\, 14620\, United States
CATEGORIES:JayceLand 2015-Jun-11
END:VEVENT
BEGIN:VEVENT
DTSTART;TZID=America/New_York:20150611T180000
DTEND;TZID=America/New_York:20150611T210000
DTSTAMP:20260423T121728
CREATED:20150610T142855Z
LAST-MODIFIED:20150610T142855Z
UID:4847-1434045600-1434056400@jayceland.com
SUMMARY:Primitive Living Skills and Outdoor Survival class
DESCRIPTION:The Rochester Brainery will be holding a class on Primitive Living Skills and Outdoor Survival in Tryon Park.  \nIn this class we'll learn concepts of how to keep warm in the cold and snow\, where to look for food and tips to finding your way home. Expect a few challenges to up the excitement factor because this is a three hour class will take place entirely outdoors at Tryon Park. Remember to bring warm\, rugged cloths\, wear your boots and hats and bring water/snacks to keep you fueled. We'll be sure to rekindle that wild spirit. \n [source: City Newspaper events calendar\, 2015-Jun-8]
URL:https://jayceland.com/blog/event/primitive-living-skills-and-outdoor-survival-class/
LOCATION:Tryon Park\, Tryon Pk.\, Rochester\, New York\, 14609\, United States
CATEGORIES:JayceLand 2015-Jun-11
END:VEVENT
BEGIN:VEVENT
DTSTART;TZID=America/New_York:20150611T121500
DTEND;TZID=America/New_York:20150611T130000
DTSTAMP:20260423T121728
CREATED:20150610T142855Z
LAST-MODIFIED:20150610T142855Z
UID:4846-1434024900-1434027600@jayceland.com
SUMMARY:Hochstein at High Falls: Cammy Enaharo
DESCRIPTION:Cammy Enaharo\, a ukulele musician from Rochester\, N.Y.\, who is looking to separate herself from the rest with her outstanding\, breathtaking ukulele performances. \n [source: City Newspaper events calendar\, 2015-Jun-8]
URL:https://jayceland.com/blog/event/hochstein-at-high-falls-cammy-enaharo/
LOCATION:Granite Mills Park\, 82 Browns Race\, Rochester\, New York\, 14605\, United States
CATEGORIES:JayceLand 2015-Jun-11
END:VEVENT
END:VCALENDAR