BEGIN:VCALENDAR
VERSION:2.0
PRODID:-//JayceLand - ECPv6.15.20//NONSGML v1.0//EN
CALSCALE:GREGORIAN
METHOD:PUBLISH
X-ORIGINAL-URL:https://jayceland.com/blog
X-WR-CALDESC:Events for JayceLand
REFRESH-INTERVAL;VALUE=DURATION:PT1H
X-Robots-Tag:noindex
X-PUBLISHED-TTL:PT1H
BEGIN:VTIMEZONE
TZID:America/New_York
BEGIN:DAYLIGHT
TZOFFSETFROM:-0500
TZOFFSETTO:-0400
TZNAME:EDT
DTSTART:20190310T070000
END:DAYLIGHT
BEGIN:STANDARD
TZOFFSETFROM:-0400
TZOFFSETTO:-0500
TZNAME:EST
DTSTART:20191103T060000
END:STANDARD
BEGIN:DAYLIGHT
TZOFFSETFROM:-0500
TZOFFSETTO:-0400
TZNAME:EDT
DTSTART:20200308T070000
END:DAYLIGHT
BEGIN:STANDARD
TZOFFSETFROM:-0400
TZOFFSETTO:-0500
TZNAME:EST
DTSTART:20201101T060000
END:STANDARD
BEGIN:DAYLIGHT
TZOFFSETFROM:-0500
TZOFFSETTO:-0400
TZNAME:EDT
DTSTART:20210314T070000
END:DAYLIGHT
BEGIN:STANDARD
TZOFFSETFROM:-0400
TZOFFSETTO:-0500
TZNAME:EST
DTSTART:20211107T060000
END:STANDARD
END:VTIMEZONE
BEGIN:VEVENT
DTSTART;TZID=America/New_York:20200324T121200
DTEND;TZID=America/New_York:20200324T121200
DTSTAMP:20260422T003113
CREATED:20200311T171128Z
LAST-MODIFIED:20200318T174610Z
UID:27996-1585051920-1585051920@jayceland.com
SUMMARY:Books Sandwiched In: Sanford R. Shapiro\, Esq. review of "Thomas Paine and the Clarion Call to American Independence" by Harlow Giles Unger
DESCRIPTION:In the Kate Gleason Auditorium of the Bausch and Lomb Library BuildingOnline only\, Sanford R. Shapiro\, Esq. will review Thomas Paine and the Clarion Call to American Independence by Harlow Giles Unger.  \nThomas Paine\, an Englishman who emigrated to the American colonies\, formed close friendships with Benjamin Franklin\, Thomas Jefferson\, and James Madison. His ideas helped shape the Declaration of Independence and the Bill of Rights\, and he was often called the "muse of the American Revolution." \n [source: Friends and Foundation of the Rochester Public Library brochure\, 2020-Mar-2]
URL:https://jayceland.com/blog/event/books-sandwiched-in-sanford-r-shapiro-esq-review-of-thomas-paine-and-the-clarion-call-to-american-independence-by-harlow-giles-unger/
LOCATION:Bausch and Lomb Library Building\, 110 South Ave.\, Rochester\, New York\, 14604\, United States
CATEGORIES:JayceLand 2020-Mar-19
END:VEVENT
END:VCALENDAR