BEGIN:VCALENDAR
VERSION:2.0
PRODID:-//JayceLand - ECPv6.15.20//NONSGML v1.0//EN
CALSCALE:GREGORIAN
METHOD:PUBLISH
X-WR-CALNAME:JayceLand
X-ORIGINAL-URL:https://jayceland.com/blog
X-WR-CALDESC:Events for JayceLand
REFRESH-INTERVAL;VALUE=DURATION:PT1H
X-Robots-Tag:noindex
X-PUBLISHED-TTL:PT1H
BEGIN:VTIMEZONE
TZID:America/New_York
BEGIN:DAYLIGHT
TZOFFSETFROM:-0500
TZOFFSETTO:-0400
TZNAME:EDT
DTSTART:20190310T070000
END:DAYLIGHT
BEGIN:STANDARD
TZOFFSETFROM:-0400
TZOFFSETTO:-0500
TZNAME:EST
DTSTART:20191103T060000
END:STANDARD
BEGIN:DAYLIGHT
TZOFFSETFROM:-0500
TZOFFSETTO:-0400
TZNAME:EDT
DTSTART:20200308T070000
END:DAYLIGHT
BEGIN:STANDARD
TZOFFSETFROM:-0400
TZOFFSETTO:-0500
TZNAME:EST
DTSTART:20201101T060000
END:STANDARD
BEGIN:DAYLIGHT
TZOFFSETFROM:-0500
TZOFFSETTO:-0400
TZNAME:EDT
DTSTART:20210314T070000
END:DAYLIGHT
BEGIN:STANDARD
TZOFFSETFROM:-0400
TZOFFSETTO:-0500
TZNAME:EST
DTSTART:20211107T060000
END:STANDARD
END:VTIMEZONE
BEGIN:VEVENT
DTSTART;TZID=America/New_York:20200312T170000
DTEND;TZID=America/New_York:20200312T190000
DTSTAMP:20260425T213642
CREATED:20200311T171128Z
LAST-MODIFIED:20200311T171128Z
UID:27993-1584032400-1584039600@jayceland.com
SUMMARY:Mayor's Open Door Office Hours
DESCRIPTION:Mayor Lovely Warren will conduct evening public office hours to give constituents the opportunity to access government outside of normal business hours. \n [source: City of Rochester website\, 2020-Mar-11]
URL:https://jayceland.com/blog/event/mayors-open-door-office-hours/
LOCATION:City Hall\, 30 Church St\, Rochester\, New York\, 14614\, United States
CATEGORIES:JayceLand 2020-Mar-12
END:VEVENT
BEGIN:VEVENT
DTSTART;TZID=America/New_York:20200312T183000
DTEND;TZID=America/New_York:20200312T193000
DTSTAMP:20260425T213642
CREATED:20200311T171127Z
LAST-MODIFIED:20200311T171127Z
UID:27959-1584037800-1584041400@jayceland.com
SUMMARY:Police Accountability Board Public Meeting
DESCRIPTION:[source: Highland Park Neighborhood Association website\, 2020-Mar-9]
URL:https://jayceland.com/blog/event/police-accountability-board-public-meeting/
LOCATION:City Hall\, 30 Church St\, Rochester\, New York\, 14614\, United States
CATEGORIES:JayceLand 2020-Mar-12
END:VEVENT
BEGIN:VEVENT
DTSTART;TZID=America/New_York:20200312T190000
DTEND;TZID=America/New_York:20200312T205300
DTSTAMP:20260425T213642
CREATED:20200304T184814Z
LAST-MODIFIED:20200304T184814Z
UID:27890-1584039600-1584046380@jayceland.com
SUMMARY:The Gentlemen screening (2020-Mar-12 @ 7 p.m.)
DESCRIPTION:The Cinema will screen The Gentlemen (Guy Ritchie\, U.S. 2019\, 113 min.) "An American expat tries to sell off his highly profitable marijuana empire in London\, triggering plots\, schemes\, bribery and blackmail in an attempt to steal his domain out from under him." [source: Cinema Theater coming soon page\, 2020-Mar-4]
URL:https://jayceland.com/blog/event/the-gentlemen-screening-2020-mar-12-7-p-m/
LOCATION:Cinema Theatre\, 957 S. Clinton Ave.\, Rochester\, New York\, 14620\, United States
CATEGORIES:JayceLand 2020-Mar-12
END:VEVENT
BEGIN:VEVENT
DTSTART;TZID=America/New_York:20200312T193000
DTEND;TZID=America/New_York:20200312T210000
DTSTAMP:20260425T213642
CREATED:20200311T171127Z
LAST-MODIFIED:20200311T171127Z
UID:27968-1584041400-1584046800@jayceland.com
SUMMARY:Faizon Love comic performance (2020-Mar-12 @ 7:30 p.m.)
DESCRIPTION:Faizon Love\, best known for roles in the films Friday\, Elf\, The Replacements\, Made\, and Couples Retreat was raised in San Diego\, California and Newark\, New Jersey because of his father's career in the United States Navy. Love got his start as a stand-up comedian and made his acting debut in an Off-Broadway at the age of 19. His motion-picture debut\, Bebe's Kids\, had him providing the voice of comedian Robin Harris\, who died before production began on the film; Love offered a close vocal impression of Harris. He then had a role in The Meteor Man\, starring Robert Townsend. Townsend then cast Love in a co-starring role on his sitcom The Parent 'Hood. \n [source: Comedy @ the Carlson website\, 2020-Mar-9]
URL:https://jayceland.com/blog/event/faizon-love-comic-performance-2020-mar-12-730-p-m/
LOCATION:Comedy at The Carlson\, 50 Carlson Rd.\, Rochester\, New York\, 14610\, United States
CATEGORIES:JayceLand 2020-Mar-12
END:VEVENT
BEGIN:VEVENT
DTSTART;TZID=America/New_York:20200312T200000
DTEND;TZID=America/New_York:20200312T220000
DTSTAMP:20260425T213642
CREATED:20200311T171127Z
LAST-MODIFIED:20200311T171127Z
UID:27956-1584043200-1584050400@jayceland.com
SUMMARY:Steve Swell's Kende Dreams musical performance
DESCRIPTION:Steve Swell\, born in Newark\, New Jersey\, has been living\, working and performing in New York City his entire adult life. In the mid-seventies he studied with Roswell Rudd\, Grachan Moncur III and Jimmy Knepper after attending Jersey City State Teacher's College. He's toured and recorded with such diverse jazz personalities as mainstreamers Lionel Hampton and Buddy Rich\, to so-called outsiders like Anthony Braxton and Jemeel Moondoc. \n [source: Bop Shop website\, 2020-Mar-9]
URL:https://jayceland.com/blog/event/steve-swells-kende-dreams-musical-performance/
LOCATION:Bop Shop Records\, 1460 Monroe Ave.\, Rochester\, New York\, 14618\, United States
CATEGORIES:JayceLand 2020-Mar-12
END:VEVENT
BEGIN:VEVENT
DTSTART;TZID=America/New_York:20200312T205500
DTEND;TZID=America/New_York:20200312T223500
DTSTAMP:20260425T213642
CREATED:20200304T184814Z
LAST-MODIFIED:20200304T184814Z
UID:27897-1584046500-1584052500@jayceland.com
SUMMARY:Once Were Brothers: Robbie Robertson and The Band screening (2020-Mar-12 @ 8:55 p.m.)
DESCRIPTION:The Cinema will screen Once Were Brothers: Robbie Robertson and The Band (Daniel Roher\, Canada / U.S. 2019\, 100 min.) "A confessional\, cautionary\, and occasionally humorous tale of Robbie Robertson's young life and the creation of one of the most enduring groups in the history of popular music\, The Band." [source: Cinema Theater coming soon page\, 2020-Mar-4]
URL:https://jayceland.com/blog/event/once-were-brothers-robbie-robertson-and-the-band-screening-2020-mar-12-855-p-m/
LOCATION:Cinema Theatre\, 957 S. Clinton Ave.\, Rochester\, New York\, 14620\, United States
CATEGORIES:JayceLand 2020-Mar-12
END:VEVENT
BEGIN:VEVENT
DTSTART;TZID=America/New_York:20200312T210000
DTEND;TZID=America/New_York:20200312T230000
DTSTAMP:20260425T213642
CREATED:20200311T171127Z
LAST-MODIFIED:20200311T171127Z
UID:27949-1584046800-1584054000@jayceland.com
SUMMARY:Forevers\, Frame and Mantle\, Dogs in Stereo\, Stupid November musical performances
DESCRIPTION:[source: Facebook\, 2020-Mar-9]
URL:https://jayceland.com/blog/event/forevers-frame-and-mantle-dogs-in-stereo-stupid-november-musical-performances/
LOCATION:Bug Jar\, 219 Monroe Ave\, Rochester\, New York\, 14607\, United States
CATEGORIES:JayceLand 2020-Mar-12
END:VEVENT
END:VCALENDAR