BEGIN:VCALENDAR
VERSION:2.0
PRODID:-//JayceLand - ECPv6.15.20//NONSGML v1.0//EN
CALSCALE:GREGORIAN
METHOD:PUBLISH
X-WR-CALNAME:JayceLand
X-ORIGINAL-URL:https://jayceland.com/blog
X-WR-CALDESC:Events for JayceLand
REFRESH-INTERVAL;VALUE=DURATION:PT1H
X-Robots-Tag:noindex
X-PUBLISHED-TTL:PT1H
BEGIN:VTIMEZONE
TZID:America/New_York
BEGIN:DAYLIGHT
TZOFFSETFROM:-0500
TZOFFSETTO:-0400
TZNAME:EDT
DTSTART:20190310T070000
END:DAYLIGHT
BEGIN:STANDARD
TZOFFSETFROM:-0400
TZOFFSETTO:-0500
TZNAME:EST
DTSTART:20191103T060000
END:STANDARD
BEGIN:DAYLIGHT
TZOFFSETFROM:-0500
TZOFFSETTO:-0400
TZNAME:EDT
DTSTART:20200308T070000
END:DAYLIGHT
BEGIN:STANDARD
TZOFFSETFROM:-0400
TZOFFSETTO:-0500
TZNAME:EST
DTSTART:20201101T060000
END:STANDARD
BEGIN:DAYLIGHT
TZOFFSETFROM:-0500
TZOFFSETTO:-0400
TZNAME:EDT
DTSTART:20210314T070000
END:DAYLIGHT
BEGIN:STANDARD
TZOFFSETFROM:-0400
TZOFFSETTO:-0500
TZNAME:EST
DTSTART:20211107T060000
END:STANDARD
END:VTIMEZONE
BEGIN:VEVENT
DTSTART;TZID=America/New_York:20200311T190000
DTEND;TZID=America/New_York:20200311T205300
DTSTAMP:20260425T213632
CREATED:20200304T184814Z
LAST-MODIFIED:20200304T184814Z
UID:27889-1583953200-1583959980@jayceland.com
SUMMARY:The Gentlemen screening (2020-Mar-11 @ 7 p.m.)
DESCRIPTION:The Cinema will screen The Gentlemen (Guy Ritchie\, U.S. 2019\, 113 min.) "An American expat tries to sell off his highly profitable marijuana empire in London\, triggering plots\, schemes\, bribery and blackmail in an attempt to steal his domain out from under him." [source: Cinema Theater coming soon page\, 2020-Mar-4]
URL:https://jayceland.com/blog/event/the-gentlemen-screening-2020-mar-11-7-p-m/
LOCATION:Cinema Theatre\, 957 S. Clinton Ave.\, Rochester\, New York\, 14620\, United States
CATEGORIES:JayceLand 2020-Mar-5
END:VEVENT
BEGIN:VEVENT
DTSTART;TZID=America/New_York:20200311T190000
DTEND;TZID=America/New_York:20200311T210000
DTSTAMP:20260425T213632
CREATED:20200304T184813Z
LAST-MODIFIED:20200304T184813Z
UID:27866-1583953200-1583960400@jayceland.com
SUMMARY:Media Underground I: Naked Eye Cinema
DESCRIPTION:Naked Eye Cinema was the film program of ABC No Rio\, the infamous community activist space in NYC's Lower East Side. Organized by a group of artists including Jack Waters and Peter Cramer\, Naked Eye Cinema was among many collectives working at the intersection of art and activism in the 1980's and 1990's. Join us for a showcase of the film and video work that these artist collectives have created to document the AIDS crisis\, anti-corporate politics and the avant-garde scene of downtown New York.   \nCurator Louis Chavez in attendance. \n\n [source: Visual Studies Workshop website\, 2020-Mar-2]
URL:https://jayceland.com/blog/event/media-underground-i-naked-eye-cinema/
LOCATION:Visual Studies Workshop\, 31 Prince St.\, Rochester\, New York\, 14607\, United States
CATEGORIES:JayceLand 2020-Mar-5
END:VEVENT
BEGIN:VEVENT
DTSTART;TZID=America/New_York:20200311T200000
DTEND;TZID=America/New_York:20200311T220000
DTSTAMP:20260425T213632
CREATED:20200304T184813Z
LAST-MODIFIED:20200304T184813Z
UID:27860-1583956800-1583964000@jayceland.com
SUMMARY:Pathology\, Pyrexia\, Sulaco\, Dissonant Seepage musical performances
DESCRIPTION:[source: Facebook\, 2020-Mar-2]
URL:https://jayceland.com/blog/event/pathology-pyrexia-sulaco-dissonant-seepage-musical-performances/
LOCATION:Bug Jar\, 219 Monroe Ave\, Rochester\, New York\, 14607\, United States
CATEGORIES:JayceLand 2020-Mar-5
END:VEVENT
BEGIN:VEVENT
DTSTART;TZID=America/New_York:20200311T205500
DTEND;TZID=America/New_York:20200311T223500
DTSTAMP:20260425T213632
CREATED:20200304T184814Z
LAST-MODIFIED:20200304T184814Z
UID:27896-1583960100-1583966100@jayceland.com
SUMMARY:Once Were Brothers: Robbie Robertson and The Band screening (2020-Mar-11 @ 8:55 p.m.)
DESCRIPTION:The Cinema will screen Once Were Brothers: Robbie Robertson and The Band (Daniel Roher\, Canada / U.S. 2019\, 100 min.) "A confessional\, cautionary\, and occasionally humorous tale of Robbie Robertson's young life and the creation of one of the most enduring groups in the history of popular music\, The Band." [source: Cinema Theater coming soon page\, 2020-Mar-4]
URL:https://jayceland.com/blog/event/once-were-brothers-robbie-robertson-and-the-band-screening-2020-mar-11-855-p-m/
LOCATION:Cinema Theatre\, 957 S. Clinton Ave.\, Rochester\, New York\, 14620\, United States
CATEGORIES:JayceLand 2020-Mar-5
END:VEVENT
END:VCALENDAR