BEGIN:VCALENDAR
VERSION:2.0
PRODID:-//JayceLand - ECPv6.15.20//NONSGML v1.0//EN
CALSCALE:GREGORIAN
METHOD:PUBLISH
X-WR-CALNAME:JayceLand
X-ORIGINAL-URL:https://jayceland.com/blog
X-WR-CALDESC:Events for JayceLand
REFRESH-INTERVAL;VALUE=DURATION:PT1H
X-Robots-Tag:noindex
X-PUBLISHED-TTL:PT1H
BEGIN:VTIMEZONE
TZID:America/New_York
BEGIN:DAYLIGHT
TZOFFSETFROM:-0500
TZOFFSETTO:-0400
TZNAME:EDT
DTSTART:20190310T070000
END:DAYLIGHT
BEGIN:STANDARD
TZOFFSETFROM:-0400
TZOFFSETTO:-0500
TZNAME:EST
DTSTART:20191103T060000
END:STANDARD
BEGIN:DAYLIGHT
TZOFFSETFROM:-0500
TZOFFSETTO:-0400
TZNAME:EDT
DTSTART:20200308T070000
END:DAYLIGHT
BEGIN:STANDARD
TZOFFSETFROM:-0400
TZOFFSETTO:-0500
TZNAME:EST
DTSTART:20201101T060000
END:STANDARD
BEGIN:DAYLIGHT
TZOFFSETFROM:-0500
TZOFFSETTO:-0400
TZNAME:EDT
DTSTART:20210314T070000
END:DAYLIGHT
BEGIN:STANDARD
TZOFFSETFROM:-0400
TZOFFSETTO:-0500
TZNAME:EST
DTSTART:20211107T060000
END:STANDARD
END:VTIMEZONE
BEGIN:VEVENT
DTSTART;TZID=America/New_York:20200119T160000
DTEND;TZID=America/New_York:20200119T180500
DTSTAMP:20260419T173123
CREATED:20200115T194356Z
LAST-MODIFIED:20200115T194356Z
UID:27324-1579449600-1579457100@jayceland.com
SUMMARY:Harriet screening (2020-Jan-19 @ 4 p.m.)
DESCRIPTION:The Cinema will screen Harriet (Kasi Lemmons\, U.S. 2019\, 125 min.) "The extraordinary tale of Harriet Tubman's escape from slavery and transformation into one of America's greatest heroes\, whose courage\, ingenuity\, and tenacity freed hundreds of slaves and changed the course of history." [source: Cinema Theater coming soon page\, 2020-Jan-15]
URL:https://jayceland.com/blog/event/harriet-screening-2020-jan-19-4-p-m/
LOCATION:Cinema Theatre\, 957 S. Clinton Ave.\, Rochester\, New York\, 14620\, United States
CATEGORIES:JayceLand 2020-Jan-16
END:VEVENT
BEGIN:VEVENT
DTSTART;TZID=America/New_York:20200119T173000
DTEND;TZID=America/New_York:20200119T200000
DTSTAMP:20260419T173123
CREATED:20200115T194355Z
LAST-MODIFIED:20200115T194355Z
UID:27308-1579455000-1579464000@jayceland.com
SUMMARY:Vegan Potluck; Jonell Belcher-Chudyk: The Story of Mockingbird Farm
DESCRIPTION:At Brighton Town Park\, Jonell Belcher-Chudyk will present The Story of Mockingbird Farm after a Vegan Potluck ("bring dish and place setting"). [source: Rochester City Newspaper events calendar\, 2020-Jan-15]
URL:https://jayceland.com/blog/event/vegan-potluck-jonell-belcher-chudyk-the-story-of-mockingbird-farm/
LOCATION:Brighton Town Park\, 777 Westfall Rd.\, Rochester\, New York\, 14620\, United States
CATEGORIES:JayceLand 2020-Jan-16
END:VEVENT
BEGIN:VEVENT
DTSTART;TZID=America/New_York:20200119T180000
DTEND;TZID=America/New_York:20200119T210000
DTSTAMP:20260419T173123
CREATED:20200115T194355Z
LAST-MODIFIED:20200115T194355Z
UID:27294-1579456800-1579467600@jayceland.com
SUMMARY:Dinner with the Community (2020-Jan-19 @ 6 p.m.)
DESCRIPTION:Let's connect\, talk\, mourn\, celebrate\, exchange stories\, create ideas\, dream\, and get to know each other over a nice shared meal! Participation is donation based\, just give what you can. Everyone is welcome — all we ask is that you bring curiosity\, respect\, and an appetite! \n [source: M.K. Gandhi Institute for Nonviolence website\, 2020-Jan-13]
URL:https://jayceland.com/blog/event/dinner-with-the-community-2020-jan-19-6-p-m/
LOCATION:Gandhi Institute (M.K. Gandhi Institute for Nonviolence)\, 929 S. Plymouth Ave.\, Rochester\, New York\, 14608\, United States
CATEGORIES:JayceLand 2020-Jan-16
END:VEVENT
BEGIN:VEVENT
DTSTART;TZID=America/New_York:20200119T190000
DTEND;TZID=America/New_York:20200119T204900
DTSTAMP:20260419T173123
CREATED:20200115T194356Z
LAST-MODIFIED:20200115T194356Z
UID:27311-1579460400-1579466940@jayceland.com
SUMMARY:A Beautiful Day in the Neighborhood screening (2020-Jan-19 @ 7 p.m.)
DESCRIPTION:The Cinema will screen A Beautiful Day in the Neighborhood (Marielle Heller\, China / U.S. 2019\, 109 min.)  \nBased on the true story of a real-life friendship between Fred Rogers and journalist Tom Junod. \n [source: Cinema Theater coming soon page\, 2020-Jan-15]
URL:https://jayceland.com/blog/event/a-beautiful-day-in-the-neighborhood-screening-2020-jan-19-7-p-m/
LOCATION:Cinema Theatre\, 957 S. Clinton Ave.\, Rochester\, New York\, 14620\, United States
CATEGORIES:JayceLand 2020-Jan-16
END:VEVENT
BEGIN:VEVENT
DTSTART;TZID=America/New_York:20200119T205000
DTEND;TZID=America/New_York:20200119T230700
DTSTAMP:20260419T173123
CREATED:20200115T194356Z
LAST-MODIFIED:20200115T194356Z
UID:27317-1579467000-1579475220@jayceland.com
SUMMARY:A Marriage Story screening (2020-Jan-19 @ 8:50 p.m.)
DESCRIPTION:The Cinema will screen A Marriage Story (Noah Baumbach\, U.K. / U.S. 2019\, 137 min.) "Noah Baumbach's incisive and compassionate look at a marriage breaking up and a family staying together." [source: Cinema Theater coming soon page\, 2020-Jan-15]
URL:https://jayceland.com/blog/event/a-marriage-story-screening-2020-jan-19-850-p-m/
LOCATION:Cinema Theatre\, 957 S. Clinton Ave.\, Rochester\, New York\, 14620\, United States
CATEGORIES:JayceLand 2020-Jan-16
END:VEVENT
END:VCALENDAR