BEGIN:VCALENDAR
VERSION:2.0
PRODID:-//JayceLand - ECPv6.15.20//NONSGML v1.0//EN
CALSCALE:GREGORIAN
METHOD:PUBLISH
X-WR-CALNAME:JayceLand
X-ORIGINAL-URL:https://jayceland.com/blog
X-WR-CALDESC:Events for JayceLand
REFRESH-INTERVAL;VALUE=DURATION:PT1H
X-Robots-Tag:noindex
X-PUBLISHED-TTL:PT1H
BEGIN:VTIMEZONE
TZID:America/New_York
BEGIN:DAYLIGHT
TZOFFSETFROM:-0500
TZOFFSETTO:-0400
TZNAME:EDT
DTSTART:20190310T070000
END:DAYLIGHT
BEGIN:STANDARD
TZOFFSETFROM:-0400
TZOFFSETTO:-0500
TZNAME:EST
DTSTART:20191103T060000
END:STANDARD
BEGIN:DAYLIGHT
TZOFFSETFROM:-0500
TZOFFSETTO:-0400
TZNAME:EDT
DTSTART:20200308T070000
END:DAYLIGHT
BEGIN:STANDARD
TZOFFSETFROM:-0400
TZOFFSETTO:-0500
TZNAME:EST
DTSTART:20201101T060000
END:STANDARD
BEGIN:DAYLIGHT
TZOFFSETFROM:-0500
TZOFFSETTO:-0400
TZNAME:EDT
DTSTART:20210314T070000
END:DAYLIGHT
BEGIN:STANDARD
TZOFFSETFROM:-0400
TZOFFSETTO:-0500
TZNAME:EST
DTSTART:20211107T060000
END:STANDARD
END:VTIMEZONE
BEGIN:VEVENT
DTSTART;TZID=America/New_York:20200117T180000
DTEND;TZID=America/New_York:20200117T200000
DTSTAMP:20260423T043759
CREATED:20200115T194355Z
LAST-MODIFIED:20200115T194355Z
UID:27296-1579284000-1579291200@jayceland.com
SUMMARY:Bowie Birthday Bash (2020-Jan-17 @ 6 p.m.)
DESCRIPTION:[source: Rochester City Newspaper events calendar\, 2020-Jan-13]
URL:https://jayceland.com/blog/event/bowie-birthday-bash-2020-jan-17-6-p-m/
LOCATION:Memorial Art Gallery\, 500 University Ave.\, Rochester\, New York\, 14607\, United States
CATEGORIES:JayceLand 2020-Jan-16
END:VEVENT
BEGIN:VEVENT
DTSTART;TZID=America/New_York:20200117T190000
DTEND;TZID=America/New_York:20200117T204900
DTSTAMP:20260423T043759
CREATED:20200115T194355Z
LAST-MODIFIED:20200115T194355Z
UID:27309-1579287600-1579294140@jayceland.com
SUMMARY:A Beautiful Day in the Neighborhood screening (2020-Jan-17 @ 7 p.m.)
DESCRIPTION:The Cinema will screen A Beautiful Day in the Neighborhood (Marielle Heller\, China / U.S. 2019\, 109 min.)  \nBased on the true story of a real-life friendship between Fred Rogers and journalist Tom Junod. \n [source: Cinema Theater coming soon page\, 2020-Jan-15]
URL:https://jayceland.com/blog/event/a-beautiful-day-in-the-neighborhood-screening-2020-jan-17-7-p-m/
LOCATION:Cinema Theatre\, 957 S. Clinton Ave.\, Rochester\, New York\, 14620\, United States
CATEGORIES:JayceLand 2020-Jan-16
END:VEVENT
BEGIN:VEVENT
DTSTART;TZID=America/New_York:20200117T190000
DTEND;TZID=America/New_York:20200117T210000
DTSTAMP:20260423T043759
CREATED:20200115T194355Z
LAST-MODIFIED:20200115T194355Z
UID:27292-1579287600-1579294800@jayceland.com
SUMMARY:Larry Fox
DESCRIPTION:Larry is a purveyor of Americana with roots in old/classic country and bluegrass. \n [source: Coffee Connection website\, 2020-Jan-13]
URL:https://jayceland.com/blog/event/larry-fox/
LOCATION:Greenhouse Cafe\, 2271 E. Main St.\, Rochester\, New York\, 14609\, United States
CATEGORIES:JayceLand 2020-Jan-16
END:VEVENT
BEGIN:VEVENT
DTSTART;TZID=America/New_York:20200117T193000
DTEND;TZID=America/New_York:20200117T210000
DTSTAMP:20260423T043759
CREATED:20200115T194355Z
LAST-MODIFIED:20200115T194355Z
UID:27300-1579289400-1579294800@jayceland.com
SUMMARY:Trevor Wallace comic performance: Stay Twisted Tour (2020-Jan-17 @ 7:30 p.m.)
DESCRIPTION:Trevor Wallace is a stand-up comedian and actor based in Los Angeles. Wallace can be seen just about everywhere on the internet and has collectively built a digital thumbprint of over 300 million views since 2018. Wallace is also an original cast member of the wildly popular YouTube channel\, All Def Digital\, and has also been featured on Comedy Central\, Buzzfeed\, Unilad\, Funny or Die\, Super Deluxe\, Fusion TV\, IFC\, Worldstar Hip Hop\, 9GAG\, Reddit & MTV2. Wallace performs at comedy clubs and colleges all over the country with some of the biggest names\, although his biggest accomplishment is being told he has "beautiful hair" by Todd Glass. \n [source: Comedy @ the Carlson website\, 2020-Jan-13]
URL:https://jayceland.com/blog/event/trevor-wallace-comic-performance-stay-twisted-tour-2020-jan-17-730-p-m/
LOCATION:Comedy at The Carlson\, 50 Carlson Rd.\, Rochester\, New York\, 14610\, United States
CATEGORIES:JayceLand 2020-Jan-16
END:VEVENT
BEGIN:VEVENT
DTSTART;TZID=America/New_York:20200117T205000
DTEND;TZID=America/New_York:20200117T230700
DTSTAMP:20260423T043759
CREATED:20200115T194356Z
LAST-MODIFIED:20200115T194356Z
UID:27315-1579294200-1579302420@jayceland.com
SUMMARY:A Marriage Story screening (2020-Jan-17 @ 8:50 p.m.)
DESCRIPTION:The Cinema will screen A Marriage Story (Noah Baumbach\, U.K. / U.S. 2019\, 137 min.) "Noah Baumbach's incisive and compassionate look at a marriage breaking up and a family staying together." [source: Cinema Theater coming soon page\, 2020-Jan-15]
URL:https://jayceland.com/blog/event/a-marriage-story-screening-2020-jan-17-850-p-m/
LOCATION:Cinema Theatre\, 957 S. Clinton Ave.\, Rochester\, New York\, 14620\, United States
CATEGORIES:JayceLand 2020-Jan-16
END:VEVENT
BEGIN:VEVENT
DTSTART;TZID=America/New_York:20200117T220000
DTEND;TZID=America/New_York:20200117T233000
DTSTAMP:20260423T043759
CREATED:20200115T194355Z
LAST-MODIFIED:20200115T194355Z
UID:27302-1579298400-1579303800@jayceland.com
SUMMARY:Trevor Wallace comic performance: Stay Twisted Tour (2020-Jan-17 @ 10 p.m.)
DESCRIPTION:Trevor Wallace is a stand-up comedian and actor based in Los Angeles. Wallace can be seen just about everywhere on the internet and has collectively built a digital thumbprint of over 300 million views since 2018. Wallace is also an original cast member of the wildly popular YouTube channel\, All Def Digital\, and has also been featured on Comedy Central\, Buzzfeed\, Unilad\, Funny or Die\, Super Deluxe\, Fusion TV\, IFC\, Worldstar Hip Hop\, 9GAG\, Reddit & MTV2. Wallace performs at comedy clubs and colleges all over the country with some of the biggest names\, although his biggest accomplishment is being told he has "beautiful hair" by Todd Glass. \n [source: Comedy @ the Carlson website\, 2020-Jan-13]
URL:https://jayceland.com/blog/event/trevor-wallace-comic-performance-stay-twisted-tour-2020-jan-17-10-p-m/
LOCATION:Comedy at The Carlson\, 50 Carlson Rd.\, Rochester\, New York\, 14610\, United States
CATEGORIES:JayceLand 2020-Jan-16
END:VEVENT
END:VCALENDAR