BEGIN:VCALENDAR
VERSION:2.0
PRODID:-//JayceLand - ECPv6.15.20//NONSGML v1.0//EN
CALSCALE:GREGORIAN
METHOD:PUBLISH
X-WR-CALNAME:JayceLand
X-ORIGINAL-URL:https://jayceland.com/blog
X-WR-CALDESC:Events for JayceLand
REFRESH-INTERVAL;VALUE=DURATION:PT1H
X-Robots-Tag:noindex
X-PUBLISHED-TTL:PT1H
BEGIN:VTIMEZONE
TZID:America/New_York
BEGIN:DAYLIGHT
TZOFFSETFROM:-0500
TZOFFSETTO:-0400
TZNAME:EDT
DTSTART:20190310T070000
END:DAYLIGHT
BEGIN:STANDARD
TZOFFSETFROM:-0400
TZOFFSETTO:-0500
TZNAME:EST
DTSTART:20191103T060000
END:STANDARD
BEGIN:DAYLIGHT
TZOFFSETFROM:-0500
TZOFFSETTO:-0400
TZNAME:EDT
DTSTART:20200308T070000
END:DAYLIGHT
BEGIN:STANDARD
TZOFFSETFROM:-0400
TZOFFSETTO:-0500
TZNAME:EST
DTSTART:20201101T060000
END:STANDARD
BEGIN:DAYLIGHT
TZOFFSETFROM:-0500
TZOFFSETTO:-0400
TZNAME:EDT
DTSTART:20210314T070000
END:DAYLIGHT
BEGIN:STANDARD
TZOFFSETFROM:-0400
TZOFFSETTO:-0500
TZNAME:EST
DTSTART:20211107T060000
END:STANDARD
END:VTIMEZONE
BEGIN:VEVENT
DTSTART;TZID=America/New_York:20200110T170000
DTEND;TZID=America/New_York:20200110T190000
DTSTAMP:20260419T170624
CREATED:20200108T180449Z
LAST-MODIFIED:20200108T180449Z
UID:27217-1578675600-1578682800@jayceland.com
SUMMARY:Winter Warmth Souper Bowl Benefit
DESCRIPTION:[source: Rochester City Newspaper events calendar\, 2020-Jan-6]
URL:https://jayceland.com/blog/event/winter-warmth-souper-bowl-benefit/
LOCATION:Cat Clay\, 1115 E. Main St. Hungerford Building\, Suite #242\, Rochester\, New York\, United States
CATEGORIES:JayceLand 2020-Jan-9
END:VEVENT
BEGIN:VEVENT
DTSTART;TZID=America/New_York:20200110T180000
DTEND;TZID=America/New_York:20200110T210000
DTSTAMP:20260419T170624
CREATED:20200108T180449Z
LAST-MODIFIED:20200108T180449Z
UID:27216-1578679200-1578690000@jayceland.com
SUMMARY:Opening Reception: Eye-to-Eye
DESCRIPTION:Flower City Arts Center will host an Opening Reception for Eye-to-Eye\, on display through February 29. [source: Flower City Arts Center website\, 2020-Jan-6]
URL:https://jayceland.com/blog/event/opening-reception-eye-to-eye/
LOCATION:Flower City Arts Center\, 713 Monroe Ave.\, Rochester\, New York\, 14607\, United States
CATEGORIES:JayceLand 2020-Jan-9
END:VEVENT
BEGIN:VEVENT
DTSTART;TZID=America/New_York:20200110T190000
DTEND;TZID=America/New_York:20200110T210000
DTSTAMP:20260419T170624
CREATED:20200108T180449Z
LAST-MODIFIED:20200108T180449Z
UID:27210-1578682800-1578690000@jayceland.com
SUMMARY:Patrick Glantz Acoustic musical performance
DESCRIPTION:Patrick is a guitarist and songwriter based in Rochester\, NY. Well versed in a variety of genres\, Patrick has more than 15 years of experience performing with different local groups and as a solo artist\, blending rich acoustic interpretations of classic songs with a virtuosic ability to navigate the fretboard. \n [source: Coffee Connection website\, 2020-Jan-6]
URL:https://jayceland.com/blog/event/patrick-glantz-acoustic-musical-performance/
LOCATION:Greenhouse Cafe\, 2271 E. Main St.\, Rochester\, New York\, 14609\, United States
CATEGORIES:JayceLand 2020-Jan-9
END:VEVENT
BEGIN:VEVENT
DTSTART;TZID=America/New_York:20200110T190000
DTEND;TZID=America/New_York:20200110T211100
DTSTAMP:20260419T170624
CREATED:20200108T180449Z
LAST-MODIFIED:20200108T180449Z
UID:27226-1578682800-1578690660@jayceland.com
SUMMARY:Richard Jewell screening (2020-Jan-10 @ 7 p.m.)
DESCRIPTION:The Cinema will screen Richard Jewell (Clint Eastwood\, U.S. 2019\, 131 min.) "American security guard Richard Jewell saves thousands of lives from an exploding bomb at the 1996 Olympics\, but is vilified by journalists and the press who falsely reported that he was a terrorist." [source: Cinema Theater coming soon page\, 2020-Jan-8]
URL:https://jayceland.com/blog/event/richard-jewell-screening-2020-jan-10-7-p-m/
LOCATION:Cinema Theatre\, 957 S. Clinton Ave.\, Rochester\, New York\, 14620\, United States
CATEGORIES:JayceLand 2020-Jan-9
END:VEVENT
BEGIN:VEVENT
DTSTART;TZID=America/New_York:20200110T193000
DTEND;TZID=America/New_York:20200110T210000
DTSTAMP:20260419T170624
CREATED:20200108T180449Z
LAST-MODIFIED:20200108T180449Z
UID:27222-1578684600-1578690000@jayceland.com
SUMMARY:Jimmie Walker comic performance (2020-Jan-10 @ 7:30 p.m.)
DESCRIPTION:He symbolized the 70s American dream of success — the former kid from the ghetto who rose to wisecracking TV superstardom. While in his element as the broadly strutting\, gleamy-toothed J.J. Evans of the popular urban-styled sitcom Good Times (1974)\, Jimmie Walker lived the extremely good life. Following the series' demise\, however\, reality again checked in. Still and all\, he has not self-destructed as others before him have and continues to enjoy a comedy career now approaching four decades. \n [source: Comedy @ the Carlson website\, 2020-Jan-6]
URL:https://jayceland.com/blog/event/jimmie-walker-comic-performance-2020-jan-10-730-p-m/
LOCATION:Comedy at The Carlson\, 50 Carlson Rd.\, Rochester\, New York\, 14610\, United States
CATEGORIES:JayceLand 2020-Jan-9
END:VEVENT
BEGIN:VEVENT
DTSTART;TZID=America/New_York:20200110T210000
DTEND;TZID=America/New_York:20200110T230000
DTSTAMP:20260419T170624
CREATED:20200108T180449Z
LAST-MODIFIED:20200108T180449Z
UID:27207-1578690000-1578697200@jayceland.com
SUMMARY:Laveda\, Free Casino\, Charit Way\, Stupid November musical performances
DESCRIPTION:[source: Facebook\, 2020-Jan-6]
URL:https://jayceland.com/blog/event/laveda-free-casino-charit-way-stupid-november-musical-performances/
LOCATION:Bug Jar\, 219 Monroe Ave\, Rochester\, New York\, 14607\, United States
CATEGORIES:JayceLand 2020-Jan-9
END:VEVENT
BEGIN:VEVENT
DTSTART;TZID=America/New_York:20200110T211500
DTEND;TZID=America/New_York:20200110T231300
DTSTAMP:20260419T170624
CREATED:20200108T180450Z
LAST-MODIFIED:20200108T180450Z
UID:27233-1578690900-1578697980@jayceland.com
SUMMARY:Dolemite Is My Name screening (2020-Jan-10 @ 9:15 p.m.)
DESCRIPTION:The Cinema will screen Dolemite Is My Name (Craig Brewer\, U.S. 2019\, 118 min.) "Eddie Murphy portrays real-life legend Rudy Ray Moore\, a comedy and rap pioneer who proved naysayers wrong when his hilarious\, obscene\, kung-fu fighting alter ego\, Dolemite\, became a 1970s Blaxploitation phenomenon." [source: Cinema Theater coming soon page\, 2020-Jan-8]
URL:https://jayceland.com/blog/event/dolemite-is-my-name-screening-2020-jan-10-915-p-m/
LOCATION:Cinema Theatre\, 957 S. Clinton Ave.\, Rochester\, New York\, 14620\, United States
CATEGORIES:JayceLand 2020-Jan-9
END:VEVENT
BEGIN:VEVENT
DTSTART;TZID=America/New_York:20200110T213000
DTEND;TZID=America/New_York:20200110T233000
DTSTAMP:20260419T170624
CREATED:20200108T180449Z
LAST-MODIFIED:20200108T180449Z
UID:27225-1578691800-1578699000@jayceland.com
SUMMARY:The BuddhaHood musical performance (2020-Jan-10 @ 9:30 p.m.)
DESCRIPTION:[source: JamBase calendar\, 2020-Jan-6]
URL:https://jayceland.com/blog/event/the-buddhahood-musical-performance-2020-jan-10-930-p-m/
LOCATION:Lux Lounge\, 666 South Ave.\, Rochester\, New York\, 14620\, United States
CATEGORIES:JayceLand 2020-Jan-9
END:VEVENT
END:VCALENDAR