BEGIN:VCALENDAR
VERSION:2.0
PRODID:-//JayceLand - ECPv6.15.20//NONSGML v1.0//EN
CALSCALE:GREGORIAN
METHOD:PUBLISH
X-WR-CALNAME:JayceLand
X-ORIGINAL-URL:https://jayceland.com/blog
X-WR-CALDESC:Events for JayceLand
REFRESH-INTERVAL;VALUE=DURATION:PT1H
X-Robots-Tag:noindex
X-PUBLISHED-TTL:PT1H
BEGIN:VTIMEZONE
TZID:America/New_York
BEGIN:DAYLIGHT
TZOFFSETFROM:-0500
TZOFFSETTO:-0400
TZNAME:EDT
DTSTART:20180311T070000
END:DAYLIGHT
BEGIN:STANDARD
TZOFFSETFROM:-0400
TZOFFSETTO:-0500
TZNAME:EST
DTSTART:20181104T060000
END:STANDARD
BEGIN:DAYLIGHT
TZOFFSETFROM:-0500
TZOFFSETTO:-0400
TZNAME:EDT
DTSTART:20190310T070000
END:DAYLIGHT
BEGIN:STANDARD
TZOFFSETFROM:-0400
TZOFFSETTO:-0500
TZNAME:EST
DTSTART:20191103T060000
END:STANDARD
BEGIN:DAYLIGHT
TZOFFSETFROM:-0500
TZOFFSETTO:-0400
TZNAME:EDT
DTSTART:20200308T070000
END:DAYLIGHT
BEGIN:STANDARD
TZOFFSETFROM:-0400
TZOFFSETTO:-0500
TZNAME:EST
DTSTART:20201101T060000
END:STANDARD
BEGIN:DAYLIGHT
TZOFFSETFROM:-0500
TZOFFSETTO:-0400
TZNAME:EDT
DTSTART:20210314T070000
END:DAYLIGHT
BEGIN:STANDARD
TZOFFSETFROM:-0400
TZOFFSETTO:-0500
TZNAME:EST
DTSTART:20211107T060000
END:STANDARD
END:VTIMEZONE
BEGIN:VEVENT
DTSTART;TZID=America/New_York:20191231T170000
DTEND;TZID=America/New_York:20200101T010000
DTSTAMP:20260421T231451
CREATED:20191225T201931Z
LAST-MODIFIED:20191225T201931Z
UID:27061-1577811600-1577840400@jayceland.com
SUMMARY:New Year's Eve at Roc Holiday Village
DESCRIPTION:[source: City of Rochester website\, 2019-Dec-25]
URL:https://jayceland.com/blog/event/new-years-eve-at-roc-holiday-village/
LOCATION:Martin Luther King Jr. Memorial Park at Manhattan Square\, 353 Court St.\, Rochester\, New York\, 14607\, United States
CATEGORIES:JayceLand 2019-Dec-26
END:VEVENT
BEGIN:VEVENT
DTSTART;TZID=America/New_York:20191231T210000
DTEND;TZID=America/New_York:20200101T010000
DTSTAMP:20260421T231451
CREATED:20191225T201931Z
LAST-MODIFIED:20191225T201931Z
UID:27059-1577826000-1577840400@jayceland.com
SUMMARY:New Year's Extravaganza: Overhand Sam and the Bad Weapons musical performance
DESCRIPTION:Ring in the New Year with Overhand Sam and the Bad Weapons\, featuring special guests Mikaela Davis\, Josh Netsky of Maybird\, Cammy Enaharo\, Anamon\, Beef Gordon\, Yarms and Boy Jr. \n [source: WNY Shows website\, 2019-Dec-23]
URL:https://jayceland.com/blog/event/new-years-extravaganza-overhand-sam-and-the-bad-weapons-musical-performance/
LOCATION:Radio Social\, 20 Carlson Rd.\, Rochester\, New York\, 14610\, United States
CATEGORIES:JayceLand 2019-Dec-26
END:VEVENT
BEGIN:VEVENT
DTSTART;TZID=America/New_York:20200101T190000
DTEND;TZID=America/New_York:20200101T204900
DTSTAMP:20260421T231451
CREATED:20191225T201931Z
LAST-MODIFIED:20191225T201931Z
UID:27067-1577905200-1577911740@jayceland.com
SUMMARY:The Good Liar screening (2020-Jan-1 @ 7 p.m.)
DESCRIPTION:The Cinema will screen The Good Liar (Bill Condon\, U.S. 2019\, 109 min.) "Consummate con man Roy Courtnay has set his sights on his latest mark: the recently widowed Betty McLeish\, worth millions. But this time\, what should have been a simple swindle escalates into a cat-and-mouse game with the ultimate stakes." [source: Cinema Theater coming soon page\, 2019-Dec-25]
URL:https://jayceland.com/blog/event/the-good-liar-screening-2020-jan-1-7-p-m/
LOCATION:Cinema Theatre\, 957 S. Clinton Ave.\, Rochester\, New York\, 14620\, United States
CATEGORIES:JayceLand 2019-Dec-26
END:VEVENT
BEGIN:VEVENT
DTSTART;TZID=America/New_York:20200101T205000
DTEND;TZID=America/New_York:20200101T225600
DTSTAMP:20260421T231451
CREATED:20191225T201931Z
LAST-MODIFIED:20191225T201931Z
UID:27072-1577911800-1577919360@jayceland.com
SUMMARY:Dark Waters screening (2020-Jan-1 @ 8:50 p.m.)
DESCRIPTION:The Cinema will screen Dark Waters (Todd Haynes\, U.S. 2019\, 126 min.) "A corporate defense attorney takes on an environmental lawsuit against a chemical company that exposes a lengthy history of pollution." [source: Cinema Theater coming soon page\, 2019-Dec-25]
URL:https://jayceland.com/blog/event/dark-waters-screening-2020-jan-1-850-p-m/
LOCATION:Cinema Theatre\, 957 S. Clinton Ave.\, Rochester\, New York\, 14620\, United States
CATEGORIES:JayceLand 2019-Dec-26
END:VEVENT
END:VCALENDAR