BEGIN:VCALENDAR
VERSION:2.0
PRODID:-//JayceLand - ECPv6.15.20//NONSGML v1.0//EN
CALSCALE:GREGORIAN
METHOD:PUBLISH
X-WR-CALNAME:JayceLand
X-ORIGINAL-URL:https://jayceland.com/blog
X-WR-CALDESC:Events for JayceLand
REFRESH-INTERVAL;VALUE=DURATION:PT1H
X-Robots-Tag:noindex
X-PUBLISHED-TTL:PT1H
BEGIN:VTIMEZONE
TZID:America/New_York
BEGIN:DAYLIGHT
TZOFFSETFROM:-0500
TZOFFSETTO:-0400
TZNAME:EDT
DTSTART:20180311T070000
END:DAYLIGHT
BEGIN:STANDARD
TZOFFSETFROM:-0400
TZOFFSETTO:-0500
TZNAME:EST
DTSTART:20181104T060000
END:STANDARD
BEGIN:DAYLIGHT
TZOFFSETFROM:-0500
TZOFFSETTO:-0400
TZNAME:EDT
DTSTART:20190310T070000
END:DAYLIGHT
BEGIN:STANDARD
TZOFFSETFROM:-0400
TZOFFSETTO:-0500
TZNAME:EST
DTSTART:20191103T060000
END:STANDARD
BEGIN:DAYLIGHT
TZOFFSETFROM:-0500
TZOFFSETTO:-0400
TZNAME:EDT
DTSTART:20200308T070000
END:DAYLIGHT
BEGIN:STANDARD
TZOFFSETFROM:-0400
TZOFFSETTO:-0500
TZNAME:EST
DTSTART:20201101T060000
END:STANDARD
END:VTIMEZONE
BEGIN:VEVENT
DTSTART;TZID=America/New_York:20191230T100000
DTEND;TZID=America/New_York:20191230T105200
DTSTAMP:20260420T232433
CREATED:20191218T180540Z
LAST-MODIFIED:20191218T180540Z
UID:27017-1577700000-1577703120@jayceland.com
SUMMARY:14th Annual Rochester International Children's Film Festival screening
DESCRIPTION:The Cinema will host a screening of the 14th Annual Rochester International Children's Film Festival. [source: Cinema e-mail\, 2019-Dec-17]
URL:https://jayceland.com/blog/event/14th-annual-rochester-international-childrens-film-festival-screening/
LOCATION:Cinema Theatre\, 957 S. Clinton Ave.\, Rochester\, New York\, 14620\, United States
CATEGORIES:JayceLand 2019-Dec-26
END:VEVENT
BEGIN:VEVENT
DTSTART;TZID=America/New_York:20191230T190000
DTEND;TZID=America/New_York:20191230T204900
DTSTAMP:20260420T232433
CREATED:20191225T201931Z
LAST-MODIFIED:20191225T201931Z
UID:27065-1577732400-1577738940@jayceland.com
SUMMARY:The Good Liar screening (2019-Dec-30 @ 7 p.m.)
DESCRIPTION:The Cinema will screen The Good Liar (Bill Condon\, U.S. 2019\, 109 min.) "Consummate con man Roy Courtnay has set his sights on his latest mark: the recently widowed Betty McLeish\, worth millions. But this time\, what should have been a simple swindle escalates into a cat-and-mouse game with the ultimate stakes." [source: Cinema Theater coming soon page\, 2019-Dec-25]
URL:https://jayceland.com/blog/event/the-good-liar-screening-2019-dec-30-7-p-m/
LOCATION:Cinema Theatre\, 957 S. Clinton Ave.\, Rochester\, New York\, 14620\, United States
CATEGORIES:JayceLand 2019-Dec-26
END:VEVENT
BEGIN:VEVENT
DTSTART;TZID=America/New_York:20191230T205000
DTEND;TZID=America/New_York:20191230T225600
DTSTAMP:20260420T232433
CREATED:20191225T201931Z
LAST-MODIFIED:20191225T201931Z
UID:27071-1577739000-1577746560@jayceland.com
SUMMARY:Dark Waters screening (2019-Dec-30 @ 8:50 p.m.)
DESCRIPTION:The Cinema will screen Dark Waters (Todd Haynes\, U.S. 2019\, 126 min.) "A corporate defense attorney takes on an environmental lawsuit against a chemical company that exposes a lengthy history of pollution." [source: Cinema Theater coming soon page\, 2019-Dec-25]
URL:https://jayceland.com/blog/event/dark-waters-screening-2019-dec-30-850-p-m/
LOCATION:Cinema Theatre\, 957 S. Clinton Ave.\, Rochester\, New York\, 14620\, United States
CATEGORIES:JayceLand 2019-Dec-26
END:VEVENT
BEGIN:VEVENT
DTSTART;TZID=America/New_York:20191230T210000
DTEND;TZID=America/New_York:20191230T230000
DTSTAMP:20260420T232433
CREATED:20191225T201931Z
LAST-MODIFIED:20191225T201931Z
UID:27057-1577739600-1577746800@jayceland.com
SUMMARY:Spontaneous Eruption: Last Noise Show Of The Decade
DESCRIPTION:The Bug Jar will host Spontaneous Eruption! Last Noise Show Of The Decade featuring:  \n\nCHB\nMartin Freeman\nDr. Hamburger\nJoe+N\nColonal Parmideau\nThe Bloody Noes\nSmaxkult\nFoot and Mouth Disease\nBorden/Ranallo\nDeceiver\nBoueffe\nGeld Them\nAsthmatic\nBand Room Janitors\nAsterixis\nArone Oneil\n\n [source: WNY Shows website\, 2019-Dec-23]
URL:https://jayceland.com/blog/event/spontaneous-eruption-last-noise-show-of-the-decade/
LOCATION:Bug Jar\, 219 Monroe Ave\, Rochester\, New York\, 14607\, United States
CATEGORIES:JayceLand 2019-Dec-26
END:VEVENT
END:VCALENDAR