BEGIN:VCALENDAR
VERSION:2.0
PRODID:-//JayceLand - ECPv6.15.20//NONSGML v1.0//EN
CALSCALE:GREGORIAN
METHOD:PUBLISH
X-ORIGINAL-URL:https://jayceland.com/blog
X-WR-CALDESC:Events for JayceLand
REFRESH-INTERVAL;VALUE=DURATION:PT1H
X-Robots-Tag:noindex
X-PUBLISHED-TTL:PT1H
BEGIN:VTIMEZONE
TZID:America/New_York
BEGIN:DAYLIGHT
TZOFFSETFROM:-0500
TZOFFSETTO:-0400
TZNAME:EDT
DTSTART:20180311T070000
END:DAYLIGHT
BEGIN:STANDARD
TZOFFSETFROM:-0400
TZOFFSETTO:-0500
TZNAME:EST
DTSTART:20181104T060000
END:STANDARD
BEGIN:DAYLIGHT
TZOFFSETFROM:-0500
TZOFFSETTO:-0400
TZNAME:EDT
DTSTART:20190310T070000
END:DAYLIGHT
BEGIN:STANDARD
TZOFFSETFROM:-0400
TZOFFSETTO:-0500
TZNAME:EST
DTSTART:20191103T060000
END:STANDARD
BEGIN:DAYLIGHT
TZOFFSETFROM:-0500
TZOFFSETTO:-0400
TZNAME:EDT
DTSTART:20200308T070000
END:DAYLIGHT
BEGIN:STANDARD
TZOFFSETFROM:-0400
TZOFFSETTO:-0500
TZNAME:EST
DTSTART:20201101T060000
END:STANDARD
END:VTIMEZONE
BEGIN:VEVENT
DTSTART;TZID=America/New_York:20191120T173000
DTEND;TZID=America/New_York:20191120T183000
DTSTAMP:20260425T153634
CREATED:20191030T181756Z
LAST-MODIFIED:20191030T181756Z
UID:26278-1574271000-1574274600@jayceland.com
SUMMARY:Laser Vision Correction Seminar (2019-Nov-20 @ 5:30 p.m.)
DESCRIPTION:Want to reduce your dependence on contacts or glasses? This no-nonsense\, no-pressure\, free seminar is sure to help you understand whether or not LASIK\, Laser vision correction is the answer for you. \n [source: University of Rochester events calendar\, 2019-Oct-28]
URL:https://jayceland.com/blog/event/laser-vision-correction-seminar-2019-nov-20-530-p-m/
LOCATION:Flaum Eye Institute LASIK and Advanced Vision Correction Center\, 100 Meridan Centre Blvd.\, Suite 125\, Brighton\, New York\, 14618\, United States
CATEGORIES:JayceLand 2019-Nov-14
END:VEVENT
BEGIN:VEVENT
DTSTART;TZID=America/New_York:20191120T173000
DTEND;TZID=America/New_York:20191120T193000
DTSTAMP:20260425T153634
CREATED:20191113T183715Z
LAST-MODIFIED:20191113T183715Z
UID:26537-1574271000-1574278200@jayceland.com
SUMMARY:REJob 2.0 Information Session (2019-Nov-20 @ 5:30 p.m.)
DESCRIPTION:The City is set to begin its fourth consecutive year of training for the Rochester Environmental Job Training Program (REJob 2.0) to help disadvantaged citizens get jobs in the environmental construction industry. So far\, seventy-five individuals have successfully graduated from the program and have all received environmental construction careers. \n [source: City of Rochester website\, 2019-Nov-13]
URL:https://jayceland.com/blog/event/rejob-2-0-information-session-2019-nov-20-530-p-m/
LOCATION:Flint Street Recreation Center\, 271 Flint St.\, Rochester\, New York\, 14608\, United States
CATEGORIES:JayceLand 2019-Nov-14
END:VEVENT
BEGIN:VEVENT
DTSTART;TZID=America/New_York:20191120T180000
DTEND;TZID=America/New_York:20191120T200000
DTSTAMP:20260425T153634
CREATED:20191113T183713Z
LAST-MODIFIED:20191113T183713Z
UID:26489-1574272800-1574280000@jayceland.com
SUMMARY:Waiter There's A Bomb In My Beer dinner theatre performance
DESCRIPTION:The British Crown jewels have been stolen while on display in Paris. It is a matter of national pride that these jewels are recovered at once. Who better to do so than the illustrious Inspector Clousseau\, pardon\, Chief Inspector! The clever Miss Marble from London is assisting him much to his disgust. Who is behind this fiendish plan? Is it the notorious gangster Mr. Bigg\, his outlandish bodyguard\, or perhaps\, the wily and suspicious cat burglar? Maybe it's the sweet blond who simply adores diamonds. No one in this interactive madcap mélange can be trusted as they bumble their way toward the truth. Some say they would do anything to grab these priceless jewels\, even Murder! Don't miss the hilarity\, plot twists\, and fun!   \nJoin Two Roads Brewing\, The Mystery Company\, and Lovin' Cup for a beer pairing dinner like you've never seen. Enjoy a great show with a three course beer pairing dinner and a welcome reception. Prizes for solving the mystery and other giveaways as well! \n\n [source: Lovin Cup website\, 2019-Nov-11]
URL:https://jayceland.com/blog/event/waiter-theres-a-bomb-in-my-beer-dinner-theatre-performance/
LOCATION:Lovin' Cup\, 300 Park Point Dr.\, Rochester\, New York\, 14623\, United States
CATEGORIES:JayceLand 2019-Nov-14
END:VEVENT
BEGIN:VEVENT
DTSTART;TZID=America/New_York:20191120T190000
DTEND;TZID=America/New_York:20191120T204900
DTSTAMP:20260425T153634
CREATED:20191113T183715Z
LAST-MODIFIED:20191113T183715Z
UID:26524-1574276400-1574282940@jayceland.com
SUMMARY:The Lighthouse screening (2019-Nov-20 @ 7 p.m.)
DESCRIPTION:The Cinema will screen The Lighthouse (Robert Eggers\, Canada / U.S. 2019\, 109 min.) "The hypnotic and hallucinatory tale of two lighthouse keepers on a remote and mysterious New England island in the 1890s." [source: Cinema Theater coming soon page\, 2019-Nov-13]
URL:https://jayceland.com/blog/event/the-lighthouse-screening-2019-nov-20-7-p-m/
LOCATION:Cinema Theatre\, 957 S. Clinton Ave.\, Rochester\, New York\, 14620\, United States
CATEGORIES:JayceLand 2019-Nov-14
END:VEVENT
BEGIN:VEVENT
DTSTART;TZID=America/New_York:20191120T190000
DTEND;TZID=America/New_York:20191120T210000
DTSTAMP:20260425T153634
CREATED:20191113T183714Z
LAST-MODIFIED:20191113T183714Z
UID:26494-1574276400-1574283600@jayceland.com
SUMMARY:Form and Content: Experimental Films by Richard Tuohy and Dianna Barrie
DESCRIPTION:Austrialian filmmakers Richard Tuohy and Dianna Barrie are internationally renowned for their inventive 16mm filmmaking techniques\, both in the camera and in the darkroom. Their films combine creativity\, chemistry\, invention and experimentation to culminate in a visceral synchronicity of form and content. Tuohy and Barrie will present a program of their recent experiments\, including films made using their own "chromaflex" process\, by which color print stock is selectively developed as color positive\, color negative and black and white. \n [source: Visual Studies Workshop website\, 2019-Nov-11]
URL:https://jayceland.com/blog/event/form-and-content-experimental-films-by-richard-tuohy-and-dianna-barrie/
LOCATION:Visual Studies Workshop\, 31 Prince St.\, Rochester\, New York\, 14607\, United States
CATEGORIES:JayceLand 2019-Nov-14
END:VEVENT
BEGIN:VEVENT
DTSTART;TZID=America/New_York:20191120T193000
DTEND;TZID=America/New_York:20191120T211500
DTSTAMP:20260425T153634
CREATED:20191113T183714Z
LAST-MODIFIED:20191113T183714Z
UID:26511-1574278200-1574284500@jayceland.com
SUMMARY:The Wrecking Crew screening
DESCRIPTION:The Dryden will screen The Wrecking Crew (Phil Karlson\, U.S. 1968\, 105 min.\, 35mm) as part of the Once Upon a Time … at the Dryden  series.  \nThe final feature of the Matt Helm series\, this comedic spy parody stars Dean Martin\, Nancy Kwan\, and Sharon Tate. (Released only six months prior to the gruesome Manson murders\, the film was still playing in U.S. theaters at the time of Tate's death.) This lighthearted spoof of the popular James Bond franchise follows Matt Helm (Martin) as the apathetic spy who tries to stop a criminal mastermind from stealing enough money to send the world into a financial panic. Though Martin is entertaining as always\, it is Tate's character Freya Carlson who truly steals the spotlight with her hilarious gags and dynamic action scenes. Later\, the Austin Powers series would base one of its characters on Tate's portrayal of the blundering yet good-hearted spy. \n [source: George Eastman Museum website\, 2019-Nov-11]
URL:https://jayceland.com/blog/event/the-wrecking-crew-screening/
LOCATION:Dryden Theatre at George Eastman Museum (formerly George Eastman House)\, 900 East Ave.\, Rochester\, New York\, 14607\, United States
CATEGORIES:JayceLand 2019-Nov-14
END:VEVENT
BEGIN:VEVENT
DTSTART;TZID=America/New_York:20191120T205000
DTEND;TZID=America/New_York:20191120T224900
DTSTAMP:20260425T153634
CREATED:20191113T183715Z
LAST-MODIFIED:20191113T183715Z
UID:26531-1574283000-1574290140@jayceland.com
SUMMARY:The Report screening (2019-Nov-20 @ 8:50 p.m.)
DESCRIPTION:The Cinema will screen The Report (Scott Z. Burns\, U.S. 2019\, 119 min.) "Idealistic Senate staffer Daniel J. Jones\, tasked by his boss to lead an investigation into the CIA's post 9/11 Detention and Interrogation Program\, uncovers shocking secrets." [source: Cinema Theater coming soon page\, 2019-Nov-13]
URL:https://jayceland.com/blog/event/the-report-screening-2019-nov-20-850-p-m/
LOCATION:Cinema Theatre\, 957 S. Clinton Ave.\, Rochester\, New York\, 14620\, United States
CATEGORIES:JayceLand 2019-Nov-14
END:VEVENT
END:VCALENDAR