BEGIN:VCALENDAR
VERSION:2.0
PRODID:-//JayceLand - ECPv6.15.20//NONSGML v1.0//EN
CALSCALE:GREGORIAN
METHOD:PUBLISH
X-ORIGINAL-URL:https://jayceland.com/blog
X-WR-CALDESC:Events for JayceLand
REFRESH-INTERVAL;VALUE=DURATION:PT1H
X-Robots-Tag:noindex
X-PUBLISHED-TTL:PT1H
BEGIN:VTIMEZONE
TZID:America/New_York
BEGIN:DAYLIGHT
TZOFFSETFROM:-0500
TZOFFSETTO:-0400
TZNAME:EDT
DTSTART:20180311T070000
END:DAYLIGHT
BEGIN:STANDARD
TZOFFSETFROM:-0400
TZOFFSETTO:-0500
TZNAME:EST
DTSTART:20181104T060000
END:STANDARD
BEGIN:DAYLIGHT
TZOFFSETFROM:-0500
TZOFFSETTO:-0400
TZNAME:EDT
DTSTART:20190310T070000
END:DAYLIGHT
BEGIN:STANDARD
TZOFFSETFROM:-0400
TZOFFSETTO:-0500
TZNAME:EST
DTSTART:20191103T060000
END:STANDARD
BEGIN:DAYLIGHT
TZOFFSETFROM:-0500
TZOFFSETTO:-0400
TZNAME:EDT
DTSTART:20200308T070000
END:DAYLIGHT
BEGIN:STANDARD
TZOFFSETFROM:-0400
TZOFFSETTO:-0500
TZNAME:EST
DTSTART:20201101T060000
END:STANDARD
END:VTIMEZONE
BEGIN:VEVENT
DTSTART;TZID=America/New_York:20191104T173000
DTEND;TZID=America/New_York:20191104T183000
DTSTAMP:20260419T084945
CREATED:20191030T181755Z
LAST-MODIFIED:20191030T181755Z
UID:26266-1572888600-1572892200@jayceland.com
SUMMARY:Abundance 101: Discover Your Co-op
DESCRIPTION:Stop by to learn more about what makes a co-op different from everyday grocery stores. Why are we so passionate about food\, where it comes from and how it's made? And what's the impact on your local economy when you buy groceries at the co-op instead of big-box grocers? We'll have snacks to sample from our kitchen\, so come hungry and plan to leave with new friends. \n [source: Abundance Food Co-op events page\, 2019-Oct-28]
URL:https://jayceland.com/blog/event/abundance-101-discover-your-co-op/
LOCATION:Abundance Cooperative Market (formerly Echo Tone Music)\, 571 South Ave.\, Rochester\, New York\, 14620\, United States
CATEGORIES:JayceLand 2019-Oct-31
END:VEVENT
BEGIN:VEVENT
DTSTART;TZID=America/New_York:20191104T190000
DTEND;TZID=America/New_York:20191104T210300
DTSTAMP:20260419T084945
CREATED:20191030T181756Z
LAST-MODIFIED:20191030T181756Z
UID:26290-1572894000-1572901380@jayceland.com
SUMMARY:Ad Astra screening (2019-Nov-4 @ 7 p.m.)
DESCRIPTION:The Cinema will screen Ad Astra (James Gray\, U.S. / China 2019\, 123 min.) "Astronaut Roy McBride undertakes a mission across an unforgiving solar system to uncover the truth about his missing father and his doomed expedition that now\, 30 years later\, threatens the universe." [source: Cinema Theater coming soon page\, 2019-Oct-30]
URL:https://jayceland.com/blog/event/ad-astra-screening-2019-nov-4-7-p-m/
LOCATION:Cinema Theatre\, 957 S. Clinton Ave.\, Rochester\, New York\, 14620\, United States
CATEGORIES:JayceLand 2019-Oct-31
END:VEVENT
BEGIN:VEVENT
DTSTART;TZID=America/New_York:20191104T193000
DTEND;TZID=America/New_York:20191104T213000
DTSTAMP:20260419T084945
CREATED:20191030T181755Z
LAST-MODIFIED:20191030T181755Z
UID:26263-1572895800-1572903000@jayceland.com
SUMMARY:Eastman Audio Research Studio Concert
DESCRIPTION:[source: Eastman School of Music Calendar\, 2019-Oct-28]
URL:https://jayceland.com/blog/event/eastman-audio-research-studio-concert/
LOCATION:Hatch Recital Hall\, Eastman School of Music 26 Gibbs St.\, Rochester\, New York\, 14604\, United States
CATEGORIES:JayceLand 2019-Oct-31
END:VEVENT
BEGIN:VEVENT
DTSTART;TZID=America/New_York:20191104T210000
DTEND;TZID=America/New_York:20191104T230000
DTSTAMP:20260419T084945
CREATED:20191030T181755Z
LAST-MODIFIED:20191030T181755Z
UID:26248-1572901200-1572908400@jayceland.com
SUMMARY:Crunk Witch\, Garden Fresh musical performances
DESCRIPTION:The Bug Jar will host 10 Years of Crunk Witch with humorous novelty rap band Garden Fresh. [source: Facebook\, 2019-Oct-28]
URL:https://jayceland.com/blog/event/crunk-witch-garden-fresh-musical-performances/
LOCATION:Bug Jar\, 219 Monroe Ave\, Rochester\, New York\, 14607\, United States
CATEGORIES:JayceLand 2019-Oct-31
END:VEVENT
BEGIN:VEVENT
DTSTART;TZID=America/New_York:20191104T210500
DTEND;TZID=America/New_York:20191104T224000
DTSTAMP:20260419T084945
CREATED:20191030T181756Z
LAST-MODIFIED:20191030T181756Z
UID:26297-1572901500-1572907200@jayceland.com
SUMMARY:Linda Ronstadt: The Sound of My Voice screening (2019-Nov-4 @ 9:05 p.m.)
DESCRIPTION:The Cinema will screen Linda Ronstadt: The Sound of My Voice (Rob Epstein\, Jeffrey Friedman\, U.S. 2019\, 95 min.) "With one of the most memorably stunning voices that has ever hit the airwaves\, Linda Ronstadt burst onto the 1960s folk rock music scene in her early twenties." [source: Cinema Theater coming soon page\, 2019-Oct-30]
URL:https://jayceland.com/blog/event/linda-ronstadt-the-sound-of-my-voice-screening-2019-nov-4-905-p-m/
LOCATION:Cinema Theatre\, 957 S. Clinton Ave.\, Rochester\, New York\, 14620\, United States
CATEGORIES:JayceLand 2019-Oct-31
END:VEVENT
END:VCALENDAR