BEGIN:VCALENDAR
VERSION:2.0
PRODID:-//JayceLand - ECPv6.15.20//NONSGML v1.0//EN
CALSCALE:GREGORIAN
METHOD:PUBLISH
X-ORIGINAL-URL:https://jayceland.com/blog
X-WR-CALDESC:Events for JayceLand
REFRESH-INTERVAL;VALUE=DURATION:PT1H
X-Robots-Tag:noindex
X-PUBLISHED-TTL:PT1H
BEGIN:VTIMEZONE
TZID:America/New_York
BEGIN:DAYLIGHT
TZOFFSETFROM:-0500
TZOFFSETTO:-0400
TZNAME:EDT
DTSTART:20180311T070000
END:DAYLIGHT
BEGIN:STANDARD
TZOFFSETFROM:-0400
TZOFFSETTO:-0500
TZNAME:EST
DTSTART:20181104T060000
END:STANDARD
BEGIN:DAYLIGHT
TZOFFSETFROM:-0500
TZOFFSETTO:-0400
TZNAME:EDT
DTSTART:20190310T070000
END:DAYLIGHT
BEGIN:STANDARD
TZOFFSETFROM:-0400
TZOFFSETTO:-0500
TZNAME:EST
DTSTART:20191103T060000
END:STANDARD
BEGIN:DAYLIGHT
TZOFFSETFROM:-0500
TZOFFSETTO:-0400
TZNAME:EDT
DTSTART:20200308T070000
END:DAYLIGHT
BEGIN:STANDARD
TZOFFSETFROM:-0400
TZOFFSETTO:-0500
TZNAME:EST
DTSTART:20201101T060000
END:STANDARD
END:VTIMEZONE
BEGIN:VEVENT
DTSTART;TZID=America/New_York:20191031T163000
DTEND;TZID=America/New_York:20191031T174500
DTSTAMP:20260422T115848
CREATED:20191030T181756Z
LAST-MODIFIED:20191030T181756Z
UID:26280-1572539400-1572543900@jayceland.com
SUMMARY:We Are Not Princesses screening
DESCRIPTION:The High Falls Women's Film Festival kicks off with a screening of We Are Not Princesses (Bridgette Auger\, Itab Azzam\, UK 2018\, 75 min.))  \nThe Syrian refugee crisis is on the world stage. But We Are Not Princesses shows a personal side of the crisis most have never seen\, following the daily lives of four remarkable women\, whose extraordinary struggles and strength tell a different kind of story\, about obedience and defiance\, resilience and reconciliation.   \nWith intimately revealing footage and evocative animation\, filmmakers Bridgette Auger and Itab Azzam follow how the women as they navigate new lives and small freedoms in exile\, adapting to new roles: in their families and in a theater production of the Greek play\, Antigone. Through the film\, we see revealing glimpses of lives under siege\, as these mothers\, sisters\, and wives grapple with past trauma and express themselves openly\, often for the first-time\, on camera. As they learn to question cultural norms\, and stand up to societal and patriarchal pressures\, they form friendships and bonds with each other. Never far from the surface are the horrific backstories which brought the women to Beirut. Their stories provide context for the Syrian war\, and also establish the women's point of access into the story of Antigone\, through which the women begin the work of processing their personal and national wars. Behind the scenes\, they discover a kinship with the ancient princess\, whose tragedy mirrors their own. While Antigone's story is legend\, theirs are still being written. \n\n [source: High Falls Women's Film Festival website\, 2019-Oct-29]
URL:https://jayceland.com/blog/event/we-are-not-princesses-screening/
LOCATION:Little Theatre\, 240 East Ave. #100\, Rochester\, New York\, 14604\, United States
CATEGORIES:JayceLand 2019-Oct-31
END:VEVENT
BEGIN:VEVENT
DTSTART;TZID=America/New_York:20191031T190000
DTEND;TZID=America/New_York:20191031T204400
DTSTAMP:20260422T115848
CREATED:20191023T172757Z
LAST-MODIFIED:20191023T172757Z
UID:26165-1572548400-1572554640@jayceland.com
SUMMARY:Brittany Runs a Marathon screening (2019-Oct-31 @ 7 p.m.)
DESCRIPTION:The Cinema will screen Brittany Runs a Marathon (Paul Downs Colaizzo\, U.S. 2019\, 104 min.) "A young woman decides to make positive changes in her life by training for the New York City Marathon." [source: Cinema Theater coming soon page\, 2019-Oct-23]
URL:https://jayceland.com/blog/event/brittany-runs-a-marathon-screening-2019-oct-31-7-p-m/
LOCATION:Cinema Theatre\, 957 S. Clinton Ave.\, Rochester\, New York\, 14620\, United States
CATEGORIES:JayceLand 2019-Oct-31
END:VEVENT
BEGIN:VEVENT
DTSTART;TZID=America/New_York:20191031T190000
DTEND;TZID=America/New_York:20191031T220000
DTSTAMP:20260422T115848
CREATED:20191030T181755Z
LAST-MODIFIED:20191030T181755Z
UID:26255-1572548400-1572559200@jayceland.com
SUMMARY:Halloween Karaoke Party
DESCRIPTION:Our good friend Alfie\, from Teagan and the Tweeds\, is hosting a free Karaoke party to celebrate Halloween\, so come down in your best costume\, drink some beers and then hit the stage to your favorite tune. \n [source: Facebook\, 2019-Oct-28]
URL:https://jayceland.com/blog/event/halloween-karaoke-party/
LOCATION:Three Heads Brewing\, 186 Atlantic Ave.\, Rochester\, New York\, 14607\, United States
CATEGORIES:JayceLand 2019-Oct-31
END:VEVENT
BEGIN:VEVENT
DTSTART;TZID=America/New_York:20191031T190000
DTEND;TZID=America/New_York:20191031T220000
DTSTAMP:20260422T115848
CREATED:20191030T181756Z
LAST-MODIFIED:20191030T181756Z
UID:26279-1572548400-1572559200@jayceland.com
SUMMARY:Spooky Supper with SAVVY
DESCRIPTION:The Student Association of VEgan and Vegetarian Youth be hosting its monthly Supper with SAVVY during our Veg Challenge month! It will be Halloween themed. \n [source: University of Rochester events calendar\, 2019-Oct-28]
URL:https://jayceland.com/blog/event/spooky-supper-with-savvy/
LOCATION:Frederick Douglass Commons\, 500 Wilson Blvd.\, Rochester\, New York\, 14627\, United States
CATEGORIES:JayceLand 2019-Oct-31
END:VEVENT
BEGIN:VEVENT
DTSTART;TZID=America/New_York:20191031T193000
DTEND;TZID=America/New_York:20191031T213400
DTSTAMP:20260422T115848
CREATED:20191030T181755Z
LAST-MODIFIED:20191030T181755Z
UID:26269-1572550200-1572557640@jayceland.com
SUMMARY:Stephen King's Dollar Babies\, Program 2 screening
DESCRIPTION:The Dryden will present Stephen King's Dollar Babies\, Program 2 featuring:  \n\nHere There Be Tygers (Bryan Higby\, U.S. 2019\, 11 min.)\nPopsy (Jon Mann\, U.S. 2019\, 11 min.)\nRest Area (Sean A. Skinner\, U.S. 2018\, 21 min.)\nAll That You Love Will Be Carried Away (Seth Friedman\, U.S. 2017\, 14 min.)\nMy Pretty Pony (Luke Jaden\, U.S. 2017\, 33 min.)\nThe Road Virus Heads North (Dave Brock\, U.S. 2004\, 21 min.)\nWilla (Corey Mayne\, U.S. 2018\, 13 min.)\n\n  followed by a discussion with directors Seth Friedman\, and Corey Mayne.  \nThe horror from Stephen King continues (see October 17 for Program 1) with this septet of films based on his work. A tiger may or may not be hiding in an elementary school bathroom; a young boy loses his "Popsy\," creating opportunity for a serial kidnapper; an author struggles with the character that lives inside of her; a lonely traveling salesman contemplates publishing a book of bathroom graffiti; an aging grandfather (Tobin Bell) passes on to his grandson the true nature of time; a sinister painting seems to be changing as a man gets closer to home; and a band traveling to their next gig by train deal with troubles along the way . . . \n [source: George Eastman Museum website\, 2019-Oct-28]
URL:https://jayceland.com/blog/event/stephen-kings-dollar-babies-program-2-screening/
LOCATION:Dryden Theatre at George Eastman Museum (formerly George Eastman House)\, 900 East Ave.\, Rochester\, New York\, 14607\, United States
CATEGORIES:JayceLand 2019-Oct-31
END:VEVENT
BEGIN:VEVENT
DTSTART;TZID=America/New_York:20191031T204500
DTEND;TZID=America/New_York:20191031T221300
DTSTAMP:20260422T115848
CREATED:20191023T172757Z
LAST-MODIFIED:20191023T172757Z
UID:26171-1572554700-1572559980@jayceland.com
SUMMARY:Sword of Trust screening (2019-Oct-31 @ 8:45 p.m.)
DESCRIPTION:The Cinema will screen Sword of Trust (Lynn Shelton\, U.S. 2019\, 87 min.) "Cynthia and Mary show up to collect Cynthia's inheritance from her deceased grandfather\, but the only item she receives is an antique sword that was believed by her grandfather to be proof that the South won the Civil War." [source: Cinema Theater coming soon page\, 2019-Oct-23]
URL:https://jayceland.com/blog/event/sword-of-trust-screening-2019-oct-31-845-p-m/
LOCATION:Cinema Theatre\, 957 S. Clinton Ave.\, Rochester\, New York\, 14620\, United States
CATEGORIES:JayceLand 2019-Oct-31
END:VEVENT
END:VCALENDAR