BEGIN:VCALENDAR
VERSION:2.0
PRODID:-//JayceLand - ECPv6.15.20//NONSGML v1.0//EN
CALSCALE:GREGORIAN
METHOD:PUBLISH
X-WR-CALNAME:JayceLand
X-ORIGINAL-URL:https://jayceland.com/blog
X-WR-CALDESC:Events for JayceLand
REFRESH-INTERVAL;VALUE=DURATION:PT1H
X-Robots-Tag:noindex
X-PUBLISHED-TTL:PT1H
BEGIN:VTIMEZONE
TZID:America/New_York
BEGIN:DAYLIGHT
TZOFFSETFROM:-0500
TZOFFSETTO:-0400
TZNAME:EDT
DTSTART:20180311T070000
END:DAYLIGHT
BEGIN:STANDARD
TZOFFSETFROM:-0400
TZOFFSETTO:-0500
TZNAME:EST
DTSTART:20181104T060000
END:STANDARD
BEGIN:DAYLIGHT
TZOFFSETFROM:-0500
TZOFFSETTO:-0400
TZNAME:EDT
DTSTART:20190310T070000
END:DAYLIGHT
BEGIN:STANDARD
TZOFFSETFROM:-0400
TZOFFSETTO:-0500
TZNAME:EST
DTSTART:20191103T060000
END:STANDARD
BEGIN:DAYLIGHT
TZOFFSETFROM:-0500
TZOFFSETTO:-0400
TZNAME:EDT
DTSTART:20200308T070000
END:DAYLIGHT
BEGIN:STANDARD
TZOFFSETFROM:-0400
TZOFFSETTO:-0500
TZNAME:EST
DTSTART:20201101T060000
END:STANDARD
END:VTIMEZONE
BEGIN:VEVENT
DTSTART;TZID=America/New_York:20191006T233000
DTEND;TZID=America/New_York:20191007T011000
DTSTAMP:20260421T180244
CREATED:20191002T141806Z
LAST-MODIFIED:20191002T141806Z
UID:25802-1570404600-1570410600@jayceland.com
SUMMARY:The Rocky Horror Picture Show screening (2019-Oct-6 @ 11:30 p.m.)
DESCRIPTION:The Cinema will screen The Rocky Horror Picture Show (Jim Sharman\, U.K. / U.S. 1975\, 100 min.) "In this cult classic\, sweethearts Brad (Barry Bostwick) and Janet (Susan Sarandon)\, stuck with a flat tire during a storm\, discover the eerie mansion of Dr. Frank-N-Furter (Tim Curry)\, a transvestite scientist. As their innocence is lost\, Brad and Janet meet a houseful of wild characters\, including a rocking biker (Meat Loaf) and a creepy butler (Richard O'Brien). Through elaborate dances and rock songs\, Frank-N-Furter unveils his latest creation: a muscular man named 'Rocky.'" [source: Cinema Theater coming soon page\, 2019-Sep-30]
URL:https://jayceland.com/blog/event/the-rocky-horror-picture-show-screening-2019-oct-6-1130-p-m/
LOCATION:Cinema Theatre\, 957 S. Clinton Ave.\, Rochester\, New York\, 14620\, United States
CATEGORIES:JayceLand 2019-Oct-3
END:VEVENT
BEGIN:VEVENT
DTSTART;TZID=America/New_York:20191007T190000
DTEND;TZID=America/New_York:20191007T204900
DTSTAMP:20260421T180244
CREATED:20191002T141807Z
LAST-MODIFIED:20191002T141807Z
UID:25816-1570474800-1570481340@jayceland.com
SUMMARY:The Art of Racing in the Rain screening (2019-Oct-7 @ 7 p.m.)
DESCRIPTION:The Cinema will screen The Art of Racing in the Rain (Simon Curtis\, U.S. 2019\, 109 min.) "Through his bond with his owner\, aspiring Formula One race car driver Denny\, golden retriever Enzo learns that the techniques needed on the racetrack can also be used to successfully navigate the journey of life." [source: Cinema Theater coming soon page\, 2019-Oct-2]
URL:https://jayceland.com/blog/event/the-art-of-racing-in-the-rain-screening-2019-oct-7-7-p-m/
LOCATION:Cinema Theatre\, 957 S. Clinton Ave.\, Rochester\, New York\, 14620\, United States
CATEGORIES:JayceLand 2019-Oct-3
END:VEVENT
BEGIN:VEVENT
DTSTART;TZID=America/New_York:20191007T205500
DTEND;TZID=America/New_York:20191007T224700
DTSTAMP:20260421T180244
CREATED:20191002T141807Z
LAST-MODIFIED:20191002T141807Z
UID:25822-1570481700-1570488420@jayceland.com
SUMMARY:Official Secrets screening (2019-Oct-7 @ 8:55 p.m.)
DESCRIPTION:The Cinema will screen Official Secrets (Gavin Hood\, U.K. / U.S. 2019\, 112 min.) "The true story of a British whistleblower who leaked information to the press about an illegal NSA spy operation designed to push the UN Security Council into sanctioning the 2003 invasion of Iraq." [source: Cinema Theater coming soon page\, 2019-Oct-2]
URL:https://jayceland.com/blog/event/official-secrets-screening-2019-oct-7-855-p-m/
LOCATION:Cinema Theatre\, 957 S. Clinton Ave.\, Rochester\, New York\, 14620\, United States
CATEGORIES:JayceLand 2019-Oct-3
END:VEVENT
END:VCALENDAR