BEGIN:VCALENDAR
VERSION:2.0
PRODID:-//JayceLand - ECPv6.15.20//NONSGML v1.0//EN
CALSCALE:GREGORIAN
METHOD:PUBLISH
X-WR-CALNAME:JayceLand
X-ORIGINAL-URL:https://jayceland.com/blog
X-WR-CALDESC:Events for JayceLand
REFRESH-INTERVAL;VALUE=DURATION:PT1H
X-Robots-Tag:noindex
X-PUBLISHED-TTL:PT1H
BEGIN:VTIMEZONE
TZID:America/New_York
BEGIN:DAYLIGHT
TZOFFSETFROM:-0500
TZOFFSETTO:-0400
TZNAME:EDT
DTSTART:20180311T070000
END:DAYLIGHT
BEGIN:STANDARD
TZOFFSETFROM:-0400
TZOFFSETTO:-0500
TZNAME:EST
DTSTART:20181104T060000
END:STANDARD
BEGIN:DAYLIGHT
TZOFFSETFROM:-0500
TZOFFSETTO:-0400
TZNAME:EDT
DTSTART:20190310T070000
END:DAYLIGHT
BEGIN:STANDARD
TZOFFSETFROM:-0400
TZOFFSETTO:-0500
TZNAME:EST
DTSTART:20191103T060000
END:STANDARD
BEGIN:DAYLIGHT
TZOFFSETFROM:-0500
TZOFFSETTO:-0400
TZNAME:EDT
DTSTART:20200308T070000
END:DAYLIGHT
BEGIN:STANDARD
TZOFFSETFROM:-0400
TZOFFSETTO:-0500
TZNAME:EST
DTSTART:20201101T060000
END:STANDARD
END:VTIMEZONE
BEGIN:VEVENT
DTSTART;TZID=America/New_York:20191003T180000
DTEND;TZID=America/New_York:20191003T200000
DTSTAMP:20260421T213630
CREATED:20191002T141806Z
LAST-MODIFIED:20191002T141806Z
UID:25811-1570125600-1570132800@jayceland.com
SUMMARY:Science on the Edge: Turning the Science Fiction of Today into Tomorrow's Science Fact through Innovations in Optics (2019-Oct-3 @ 6 p.m.)
DESCRIPTION:This presentation will explore science fiction prophecies that have become reality through optics technology that we all use today. While introducing new innovations in optics and photonics\, this presentation will explore current fantasy worlds such as Iron Man\, Star Wars\, and Harry Potter and predict where they are on-target about the technologies of tomorrow. \n [source: Rochester City Newspaper events calendar\, 2019-Sep-30]
URL:https://jayceland.com/blog/event/science-on-the-edge-turning-the-science-fiction-of-today-into-tomorrows-science-fact-through-innovations-in-optics-2019-oct-3-6-p-m/
LOCATION:Rochester Museum and Science Center (RMSC)\, 657 East Ave.\, Rochester\, New York\, 14607\, United States
CATEGORIES:JayceLand 2019-Oct-3
END:VEVENT
BEGIN:VEVENT
DTSTART;TZID=America/New_York:20191003T180000
DTEND;TZID=America/New_York:20191003T210000
DTSTAMP:20260421T213630
CREATED:20191002T141806Z
LAST-MODIFIED:20191002T141806Z
UID:25812-1570125600-1570136400@jayceland.com
SUMMARY:Women in Games: Create!
DESCRIPTION:An evening of discussions with female innovators and leaders from the video game industry\, including Jacinda Chew\, Emily Greer\, Keisha Howard\, Robin Hunicke\, Elizabeth Lapensée\, Ann McCormick\, Jennifer Oneal\, Kellee Santiago\, Meggan Scavio\, Jen Taylor\, and Kiki Wolfkill. \n [source: Rochester City Newspaper events calendar\, 2019-Oct-2]
URL:https://jayceland.com/blog/event/women-in-games-create/
LOCATION:Strong National Museum of Play\, 1 Manhattan Square Dr.\, Rochester\, New York\, 14607\, United States
CATEGORIES:JayceLand 2019-Oct-3
END:VEVENT
BEGIN:VEVENT
DTSTART;TZID=America/New_York:20191003T190000
DTEND;TZID=America/New_York:20191003T205800
DTSTAMP:20260421T213630
CREATED:20190925T171223Z
LAST-MODIFIED:20190925T171223Z
UID:25728-1570129200-1570136280@jayceland.com
SUMMARY:Blinded by the Light screening (2019-Oct-3 @ 7 p.m.)
DESCRIPTION:The Cinema will screen Blinded by the Light (Gurinder Chadha\, U.K. / U.S. 2019\, 118 min.) "In England in 1987\, a teenager from an Asian family learns to live his life\, understand his family and find his own voice through the music of American rock star Bruce Springsteen." [source: Cinema Theater coming soon page\, 2019-Sep-25]
URL:https://jayceland.com/blog/event/blinded-by-the-light-screening-2019-oct-3-7-p-m/
LOCATION:Cinema Theatre\, 957 S. Clinton Ave.\, Rochester\, New York\, 14620\, United States
CATEGORIES:JayceLand 2019-Oct-3
END:VEVENT
BEGIN:VEVENT
DTSTART;TZID=America/New_York:20191003T193000
DTEND;TZID=America/New_York:20191003T213000
DTSTAMP:20260421T213630
CREATED:20191002T141806Z
LAST-MODIFIED:20191002T141806Z
UID:25797-1570131000-1570138200@jayceland.com
SUMMARY:Ossia New Music performance (2019-Oct-3 @ 7:30 p.m.)
DESCRIPTION:[source: Ossia New Music website\, 2019-Sep-30]
URL:https://jayceland.com/blog/event/ossia-new-music-performance-2019-oct-3-730-p-m/
LOCATION:Kilbourn Hall at Eastman School of Music\, 60 Gibbs St.\, Rochester\, New York\, 14604\, United States
CATEGORIES:JayceLand 2019-Oct-3
END:VEVENT
BEGIN:VEVENT
DTSTART;TZID=America/New_York:20191003T205500
DTEND;TZID=America/New_York:20191003T223000
DTSTAMP:20260421T213630
CREATED:20190925T171223Z
LAST-MODIFIED:20190925T171223Z
UID:25735-1570136100-1570141800@jayceland.com
SUMMARY:David Crosby: Remember My Name screening (2019-Oct-3 @ 8:55 p.m.)
DESCRIPTION:The Cinema will screen David Crosby: Remember My Name (A.J. Eaton\, U.S. 2019\, 95 min.) "Meet David Crosby in this portrait of a man with everything but an easy retirement on his mind." [source: Cinema Theater coming soon page\, 2019-Sep-25]
URL:https://jayceland.com/blog/event/david-crosby-remember-my-name-screening-2019-oct-3-855-p-m/
LOCATION:Cinema Theatre\, 957 S. Clinton Ave.\, Rochester\, New York\, 14620\, United States
CATEGORIES:JayceLand 2019-Oct-3
END:VEVENT
END:VCALENDAR