BEGIN:VCALENDAR
VERSION:2.0
PRODID:-//JayceLand - ECPv6.15.20//NONSGML v1.0//EN
CALSCALE:GREGORIAN
METHOD:PUBLISH
X-ORIGINAL-URL:https://jayceland.com/blog
X-WR-CALDESC:Events for JayceLand
REFRESH-INTERVAL;VALUE=DURATION:PT1H
X-Robots-Tag:noindex
X-PUBLISHED-TTL:PT1H
BEGIN:VTIMEZONE
TZID:America/New_York
BEGIN:DAYLIGHT
TZOFFSETFROM:-0500
TZOFFSETTO:-0400
TZNAME:EDT
DTSTART:20180311T070000
END:DAYLIGHT
BEGIN:STANDARD
TZOFFSETFROM:-0400
TZOFFSETTO:-0500
TZNAME:EST
DTSTART:20181104T060000
END:STANDARD
BEGIN:DAYLIGHT
TZOFFSETFROM:-0500
TZOFFSETTO:-0400
TZNAME:EDT
DTSTART:20190310T070000
END:DAYLIGHT
BEGIN:STANDARD
TZOFFSETFROM:-0400
TZOFFSETTO:-0500
TZNAME:EST
DTSTART:20191103T060000
END:STANDARD
BEGIN:DAYLIGHT
TZOFFSETFROM:-0500
TZOFFSETTO:-0400
TZNAME:EDT
DTSTART:20200308T070000
END:DAYLIGHT
BEGIN:STANDARD
TZOFFSETFROM:-0400
TZOFFSETTO:-0500
TZNAME:EST
DTSTART:20201101T060000
END:STANDARD
END:VTIMEZONE
BEGIN:VEVENT
DTSTART;TZID=America/New_York:20191001T121200
DTEND;TZID=America/New_York:20191001T125200
DTSTAMP:20260421T014554
CREATED:20190911T161105Z
LAST-MODIFIED:20190911T161105Z
UID:25431-1569931920-1569934320@jayceland.com
SUMMARY:Books Sandwiched-In Review by Michael Lasser of Songs of America: Patriotism\, Protest\, and the Music That Made a Nation by Jon Meacham and Tim McGraw
DESCRIPTION:In the Kate Gleason Auditorium of the Bausch and Lomb Library Building\, Michael Lasser will review Songs of America: Patriotism\, Protest\, and the Music That Made a Nation by Jon Meacham and Tim McGraw.  \nThis unique author pair-Pulitzer Prize-winning historian Jon Meacham and Grammy-winning country singer Tim McGraw-trace America's history through songs: lyrics that raised social consciousness\, embodied activism\, symbolized patriotism\, and served as public protest.  \n [source: Friends and Foundation of the Rochester Public Library brochure\, 2019-Sep-9]
URL:https://jayceland.com/blog/event/books-sandwiched-in-review-by-michael-lasser-of-songs-of-america-patriotism-protest-and-the-music-that-made-a-nation-by-jon-meacham-and-tim-mcgraw/
LOCATION:Bausch and Lomb Library Building\, 110 South Ave.\, Rochester\, New York\, 14604\, United States
CATEGORIES:JayceLand 2019-Sep-26
END:VEVENT
BEGIN:VEVENT
DTSTART;TZID=America/New_York:20191001T190000
DTEND;TZID=America/New_York:20191001T205800
DTSTAMP:20260421T014554
CREATED:20190925T171223Z
LAST-MODIFIED:20190925T171223Z
UID:25726-1569956400-1569963480@jayceland.com
SUMMARY:Blinded by the Light screening (2019-Oct-1 @ 7 p.m.)
DESCRIPTION:The Cinema will screen Blinded by the Light (Gurinder Chadha\, U.K. / U.S. 2019\, 118 min.) "In England in 1987\, a teenager from an Asian family learns to live his life\, understand his family and find his own voice through the music of American rock star Bruce Springsteen." [source: Cinema Theater coming soon page\, 2019-Sep-25]
URL:https://jayceland.com/blog/event/blinded-by-the-light-screening-2019-oct-1-7-p-m/
LOCATION:Cinema Theatre\, 957 S. Clinton Ave.\, Rochester\, New York\, 14620\, United States
CATEGORIES:JayceLand 2019-Sep-26
END:VEVENT
BEGIN:VEVENT
DTSTART;TZID=America/New_York:20191001T200000
DTEND;TZID=America/New_York:20191001T220000
DTSTAMP:20260421T014554
CREATED:20190925T171223Z
LAST-MODIFIED:20190925T171223Z
UID:25701-1569960000-1569967200@jayceland.com
SUMMARY:Karuna: Hamid Drake and Adam Rudolph musical performance
DESCRIPTION:Hamid Drake and Adam Rudolph met at the age of 14 years old in a downtown Chicago drum shop. For the past 40 years\, their shared love for rhythms and musics of the world has taken them around the world in performing together with Fred Anderson\, Don Cherry\, Yusef Lateef\, Pharaoh Sanders\, Hassan Hakmoun\, Hu: Vibrational\, Mandingo Griot Society\, and Adam Rudolph's Moving Pictures among others.Their shared Chicago roots and the creative outlook\, longtime global music research and performing experience have allowed them to forge a uniquely shared musical understanding and creative outlook. As Drake reflected upon their influence upon each other\, "I have been developing a hand drum concept on the drum set while Adam says he is developing a drum set concept on his hand drums. We understand one another."   \nWith their new Karuna duet Drake and Rudolph bring their unique and evolved rhythm languages to the fore\, reaching to inspire any audience though spirited dialogue. The name Karuna reflects their ongoing research into the connection of the inner life to musical expression and speaks to the idea of creative action as a gesture of compassion. \n\n [source: Bop Shop website\, 2019-Sep-23]
URL:https://jayceland.com/blog/event/karuna-hamid-drake-and-adam-rudolph-musical-performance/
LOCATION:Bop Shop Records\, 1460 Monroe Ave.\, Rochester\, New York\, 14618\, United States
CATEGORIES:JayceLand 2019-Sep-26
END:VEVENT
BEGIN:VEVENT
DTSTART;TZID=America/New_York:20191001T200000
DTEND;TZID=America/New_York:20191002T000000
DTSTAMP:20260421T014554
CREATED:20190925T171223Z
LAST-MODIFIED:20190925T171223Z
UID:25696-1569960000-1569974400@jayceland.com
SUMMARY:Captured! by Robots\, Behold...the Arctopus\, Dysrhythmia\,  Sulaco musical performances
DESCRIPTION:[source: Facebook\, 2019-Sep-23]
URL:https://jayceland.com/blog/event/captured-by-robots-behold-the-arctopus-dysrhythmia-sulaco-musical-performances/
LOCATION:Bug Jar\, 219 Monroe Ave\, Rochester\, New York\, 14607\, United States
CATEGORIES:JayceLand 2019-Sep-26
END:VEVENT
BEGIN:VEVENT
DTSTART;TZID=America/New_York:20191001T205500
DTEND;TZID=America/New_York:20191001T223000
DTSTAMP:20260421T014554
CREATED:20190925T171223Z
LAST-MODIFIED:20190925T171223Z
UID:25733-1569963300-1569969000@jayceland.com
SUMMARY:David Crosby: Remember My Name screening (2019-Oct-1 @ 8:55 p.m.)
DESCRIPTION:The Cinema will screen David Crosby: Remember My Name (A.J. Eaton\, U.S. 2019\, 95 min.) "Meet David Crosby in this portrait of a man with everything but an easy retirement on his mind." [source: Cinema Theater coming soon page\, 2019-Sep-25]
URL:https://jayceland.com/blog/event/david-crosby-remember-my-name-screening-2019-oct-1-855-p-m/
LOCATION:Cinema Theatre\, 957 S. Clinton Ave.\, Rochester\, New York\, 14620\, United States
CATEGORIES:JayceLand 2019-Sep-26
END:VEVENT
END:VCALENDAR