BEGIN:VCALENDAR
VERSION:2.0
PRODID:-//JayceLand - ECPv6.15.20//NONSGML v1.0//EN
CALSCALE:GREGORIAN
METHOD:PUBLISH
X-ORIGINAL-URL:https://jayceland.com/blog
X-WR-CALDESC:Events for JayceLand
REFRESH-INTERVAL;VALUE=DURATION:PT1H
X-Robots-Tag:noindex
X-PUBLISHED-TTL:PT1H
BEGIN:VTIMEZONE
TZID:America/New_York
BEGIN:DAYLIGHT
TZOFFSETFROM:-0500
TZOFFSETTO:-0400
TZNAME:EDT
DTSTART:20180311T070000
END:DAYLIGHT
BEGIN:STANDARD
TZOFFSETFROM:-0400
TZOFFSETTO:-0500
TZNAME:EST
DTSTART:20181104T060000
END:STANDARD
BEGIN:DAYLIGHT
TZOFFSETFROM:-0500
TZOFFSETTO:-0400
TZNAME:EDT
DTSTART:20190310T070000
END:DAYLIGHT
BEGIN:STANDARD
TZOFFSETFROM:-0400
TZOFFSETTO:-0500
TZNAME:EST
DTSTART:20191103T060000
END:STANDARD
BEGIN:DAYLIGHT
TZOFFSETFROM:-0500
TZOFFSETTO:-0400
TZNAME:EDT
DTSTART:20200308T070000
END:DAYLIGHT
BEGIN:STANDARD
TZOFFSETFROM:-0400
TZOFFSETTO:-0500
TZNAME:EST
DTSTART:20201101T060000
END:STANDARD
END:VTIMEZONE
BEGIN:VEVENT
DTSTART;TZID=America/New_York:20190902T163000
DTEND;TZID=America/New_York:20190902T175600
DTSTAMP:20260422T155801
CREATED:20190828T184948Z
LAST-MODIFIED:20190828T184948Z
UID:25242-1567441800-1567446960@jayceland.com
SUMMARY:The Secret Life of Pets 2 screening (2019-Sep-2 @ 4:30 p.m.)
DESCRIPTION:The Cinema will screen The Secret Life of Pets 2 (Chris Renaud\, Jonathan del Val\, France / Japan / U.S. 2019\, 86 min.) "Max the terrier encounters canine-intolerant cows\, hostile foxes and a scary turkey when he visits the countryside. Luckily for Max\, he soon catches a break when he meets Rooster\, a gruff farm dog who tries to cure the lovable pooch of his neuroses." [source: Cinema Theatre e-mail\, 2019-Aug-28]
URL:https://jayceland.com/blog/event/the-secret-life-of-pets-2-screening-2019-sep-2-430-p-m/
LOCATION:Cinema Theatre\, 957 S. Clinton Ave.\, Rochester\, New York\, 14620\, United States
CATEGORIES:JayceLand 2019-Aug-29
END:VEVENT
BEGIN:VEVENT
DTSTART;TZID=America/New_York:20190902T190000
DTEND;TZID=America/New_York:20190902T202600
DTSTAMP:20260422T155801
CREATED:20190828T184948Z
LAST-MODIFIED:20190828T184948Z
UID:25231-1567450800-1567455960@jayceland.com
SUMMARY:The Secret Life of Pets 2 screening (2019-Sep-2 @ 7 p.m.)
DESCRIPTION:The Cinema will screen The Secret Life of Pets 2 (Chris Renaud\, Jonathan del Val\, France / Japan / U.S. 2019\, 86 min.) "Max the terrier encounters canine-intolerant cows\, hostile foxes and a scary turkey when he visits the countryside. Luckily for Max\, he soon catches a break when he meets Rooster\, a gruff farm dog who tries to cure the lovable pooch of his neuroses." [source: Cinema Theatre e-mail\, 2019-Aug-28]
URL:https://jayceland.com/blog/event/the-secret-life-of-pets-2-screening-2019-sep-2-7-p-m/
LOCATION:Cinema Theatre\, 957 S. Clinton Ave.\, Rochester\, New York\, 14620\, United States
CATEGORIES:JayceLand 2019-Aug-29
END:VEVENT
BEGIN:VEVENT
DTSTART;TZID=America/New_York:20190902T203000
DTEND;TZID=America/New_York:20190902T222600
DTSTAMP:20260422T155801
CREATED:20190828T184948Z
LAST-MODIFIED:20190828T184948Z
UID:25238-1567456200-1567463160@jayceland.com
SUMMARY:Yesterday screening (2019-Sep-2 @ 8:30 p.m.)
DESCRIPTION:The Cinema will screen Yesterday (Danny Boyle\, U.K. / Russia / China 2019\, 116 min.) "Jack Malik (Himesh Patel) is a struggling singer-songwriter in a tiny English seaside town whose dreams of fame are rapidly fading\, despite the fierce devotion and support of his childhood best friend\, Ellie (Lily James\, from Mamma Mia! Here We Go Again). Then\, after a freak bus accident during a mysterious global blackout\, Jack wakes up to discover that The Beatles have never existed… and he finds himself with a very complicated problem\, indeed." [source: Cinema Theatre e-mail\, 2019-Aug-28]
URL:https://jayceland.com/blog/event/yesterday-screening-2019-sep-2-830-p-m/
LOCATION:Cinema Theatre\, 957 S. Clinton Ave.\, Rochester\, New York\, 14620\, United States
CATEGORIES:JayceLand 2019-Aug-29
END:VEVENT
END:VCALENDAR