BEGIN:VCALENDAR
VERSION:2.0
PRODID:-//JayceLand - ECPv6.15.20//NONSGML v1.0//EN
CALSCALE:GREGORIAN
METHOD:PUBLISH
X-ORIGINAL-URL:https://jayceland.com/blog
X-WR-CALDESC:Events for JayceLand
REFRESH-INTERVAL;VALUE=DURATION:PT1H
X-Robots-Tag:noindex
X-PUBLISHED-TTL:PT1H
BEGIN:VTIMEZONE
TZID:America/New_York
BEGIN:DAYLIGHT
TZOFFSETFROM:-0500
TZOFFSETTO:-0400
TZNAME:EDT
DTSTART:20180311T070000
END:DAYLIGHT
BEGIN:STANDARD
TZOFFSETFROM:-0400
TZOFFSETTO:-0500
TZNAME:EST
DTSTART:20181104T060000
END:STANDARD
BEGIN:DAYLIGHT
TZOFFSETFROM:-0500
TZOFFSETTO:-0400
TZNAME:EDT
DTSTART:20190310T070000
END:DAYLIGHT
BEGIN:STANDARD
TZOFFSETFROM:-0400
TZOFFSETTO:-0500
TZNAME:EST
DTSTART:20191103T060000
END:STANDARD
BEGIN:DAYLIGHT
TZOFFSETFROM:-0500
TZOFFSETTO:-0400
TZNAME:EDT
DTSTART:20200308T070000
END:DAYLIGHT
BEGIN:STANDARD
TZOFFSETFROM:-0400
TZOFFSETTO:-0500
TZNAME:EST
DTSTART:20201101T060000
END:STANDARD
END:VTIMEZONE
BEGIN:VEVENT
DTSTART;TZID=America/New_York:20190803T100000
DTEND;TZID=America/New_York:20190803T180000
DTSTAMP:20260423T003837
CREATED:20190731T175518Z
LAST-MODIFIED:20190731T175518Z
UID:24985-1564826400-1564855200@jayceland.com
SUMMARY:Park Avenue Summer Arts Festival (2019-Aug-3 @ 10 a.m.)
DESCRIPTION:[source: Rochester City Newspaper events calendar\, 2019-Jul-30]
URL:https://jayceland.com/blog/event/park-avenue-summer-arts-festival-2019-aug-3-10-a-m/
LOCATION:Park Ave.\, Rochester\, New York\, United States
CATEGORIES:JayceLand 2019-Aug-1
END:VEVENT
BEGIN:VEVENT
DTSTART;TZID=America/New_York:20190803T100000
DTEND;TZID=America/New_York:20190803T210000
DTSTAMP:20260423T003837
CREATED:20190731T175518Z
LAST-MODIFIED:20190731T175518Z
UID:24988-1564826400-1564866000@jayceland.com
SUMMARY:Monroe County Fair (2019-Aug-3 @ 10 a.m.)
DESCRIPTION:[source: Rochester City Newspaper events calendar\, 2019-Jul-30]
URL:https://jayceland.com/blog/event/monroe-county-fair-2019-aug-3-10-a-m/
LOCATION:Monroe County Fairgrounds\, 6565 E. River Rd.\, Rush\, New York\, 14543\, United States
CATEGORIES:JayceLand 2019-Aug-1
END:VEVENT
BEGIN:VEVENT
DTSTART;TZID=America/New_York:20190803T110000
DTEND;TZID=America/New_York:20190803T190000
DTSTAMP:20260423T003837
CREATED:20190724T152813Z
LAST-MODIFIED:20190724T152813Z
UID:24911-1564830000-1564858800@jayceland.com
SUMMARY:27th Annual Glorious Garlic Festival (2019-Aug-3 @ 11 a.m.)
DESCRIPTION:[source: Rochester City Newspaper events calendar\, 2019-Jul-24]
URL:https://jayceland.com/blog/event/27th-annual-glorious-garlic-festival-2019-aug-3-11-a-m/
LOCATION:Fox Run Vineyards\, 670 NY 14\, Penn Yan\, New York\, 14527\, United States
CATEGORIES:JayceLand 2019-Aug-1
END:VEVENT
BEGIN:VEVENT
DTSTART;TZID=America/New_York:20190803T161500
DTEND;TZID=America/New_York:20190803T175700
DTSTAMP:20260423T003837
CREATED:20190731T175519Z
LAST-MODIFIED:20190731T175519Z
UID:25002-1564848900-1564855020@jayceland.com
SUMMARY:Late Night screening (2019-Aug-3 @ 4:15 p.m.)
DESCRIPTION:The Cinema will screen Late Night (Nisha Ganatra\, U.S. 2019\, 102 min.) "A late night talk show host suspects that she may soon lose her long-running show." [source: Cinema Theater coming soon page\, 2019-Jul-31]
URL:https://jayceland.com/blog/event/late-night-screening-2019-aug-3-415-p-m/
LOCATION:Cinema Theatre\, 957 S. Clinton Ave.\, Rochester\, New York\, 14620\, United States
CATEGORIES:JayceLand 2019-Aug-1
END:VEVENT
BEGIN:VEVENT
DTSTART;TZID=America/New_York:20190803T190000
DTEND;TZID=America/New_York:20190803T203900
DTSTAMP:20260423T003837
CREATED:20190724T152814Z
LAST-MODIFIED:20190724T152814Z
UID:24929-1564858800-1564864740@jayceland.com
SUMMARY:Wally Got Wasted screening
DESCRIPTION:The Cinema will screen Wally Got Wasted (Adam William Ward\, U.S. 2019\, 99 min.) "Three friends accidentally kill a man\, but they screw up getting rid of the body. So they are forced to pretend he is alive while they are being chased throughout the streets of La in one crazy night." [source: Cinema Theater coming soon page\, 2019-Jul-24]
URL:https://jayceland.com/blog/event/wally-got-wasted-screening/
LOCATION:Cinema Theatre\, 957 S. Clinton Ave.\, Rochester\, New York\, 14620\, United States
CATEGORIES:JayceLand 2019-Aug-1
END:VEVENT
BEGIN:VEVENT
DTSTART;TZID=America/New_York:20190803T190000
DTEND;TZID=America/New_York:20190803T204400
DTSTAMP:20260423T003837
CREATED:20190731T175517Z
LAST-MODIFIED:20190731T175517Z
UID:24975-1564858800-1564865040@jayceland.com
SUMMARY:May It Last: A Portrait of The Avett Brothers screening (2019-Aug-3 @ 7 p.m.)
DESCRIPTION:The Little will screen May It Last: A Portrait of The Avett Brothers (Judd Apatow\, Michael Bonfiglio\, U.S. 2017\, 104 min.) as part of the Little Summer of Music and Art series.  \nFilmed with extraordinary access over more than two years\, May It Last: A Portrait Of The Avett Brothers is a deeply intimate and revealing look at the Grammy Award-nominated North Carolina band fronted by Seth and Scott Avett. Directors Judd Apatow and Michael Bonfiglio chart the Avett Brothers' decade-and-a-half rise\, while chronicling their 2016 collaboration with famed producer Rick Rubin on the critically-acclaimed album "True Sadness\," released on American Recordings/Republic Records. Using the recording process as a backdrop\, the film depicts a lifelong creative partnership put to the test as band members undergo marriage\, divorce\, parenthood\, illness\, and the challenges of the music business. \n [source: Little Theatre calendar\, 2019-Jul-30]
URL:https://jayceland.com/blog/event/may-it-last-a-portrait-of-the-avett-brothers-screening-2019-aug-3-7-p-m/
LOCATION:Little Theatre\, 240 East Ave. #100\, Rochester\, New York\, 14604\, United States
CATEGORIES:JayceLand 2019-Aug-1
END:VEVENT
BEGIN:VEVENT
DTSTART;TZID=America/New_York:20190803T213000
DTEND;TZID=America/New_York:20190803T233000
DTSTAMP:20260423T003837
CREATED:20190731T175517Z
LAST-MODIFIED:20190731T175517Z
UID:24977-1564867800-1564875000@jayceland.com
SUMMARY:HarborLights\, Periodic Table of Elephants\, Walrus Junction\, Fortunato musical performances
DESCRIPTION:[source: Facebook\, 2019-Jul-30]
URL:https://jayceland.com/blog/event/harborlights-periodic-table-of-elephants-walrus-junction-fortunato-musical-performances/
LOCATION:Bug Jar\, 219 Monroe Ave\, Rochester\, New York\, 14607\, United States
CATEGORIES:JayceLand 2019-Aug-1
END:VEVENT
END:VCALENDAR