BEGIN:VCALENDAR
VERSION:2.0
PRODID:-//JayceLand - ECPv6.15.20//NONSGML v1.0//EN
CALSCALE:GREGORIAN
METHOD:PUBLISH
X-ORIGINAL-URL:https://jayceland.com/blog
X-WR-CALDESC:Events for JayceLand
REFRESH-INTERVAL;VALUE=DURATION:PT1H
X-Robots-Tag:noindex
X-PUBLISHED-TTL:PT1H
BEGIN:VTIMEZONE
TZID:America/New_York
BEGIN:DAYLIGHT
TZOFFSETFROM:-0500
TZOFFSETTO:-0400
TZNAME:EDT
DTSTART:20180311T070000
END:DAYLIGHT
BEGIN:STANDARD
TZOFFSETFROM:-0400
TZOFFSETTO:-0500
TZNAME:EST
DTSTART:20181104T060000
END:STANDARD
BEGIN:DAYLIGHT
TZOFFSETFROM:-0500
TZOFFSETTO:-0400
TZNAME:EDT
DTSTART:20190310T070000
END:DAYLIGHT
BEGIN:STANDARD
TZOFFSETFROM:-0400
TZOFFSETTO:-0500
TZNAME:EST
DTSTART:20191103T060000
END:STANDARD
BEGIN:DAYLIGHT
TZOFFSETFROM:-0500
TZOFFSETTO:-0400
TZNAME:EDT
DTSTART:20200308T070000
END:DAYLIGHT
BEGIN:STANDARD
TZOFFSETFROM:-0400
TZOFFSETTO:-0500
TZNAME:EST
DTSTART:20201101T060000
END:STANDARD
END:VTIMEZONE
BEGIN:VEVENT
DTSTART;TZID=America/New_York:20190725T180000
DTEND;TZID=America/New_York:20190725T193000
DTSTAMP:20260425T225946
CREATED:20190724T152812Z
LAST-MODIFIED:20190724T152812Z
UID:24898-1564077600-1564083000@jayceland.com
SUMMARY:El Camino Evening Walk
DESCRIPTION:Join Genesee Land Trust on a City of Rochester Flower City Feeling Good walk along the Thomas R. Frey Trail at El Camino. The urban trail is most notably known for its unique murals and trail markers that reflect the cultural history of the area. \n [source: Genesee Land Trust website\, 2019-Jul-22]
URL:https://jayceland.com/blog/event/el-camino-evening-walk/
LOCATION:Conkey Corner Park\, 92 Conkey Ave.\, Rochester\, New York\, 14621\, United States
CATEGORIES:JayceLand 2019-Jul-25
END:VEVENT
BEGIN:VEVENT
DTSTART;TZID=America/New_York:20190725T190000
DTEND;TZID=America/New_York:20190725T201500
DTSTAMP:20260425T225946
CREATED:20190724T152812Z
LAST-MODIFIED:20190724T152812Z
UID:24900-1564081200-1564085700@jayceland.com
SUMMARY:Twilight Tour (2019-Jul-25 @ 7 p.m.)
DESCRIPTION:This 75-minute tour includes some topics covered on Sunday North Section tours as well as new material\, on an alternate route in the North Section. \n [source: Friends of Mt. Hope website\, 2019-Jul-22]
URL:https://jayceland.com/blog/event/twilight-tour-2019-jul-25-7-p-m/
LOCATION:Mt. Hope Cemetery North Gatehouse\, 791 Mt. Hope Ave.\, Rochester\, New York\, 14620\, United States
CATEGORIES:JayceLand 2019-Jul-25
END:VEVENT
BEGIN:VEVENT
DTSTART;TZID=America/New_York:20190725T190000
DTEND;TZID=America/New_York:20190725T210100
DTSTAMP:20260425T225946
CREATED:20190718T020825Z
LAST-MODIFIED:20190718T020825Z
UID:24860-1564081200-1564088460@jayceland.com
SUMMARY:The Last Black Man in San Francisco screening (2019-Jul-25 @ 7 p.m.)
DESCRIPTION:The Cinema will screen The Last Black Man in San Francisco (Joe Talbot\, U.S. 2019\, 121 min.) "A young man searches for home in the changing city that seems to have left him behind." [source: Cinema Theater coming soon page\, 2019-Jul-17]
URL:https://jayceland.com/blog/event/the-last-black-man-in-san-francisco-screening-2019-jul-25-7-p-m/
LOCATION:Cinema Theatre\, 957 S. Clinton Ave.\, Rochester\, New York\, 14620\, United States
CATEGORIES:JayceLand 2019-Jul-25
END:VEVENT
BEGIN:VEVENT
DTSTART;TZID=America/New_York:20190725T200000
DTEND;TZID=America/New_York:20190725T220000
DTSTAMP:20260425T225946
CREATED:20190724T152812Z
LAST-MODIFIED:20190724T152812Z
UID:24895-1564084800-1564092000@jayceland.com
SUMMARY:Death Cow\, Roselove\, Starting Anonymous musical performances
DESCRIPTION:[source: Facebook\, 2019-Jul-22]
URL:https://jayceland.com/blog/event/death-cow-roselove-starting-anonymous-musical-performances/
LOCATION:Bug Jar\, 219 Monroe Ave\, Rochester\, New York\, 14607\, United States
CATEGORIES:JayceLand 2019-Jul-25
END:VEVENT
BEGIN:VEVENT
DTSTART;TZID=America/New_York:20190725T210000
DTEND;TZID=America/New_York:20190725T224400
DTSTAMP:20260425T225946
CREATED:20190718T020825Z
LAST-MODIFIED:20190718T020825Z
UID:24867-1564088400-1564094640@jayceland.com
SUMMARY:The Dead Don't Die screening (2019-Jul-25 @ 9 p.m.)
DESCRIPTION:The Cinema will screen The Dead Don't Die (Jim Jarmusch\, Sweden / U.S. 2019\, 104 min.) "The peaceful town of Centerville finds itself battling a zombie horde as the dead start rising from their graves." [source: Cinema Theater coming soon page\, 2019-Jul-17]
URL:https://jayceland.com/blog/event/the-dead-dont-die-screening-2019-jul-25-9-p-m/
LOCATION:Cinema Theatre\, 957 S. Clinton Ave.\, Rochester\, New York\, 14620\, United States
CATEGORIES:JayceLand 2019-Jul-25
END:VEVENT
END:VCALENDAR