BEGIN:VCALENDAR
VERSION:2.0
PRODID:-//JayceLand - ECPv6.15.20//NONSGML v1.0//EN
CALSCALE:GREGORIAN
METHOD:PUBLISH
X-WR-CALNAME:JayceLand
X-ORIGINAL-URL:https://jayceland.com/blog
X-WR-CALDESC:Events for JayceLand
REFRESH-INTERVAL;VALUE=DURATION:PT1H
X-Robots-Tag:noindex
X-PUBLISHED-TTL:PT1H
BEGIN:VTIMEZONE
TZID:America/New_York
BEGIN:DAYLIGHT
TZOFFSETFROM:-0500
TZOFFSETTO:-0400
TZNAME:EDT
DTSTART:20180311T070000
END:DAYLIGHT
BEGIN:STANDARD
TZOFFSETFROM:-0400
TZOFFSETTO:-0500
TZNAME:EST
DTSTART:20181104T060000
END:STANDARD
BEGIN:DAYLIGHT
TZOFFSETFROM:-0500
TZOFFSETTO:-0400
TZNAME:EDT
DTSTART:20190310T070000
END:DAYLIGHT
BEGIN:STANDARD
TZOFFSETFROM:-0400
TZOFFSETTO:-0500
TZNAME:EST
DTSTART:20191103T060000
END:STANDARD
BEGIN:DAYLIGHT
TZOFFSETFROM:-0500
TZOFFSETTO:-0400
TZNAME:EDT
DTSTART:20200308T070000
END:DAYLIGHT
BEGIN:STANDARD
TZOFFSETFROM:-0400
TZOFFSETTO:-0500
TZNAME:EST
DTSTART:20201101T060000
END:STANDARD
END:VTIMEZONE
BEGIN:VEVENT
DTSTART;TZID=America/New_York:20190722T183000
DTEND;TZID=America/New_York:20190722T204600
DTSTAMP:20260423T080001
CREATED:20190717T190522Z
LAST-MODIFIED:20190717T190522Z
UID:24811-1563820200-1563828360@jayceland.com
SUMMARY:The Matrix screening
DESCRIPTION:The Little will screen The Matrix (Lana Wachowski\, Lilly Wachowski\, U.S. 1999\, 136 min.) as part of the Party Like It's 1999 series.  \n"You take the blue pill—the story ends\, you wake up in your bed and believe whatever you want to believe. You take the red pill—you stay in Wonderland\, and I show you how deep the rabbit hole goes. Remember: all I'm offering is the truth. Nothing more." \n [source: Little Theatre calendar\, 2019-Jul-15]
URL:https://jayceland.com/blog/event/the-matrix-screening/
LOCATION:Little Theatre\, 240 East Ave. #100\, Rochester\, New York\, 14604\, United States
CATEGORIES:JayceLand 2019-Jul-18
END:VEVENT
BEGIN:VEVENT
DTSTART;TZID=America/New_York:20190722T190000
DTEND;TZID=America/New_York:20190722T210100
DTSTAMP:20260423T080001
CREATED:20190718T020825Z
LAST-MODIFIED:20190718T020825Z
UID:24857-1563822000-1563829260@jayceland.com
SUMMARY:The Last Black Man in San Francisco screening (2019-Jul-22 @ 7 p.m.)
DESCRIPTION:The Cinema will screen The Last Black Man in San Francisco (Joe Talbot\, U.S. 2019\, 121 min.) "A young man searches for home in the changing city that seems to have left him behind." [source: Cinema Theater coming soon page\, 2019-Jul-17]
URL:https://jayceland.com/blog/event/the-last-black-man-in-san-francisco-screening-2019-jul-22-7-p-m/
LOCATION:Cinema Theatre\, 957 S. Clinton Ave.\, Rochester\, New York\, 14620\, United States
CATEGORIES:JayceLand 2019-Jul-18
END:VEVENT
BEGIN:VEVENT
DTSTART;TZID=America/New_York:20190722T210000
DTEND;TZID=America/New_York:20190722T224400
DTSTAMP:20260423T080001
CREATED:20190718T020825Z
LAST-MODIFIED:20190718T020825Z
UID:24864-1563829200-1563835440@jayceland.com
SUMMARY:The Dead Don't Die screening (2019-Jul-22 @ 9 p.m.)
DESCRIPTION:The Cinema will screen The Dead Don't Die (Jim Jarmusch\, Sweden / U.S. 2019\, 104 min.) "The peaceful town of Centerville finds itself battling a zombie horde as the dead start rising from their graves." [source: Cinema Theater coming soon page\, 2019-Jul-17]
URL:https://jayceland.com/blog/event/the-dead-dont-die-screening-2019-jul-22-9-p-m/
LOCATION:Cinema Theatre\, 957 S. Clinton Ave.\, Rochester\, New York\, 14620\, United States
CATEGORIES:JayceLand 2019-Jul-18
END:VEVENT
END:VCALENDAR