BEGIN:VCALENDAR
VERSION:2.0
PRODID:-//JayceLand - ECPv6.15.20//NONSGML v1.0//EN
CALSCALE:GREGORIAN
METHOD:PUBLISH
X-ORIGINAL-URL:https://jayceland.com/blog
X-WR-CALDESC:Events for JayceLand
REFRESH-INTERVAL;VALUE=DURATION:PT1H
X-Robots-Tag:noindex
X-PUBLISHED-TTL:PT1H
BEGIN:VTIMEZONE
TZID:America/New_York
BEGIN:DAYLIGHT
TZOFFSETFROM:-0500
TZOFFSETTO:-0400
TZNAME:EDT
DTSTART:20180311T070000
END:DAYLIGHT
BEGIN:STANDARD
TZOFFSETFROM:-0400
TZOFFSETTO:-0500
TZNAME:EST
DTSTART:20181104T060000
END:STANDARD
BEGIN:DAYLIGHT
TZOFFSETFROM:-0500
TZOFFSETTO:-0400
TZNAME:EDT
DTSTART:20190310T070000
END:DAYLIGHT
BEGIN:STANDARD
TZOFFSETFROM:-0400
TZOFFSETTO:-0500
TZNAME:EST
DTSTART:20191103T060000
END:STANDARD
BEGIN:DAYLIGHT
TZOFFSETFROM:-0500
TZOFFSETTO:-0400
TZNAME:EDT
DTSTART:20200308T070000
END:DAYLIGHT
BEGIN:STANDARD
TZOFFSETFROM:-0400
TZOFFSETTO:-0500
TZNAME:EST
DTSTART:20201101T060000
END:STANDARD
END:VTIMEZONE
BEGIN:VEVENT
DTSTART;TZID=America/New_York:20190721T120000
DTEND;TZID=America/New_York:20190721T180000
DTSTAMP:20260423T092911
CREATED:20190717T190524Z
LAST-MODIFIED:20190717T190524Z
UID:24827-1563710400-1563732000@jayceland.com
SUMMARY:Roc Pride Festival (2019-Jul-21 @ 12 p.m.)
DESCRIPTION:[source: Rochester City Newspaper events calendar\, 2019-Jul-15]
URL:https://jayceland.com/blog/event/roc-pride-festival-2019-jul-21-12-p-m/
LOCATION:Cobbs Hill Park\, 1550 Highland Ave.\, Rochester\, New York\, 14610\, United States
CATEGORIES:JayceLand 2019-Jul-18
END:VEVENT
BEGIN:VEVENT
DTSTART;TZID=America/New_York:20190721T130000
DTEND;TZID=America/New_York:20190721T143000
DTSTAMP:20260423T092911
CREATED:20190717T190524Z
LAST-MODIFIED:20190717T190524Z
UID:24823-1563714000-1563719400@jayceland.com
SUMMARY:Daylily Garden Talk and Tour
DESCRIPTION:Shareholder and Daylily Hybridizer\, Mike Fleche has been busy at work\, cultivating a garden full of color and texture that can only be achieved with the unique quality of Daylilies\, on the corner of South Ave and Hamilton\, next to the Abundance parking lot. Join Mike in the Daylily Garden to learn more about this hardy flower\, experience them in full bloom\, pick up some tips and tricks to help your own garden flourish and ask questions. \n [source: Abundance Food Co-op events page\, 2019-Jul-15]
URL:https://jayceland.com/blog/event/daylily-garden-talk-and-tour/
LOCATION:Abundance Cooperative Market (formerly Echo Tone Music)\, 571 South Ave.\, Rochester\, New York\, 14620\, United States
CATEGORIES:JayceLand 2019-Jul-18
END:VEVENT
BEGIN:VEVENT
DTSTART;TZID=America/New_York:20190721T140000
DTEND;TZID=America/New_York:20190721T160000
DTSTAMP:20260423T092911
CREATED:20190717T190524Z
LAST-MODIFIED:20190717T190524Z
UID:24822-1563717600-1563724800@jayceland.com
SUMMARY:North Section Public Tour (2019-Jul-21 @ 2 p.m.)
DESCRIPTION:This overview tour is a two-hour walk of approximately one mile. It includes the graves of Susan B. Anthony and Frederick Douglass\, as well as topics of local history\, horticulture\, geology\, architecture\, monument symbolism\, and more. Please note that in addition to paved roads the route includes some hills and uneven terrain\, grassy areas\, and dirt paths. \n [source: Friends of Mt. Hope website\, 2019-Jul-15]
URL:https://jayceland.com/blog/event/north-section-public-tour-2019-jul-21-2-p-m/
LOCATION:Mt. Hope Cemetery North Gatehouse\, 791 Mt. Hope Ave.\, Rochester\, New York\, 14620\, United States
CATEGORIES:JayceLand 2019-Jul-18
END:VEVENT
BEGIN:VEVENT
DTSTART;TZID=America/New_York:20190721T150000
DTEND;TZID=America/New_York:20190721T162000
DTSTAMP:20260423T092911
CREATED:20190717T190522Z
LAST-MODIFIED:20190717T190522Z
UID:24809-1563721200-1563726000@jayceland.com
SUMMARY:Water Lilies of Monet: The Magic of Water and Light screening (2019-Jul-21 @ 3 p.m.)
DESCRIPTION:The Little will screen Water Lilies of Monet: The Magic of Water and Light (Giovanni Troilo\, Italy 2018\, 80 min.) as part of the Little Summer of Music and Art series.  \nWater Lilies by Monet — the Magic of Water and Light tells the story of the origin of a massive work of art that broke with convention\, of an artist resurrecting his life only thanks to painting. His human endeavor defied both space and conventions in his timeless masterpieces.   \nIn a war-torn country\, the undisputed genius of French Art disrupted the art world and changes it forever. As the end of the First World War drew near it became clear to Monet that his work of art could not but be his final legacy to France: a symbol of peace\, hope\, and resistance\, in a battered and bloody world.   \nThis is the tale of an obsession with light and water the painter could not escape from and how he transformed it into a kind of magic. A tale of the radical elements that revolutionized Modern Art: Monet's clear intent was to transfer onto canvas the "first\, pure impression" of forms and objects as they appear to the eye that has never seen them before.   \nAnd this documentary will show the Water Lilies by Claude Monet\, as they have never been seen before. A unique\, exclusive look at the masterpieces housed at the Orangerie Museum\, the Marmottan Museum\, the Orsay Museum and Giverny\, for the first time ever on the big screen for an unrepeatable experience. \n\n [source: Little Theatre calendar\, 2019-Jul-15]
URL:https://jayceland.com/blog/event/water-lilies-of-monet-the-magic-of-water-and-light-screening-2019-jul-21-3-p-m/
LOCATION:Little Theatre\, 240 East Ave. #100\, Rochester\, New York\, 14604\, United States
CATEGORIES:JayceLand 2019-Jul-18
END:VEVENT
BEGIN:VEVENT
DTSTART;TZID=America/New_York:20190721T160000
DTEND;TZID=America/New_York:20190721T181200
DTSTAMP:20260423T092911
CREATED:20190718T020825Z
LAST-MODIFIED:20190718T020825Z
UID:24869-1563724800-1563732720@jayceland.com
SUMMARY:Godzilla: King of the Monsters screening (2019-Jul-21 @ 4 p.m.)
DESCRIPTION:The Cinema will screen Godzilla: King of the Monsters (Michael Dougherty\, U.S. / Japan 2019\, 132 min.) "The crypto-zoological agency Monarch faces off against a battery of god-sized monsters\, including the mighty Godzilla\, who collides with Mothra\, Rodan\, and his ultimate nemesis\, the three-headed King Ghidorah." [source: Cinema Theater coming soon page\, 2019-Jul-17]
URL:https://jayceland.com/blog/event/godzilla-king-of-the-monsters-screening-2019-jul-21-4-p-m/
LOCATION:Cinema Theatre\, 957 S. Clinton Ave.\, Rochester\, New York\, 14620\, United States
CATEGORIES:JayceLand 2019-Jul-18
END:VEVENT
BEGIN:VEVENT
DTSTART;TZID=America/New_York:20190721T190000
DTEND;TZID=America/New_York:20190721T210100
DTSTAMP:20260423T092911
CREATED:20190718T020824Z
LAST-MODIFIED:20190718T020824Z
UID:24856-1563735600-1563742860@jayceland.com
SUMMARY:The Last Black Man in San Francisco screening (2019-Jul-21 @ 7 p.m.)
DESCRIPTION:The Cinema will screen The Last Black Man in San Francisco (Joe Talbot\, U.S. 2019\, 121 min.) "A young man searches for home in the changing city that seems to have left him behind." [source: Cinema Theater coming soon page\, 2019-Jul-17]
URL:https://jayceland.com/blog/event/the-last-black-man-in-san-francisco-screening-2019-jul-21-7-p-m/
LOCATION:Cinema Theatre\, 957 S. Clinton Ave.\, Rochester\, New York\, 14620\, United States
CATEGORIES:JayceLand 2019-Jul-18
END:VEVENT
BEGIN:VEVENT
DTSTART;TZID=America/New_York:20190721T210000
DTEND;TZID=America/New_York:20190721T224400
DTSTAMP:20260423T092911
CREATED:20190718T020825Z
LAST-MODIFIED:20190718T020825Z
UID:24863-1563742800-1563749040@jayceland.com
SUMMARY:The Dead Don't Die screening (2019-Jul-21 @ 9 p.m.)
DESCRIPTION:The Cinema will screen The Dead Don't Die (Jim Jarmusch\, Sweden / U.S. 2019\, 104 min.) "The peaceful town of Centerville finds itself battling a zombie horde as the dead start rising from their graves." [source: Cinema Theater coming soon page\, 2019-Jul-17]
URL:https://jayceland.com/blog/event/the-dead-dont-die-screening-2019-jul-21-9-p-m/
LOCATION:Cinema Theatre\, 957 S. Clinton Ave.\, Rochester\, New York\, 14620\, United States
CATEGORIES:JayceLand 2019-Jul-18
END:VEVENT
END:VCALENDAR