BEGIN:VCALENDAR
VERSION:2.0
PRODID:-//JayceLand - ECPv6.15.20//NONSGML v1.0//EN
CALSCALE:GREGORIAN
METHOD:PUBLISH
X-WR-CALNAME:JayceLand
X-ORIGINAL-URL:https://jayceland.com/blog
X-WR-CALDESC:Events for JayceLand
REFRESH-INTERVAL;VALUE=DURATION:PT1H
X-Robots-Tag:noindex
X-PUBLISHED-TTL:PT1H
BEGIN:VTIMEZONE
TZID:America/New_York
BEGIN:DAYLIGHT
TZOFFSETFROM:-0500
TZOFFSETTO:-0400
TZNAME:EDT
DTSTART:20180311T070000
END:DAYLIGHT
BEGIN:STANDARD
TZOFFSETFROM:-0400
TZOFFSETTO:-0500
TZNAME:EST
DTSTART:20181104T060000
END:STANDARD
BEGIN:DAYLIGHT
TZOFFSETFROM:-0500
TZOFFSETTO:-0400
TZNAME:EDT
DTSTART:20190310T070000
END:DAYLIGHT
BEGIN:STANDARD
TZOFFSETFROM:-0400
TZOFFSETTO:-0500
TZNAME:EST
DTSTART:20191103T060000
END:STANDARD
BEGIN:DAYLIGHT
TZOFFSETFROM:-0500
TZOFFSETTO:-0400
TZNAME:EDT
DTSTART:20200308T070000
END:DAYLIGHT
BEGIN:STANDARD
TZOFFSETFROM:-0400
TZOFFSETTO:-0500
TZNAME:EST
DTSTART:20201101T060000
END:STANDARD
END:VTIMEZONE
BEGIN:VEVENT
DTSTART;TZID=America/New_York:20190714T100000
DTEND;TZID=America/New_York:20190714T170000
DTSTAMP:20260425T165121
CREATED:20190710T173535Z
LAST-MODIFIED:20190710T173535Z
UID:24708-1563098400-1563123600@jayceland.com
SUMMARY:Photo Garage Sale (2019-Jul-14 @ 10 a.m.)
DESCRIPTION:Looking for photography equipment? We have everything from darkroom to digital for sale to support our Photography and Digital Arts Department! \n [source: Flower City Arts Center website\, 2019-Jul-8]
URL:https://jayceland.com/blog/event/photo-garage-sale-2019-jul-14-10-a-m/
LOCATION:Flower City Arts Center (formerly Genesee Center for Arts and Education)\, 713 Monroe Ave.\, Rochester\, New York\, 14607\, United States
CATEGORIES:JayceLand 2019-Jul-11
END:VEVENT
BEGIN:VEVENT
DTSTART;TZID=America/New_York:20190714T100000
DTEND;TZID=America/New_York:20190714T170000
DTSTAMP:20260425T165121
CREATED:20190710T173535Z
LAST-MODIFIED:20190710T173535Z
UID:24719-1563098400-1563123600@jayceland.com
SUMMARY:2019 Corn Hill Arts Festival (2019-Jul-14 @ 10 a.m.)
DESCRIPTION:More than 350 original artists\, four stages of live music\, beer and wine gardens\, food trucks\, and the 7th Annual Fairy Houses Tour. This is a family-friendly event and bus shuttles are available. \n [source: Rochester City Newspaper events calendar\, 2019-Jul-8]
URL:https://jayceland.com/blog/event/2019-corn-hill-arts-festival-2019-jul-14-10-a-m/
LOCATION:Corn Hill Neighbors Association\, 133 S. Fitzhugh St.\, Rochester\, New York\, 14608\, United States
CATEGORIES:JayceLand 2019-Jul-11
END:VEVENT
BEGIN:VEVENT
DTSTART;TZID=America/New_York:20190714T120000
DTEND;TZID=America/New_York:20190714T130200
DTSTAMP:20260425T165121
CREATED:20190710T173535Z
LAST-MODIFIED:20190710T173535Z
UID:24709-1563105600-1563109320@jayceland.com
SUMMARY:Chewdaism screening
DESCRIPTION:The Dryden will screen Chewdaism (Eli Batalion\, Documentary\, Canada 2018\, 62 min.\, English\, French\, Yiddish w/ subtitles) as part of the Rochester Jewish Film Festival.  \nComedy duo Jamie Elman and Eli Batalion\, two Montrealers on the cusp of middle age\, love to joke. And nosh. And joke some more. Then nosh. Chewdaism follows the pair—creators and costars of the successful Yiddish-language web series\, "Yid" Life Crisis—as they discover the roots of Montreal's centuries old Jewish community by sampling foods from bagels\, to babke\, to new Jewish fusion. Along the way they share stories with Ashkenazi and Sephardi Jews\, religious and non-religious\, to cook up a delightful haimische guide to the vibrant city. \n [source: George Eastman Museum calendar\, 2019-Jul-8]
URL:https://jayceland.com/blog/event/chewdaism-screening/
LOCATION:Dryden Theatre at George Eastman Museum (formerly George Eastman House)\, 900 East Ave.\, Rochester\, New York\, 14607\, United States
CATEGORIES:JayceLand 2019-Jul-11
END:VEVENT
BEGIN:VEVENT
DTSTART;TZID=America/New_York:20190714T120000
DTEND;TZID=America/New_York:20190714T180000
DTSTAMP:20260425T165121
CREATED:20190710T173536Z
LAST-MODIFIED:20190710T173536Z
UID:24728-1563105600-1563127200@jayceland.com
SUMMARY:4-H Expo
DESCRIPTION:The event will include giveaways\, crafts\, and activities\, as well as demonstrations by members of our 4-H clubs. 4-H projects will be judged at this event. Featuring McGruff The Crime Dog. \n [source: Rochester City Newspaper events calendar\, 2019-Jul-8]
URL:https://jayceland.com/blog/event/4-h-expo/
LOCATION:Ontario Beach Park\, 50 Beach Ave.\, Rochester\, New York\, 14612\, United States
CATEGORIES:JayceLand 2019-Jul-11
END:VEVENT
BEGIN:VEVENT
DTSTART;TZID=America/New_York:20190714T140000
DTEND;TZID=America/New_York:20190714T145300
DTSTAMP:20260425T165121
CREATED:20190710T173535Z
LAST-MODIFIED:20190710T173535Z
UID:24710-1563112800-1563115980@jayceland.com
SUMMARY:Outback Rabbis screening
DESCRIPTION:The Dryden will screen Outback Rabbis (Danny Ben-Moshe\, Australia 2018\, 53 min.\, English) as part of the Rochester Jewish Film Festival.  \nIn Australia's remote bush country\, Jews can be hard to find—but they are there! So two young Chabad families pack up and climb into their custom made Mitzvah Tanks and travel thousands of miles from Melbourne to Australia's most sparsely populated areas\, correcting misconceptions about Judaism\, finding lapsed Jews\, and helping some Aussies discover previously unknown Jewish roots. Filled with surprising\, emotional encounters with outback characters\, and gorgeous images of lush rainforests and spectacular deserts\, Outback Rabbis offers a warm\, humorous look at two families fulfilling their slogan: "No Jew gets left behind." \n [source: George Eastman Museum calendar\, 2019-Jul-8]
URL:https://jayceland.com/blog/event/outback-rabbis-screening/
LOCATION:Dryden Theatre at George Eastman Museum (formerly George Eastman House)\, 900 East Ave.\, Rochester\, New York\, 14607\, United States
CATEGORIES:JayceLand 2019-Jul-11
END:VEVENT
BEGIN:VEVENT
DTSTART;TZID=America/New_York:20190714T140000
DTEND;TZID=America/New_York:20190714T160000
DTSTAMP:20260425T165121
CREATED:20190710T173534Z
LAST-MODIFIED:20190710T173534Z
UID:24704-1563112800-1563120000@jayceland.com
SUMMARY:North Section Public Tour (2019-Jul-14 @ 2 p.m.)
DESCRIPTION:This overview tour is a two-hour walk of approximately one mile. It includes the graves of Susan B. Anthony and Frederick Douglass\, as well as topics of local history\, horticulture\, geology\, architecture\, monument symbolism\, and more. \n [source: Friends of Mt. Hope website\, 2019-Jul-8]
URL:https://jayceland.com/blog/event/north-section-public-tour-2019-jul-14-2-p-m/
LOCATION:Mt. Hope Cemetery North Gatehouse\, 791 Mt. Hope Ave.\, Rochester\, New York\, 14620\, United States
CATEGORIES:JayceLand 2019-Jul-11
END:VEVENT
BEGIN:VEVENT
DTSTART;TZID=America/New_York:20190714T140000
DTEND;TZID=America/New_York:20190714T174500
DTSTAMP:20260425T165121
CREATED:20190710T173534Z
LAST-MODIFIED:20190710T173534Z
UID:24693-1563112800-1563126300@jayceland.com
SUMMARY:Woodstock screening
DESCRIPTION:The Little will screen Woodstock (Michael Wadleigh\, U.S. 1970\, 225 min.) as part of the Little Summer of Music and Art series.  \nThe three-day Woodstock music festival in 1969 was the pivotal event of the 1960s peace movement\, and this landmark concert film is the definitive record of that milestone of rock and roll history. It's more than a chronicle of the hippie movement\, however; this is a film of genuine historical and social importance\, capturing the spirit of America in transition\, when the Vietnam War was at its peak and antiwar protest was fully expressed through the liberating music of the time. With a brilliant crew at his disposal (including a young editor named Martin Scorsese)\, director Michael Wadleigh worked with over 300 hours of footage to create his original 225-minute director's cut\, which was cut by 40 minutes for the film's release in 1970. \n [source: Little Theatre calendar\, 2019-Jul-8]
URL:https://jayceland.com/blog/event/woodstock-screening/
LOCATION:Little Theatre\, 240 East Ave. #100\, Rochester\, New York\, 14604\, United States
CATEGORIES:JayceLand 2019-Jul-11
END:VEVENT
BEGIN:VEVENT
DTSTART;TZID=America/New_York:20190714T161500
DTEND;TZID=America/New_York:20190714T175900
DTSTAMP:20260425T165122
CREATED:20190710T173536Z
LAST-MODIFIED:20190710T173536Z
UID:24746-1563120900-1563127140@jayceland.com
SUMMARY:Pokémon Detective Pikachu screening (2019-Jul-14 @ 4:15 p.m.)
DESCRIPTION:The Cinema will screen Pokémon: Detective Pikachu (Rob Letterman\, U.S. / Japan / Canada 2019\, 104 min.) "In a world where people collect Pokémon to do battle\, a boy comes across an intelligent talking Pikachu who seeks to be a detective." [source: Cinema Theater coming soon page\, 2019-Jul-10]
URL:https://jayceland.com/blog/event/pokemon-detective-pikachu-screening-2019-jul-14-415-p-m/
LOCATION:Cinema Theatre\, 957 S. Clinton Ave.\, Rochester\, New York\, 14620\, United States
CATEGORIES:JayceLand 2019-Jul-11
END:VEVENT
BEGIN:VEVENT
DTSTART;TZID=America/New_York:20190714T170000
DTEND;TZID=America/New_York:20190714T182400
DTSTAMP:20260425T165122
CREATED:20190710T173535Z
LAST-MODIFIED:20190710T173535Z
UID:24711-1563123600-1563128640@jayceland.com
SUMMARY:Simon and Théodore screening
DESCRIPTION:The Dryden will screen Simon and Théodore (Mikael Buch\, France 2018\, 84 min.\, French w/ subtitles) as part of the Rochester Jewish Film Festival.  \nTouching the heartstrings and tickling the funny bone\, French dramedy Simon and Théodore follows the eccentric friendship between an emotionally troubled man and rebellious teen\, two misfits seeking self-acceptance. Loving but deeply troubled Simon\, recently released from a mental hospital but still painfully self-destructive\, is about to become a father. Lonely\, long-haired\, buck toothed Théodore is about to become a bar mitzvah. When Théodore bolts from his big day\, Simon impulsively chases after him\, and the two begin a bumpy relationship that might help them \n [source: George Eastman Museum calendar\, 2019-Jul-8]
URL:https://jayceland.com/blog/event/simon-and-theodore-screening/
LOCATION:Dryden Theatre at George Eastman Museum (formerly George Eastman House)\, 900 East Ave.\, Rochester\, New York\, 14607\, United States
CATEGORIES:JayceLand 2019-Jul-11
END:VEVENT
BEGIN:VEVENT
DTSTART;TZID=America/New_York:20190714T190000
DTEND;TZID=America/New_York:20190714T211200
DTSTAMP:20260425T165122
CREATED:20190710T173536Z
LAST-MODIFIED:20190710T173536Z
UID:24735-1563130800-1563138720@jayceland.com
SUMMARY:Godzilla: King of the Monsters screening (2019-Jul-14 @ 7 p.m.)
DESCRIPTION:The Cinema will screen Godzilla: King of the Monsters (Michael Dougherty\, U.S. / Japan 2019\, 132 min.) "The crypto-zoological agency Monarch faces off against a battery of god-sized monsters\, including the mighty Godzilla\, who collides with Mothra\, Rodan\, and his ultimate nemesis\, the three-headed King Ghidorah." [source: Cinema Theater coming soon page\, 2019-Jul-10]
URL:https://jayceland.com/blog/event/godzilla-king-of-the-monsters-screening-2019-jul-14-7-p-m/
LOCATION:Cinema Theatre\, 957 S. Clinton Ave.\, Rochester\, New York\, 14620\, United States
CATEGORIES:JayceLand 2019-Jul-11
END:VEVENT
BEGIN:VEVENT
DTSTART;TZID=America/New_York:20190714T193000
DTEND;TZID=America/New_York:20190714T205200
DTSTAMP:20260425T165122
CREATED:20190710T173535Z
LAST-MODIFIED:20190710T173535Z
UID:24712-1563132600-1563137520@jayceland.com
SUMMARY:Prosecuting Evil: The Extraordinary World of Ben Ferencz screening
DESCRIPTION:The Dryden will screen Prosecuting Evil: The Extraordinary World of Ben Ferencz (Barry Avrich\, Canada 2018\, 82 min.\, English\, German w/ subtitles) followed by a videoconference discussion with Barry Avrich as part of the Rochester Jewish Film Festival.  \nBarry Avrich's gripping new documentary tells the fascinating story of Ben Ferencz\, the last surviving Nuremberg prosecutor and lifelong advocate of "law not war." After witnessing Nazi concentration camps shortly after liberation\, Ferencz became lead prosecutor in the Einsatzgruppen case at Nuremberg\, which has been called the biggest murder trial in history. He was 27 years old and it was his first trial. All 22 Nazi officials tried for murdering over a million people were convicted. Ferencz went on to advocate for restitution for Jewish victims of the Holocaust and later for the establishment of the International Criminal Court. His fight for justice for victims of atrocity crimes continues today. This is his story\, told mostly by the 98-year-old himself. \n [source: George Eastman Museum calendar\, 2019-Jul-8]
URL:https://jayceland.com/blog/event/prosecuting-evil-the-extraordinary-world-of-ben-ferencz-screening/
LOCATION:Dryden Theatre at George Eastman Museum (formerly George Eastman House)\, 900 East Ave.\, Rochester\, New York\, 14607\, United States
CATEGORIES:JayceLand 2019-Jul-11
END:VEVENT
BEGIN:VEVENT
DTSTART;TZID=America/New_York:20190714T210000
DTEND;TZID=America/New_York:20190714T230000
DTSTAMP:20260425T165122
CREATED:20190710T173534Z
LAST-MODIFIED:20190710T173534Z
UID:24697-1563138000-1563145200@jayceland.com
SUMMARY:Farseek\, The Joke's On Us\, Roselove musical performances
DESCRIPTION:[source: Facebook\, 2019-Jul-8]
URL:https://jayceland.com/blog/event/farseek-the-jokes-on-us-roselove-musical-performances/
LOCATION:Bug Jar\, 219 Monroe Ave\, Rochester\, New York\, 14607\, United States
CATEGORIES:JayceLand 2019-Jul-11
END:VEVENT
BEGIN:VEVENT
DTSTART;TZID=America/New_York:20190714T211500
DTEND;TZID=America/New_York:20190714T230600
DTSTAMP:20260425T165122
CREATED:20190710T173536Z
LAST-MODIFIED:20190710T173536Z
UID:24741-1563138900-1563145560@jayceland.com
SUMMARY:Shaft screening (2019-Jul-14 @ 9:15 p.m.)
DESCRIPTION:The Cinema will screen Shaft (Tim Story\, U.S. 2019\, 111 min.) "JJ Shaft\, a cyber security expert with a degree from MIT\, enlists his family's help to uncover the truth behind his best friend's untimely death." [source: Cinema Theater coming soon page\, 2019-Jul-10]
URL:https://jayceland.com/blog/event/shaft-screening-2019-jul-14-915-p-m/
LOCATION:Cinema Theatre\, 957 S. Clinton Ave.\, Rochester\, New York\, 14620\, United States
CATEGORIES:JayceLand 2019-Jul-11
END:VEVENT
END:VCALENDAR