BEGIN:VCALENDAR
VERSION:2.0
PRODID:-//JayceLand - ECPv6.15.20//NONSGML v1.0//EN
CALSCALE:GREGORIAN
METHOD:PUBLISH
X-WR-CALNAME:JayceLand
X-ORIGINAL-URL:https://jayceland.com/blog
X-WR-CALDESC:Events for JayceLand
REFRESH-INTERVAL;VALUE=DURATION:PT1H
X-Robots-Tag:noindex
X-PUBLISHED-TTL:PT1H
BEGIN:VTIMEZONE
TZID:America/New_York
BEGIN:DAYLIGHT
TZOFFSETFROM:-0500
TZOFFSETTO:-0400
TZNAME:EDT
DTSTART:20180311T070000
END:DAYLIGHT
BEGIN:STANDARD
TZOFFSETFROM:-0400
TZOFFSETTO:-0500
TZNAME:EST
DTSTART:20181104T060000
END:STANDARD
BEGIN:DAYLIGHT
TZOFFSETFROM:-0500
TZOFFSETTO:-0400
TZNAME:EDT
DTSTART:20190310T070000
END:DAYLIGHT
BEGIN:STANDARD
TZOFFSETFROM:-0400
TZOFFSETTO:-0500
TZNAME:EST
DTSTART:20191103T060000
END:STANDARD
BEGIN:DAYLIGHT
TZOFFSETFROM:-0500
TZOFFSETTO:-0400
TZNAME:EDT
DTSTART:20200308T070000
END:DAYLIGHT
BEGIN:STANDARD
TZOFFSETFROM:-0400
TZOFFSETTO:-0500
TZNAME:EST
DTSTART:20201101T060000
END:STANDARD
END:VTIMEZONE
BEGIN:VEVENT
DTSTART;TZID=America/New_York:20190703T190000
DTEND;TZID=America/New_York:20190703T203400
DTSTAMP:20260425T200331
CREATED:20190627T012050Z
LAST-MODIFIED:20190627T012050Z
UID:24549-1562180400-1562186040@jayceland.com
SUMMARY:The Tomorrow Man screening (2019-Jul-3 @ 7 p.m.)
DESCRIPTION:The Cinema will screen The Tomorrow Man (Noble Jones\, U.S. 2019\, 94 min.) "Ed Hemsler spends his life preparing for a disaster that may never come. Ronnie Meisner spends her life shopping for things she may never use. These two people will try to find love while trying not to get lost in each other's stuff." [source: Cinema Theater coming soon page\, 2019-Jun-26]
URL:https://jayceland.com/blog/event/the-tomorrow-man-screening-2019-jul-3-7-p-m/
LOCATION:Cinema Theatre\, 957 S. Clinton Ave.\, Rochester\, New York\, 14620\, United States
CATEGORIES:JayceLand 2019-Jun-27
END:VEVENT
BEGIN:VEVENT
DTSTART;TZID=America/New_York:20190703T193000
DTEND;TZID=America/New_York:20190703T213300
DTSTAMP:20260425T200331
CREATED:20190627T012049Z
LAST-MODIFIED:20190627T012049Z
UID:24541-1562182200-1562189580@jayceland.com
SUMMARY:Der Dibuk screening
DESCRIPTION:The Dryden will screen Der Dibuk (Michal Waszynski\, Poland 1937\, 123 min.\, DCP\, Yiddish w/subtitles) as part of the Rochester Jewish Film Festival Preview series.  \nThis Yiddish film classic is based on the celebrated play of the same name by S. Ansky. The idea for the play came to Ansky as traveled through small towns of Eastern Europe leading a Jewish folklore expedition (cut short by the outbreak of World War I). In Der Dibuk\, boundaries separating the natural from the supernatural dissolve as ill-fated pledges\, unfulfilled passions\, and untimely deaths ensnare two families in a tragic labyrinth of spiritual possession. Made on location in Poland in 1937\, the film brought together the best talents of Polish Jewry: script writers\, composers\, choreographers\, set designers\, actors\, and historical advisors. The exquisite musical and dance interludes evoke the cultural richness of shtetls on the eve of World War II. \n [source: George Eastman Museum calendar\, 2019-Jun-24]
URL:https://jayceland.com/blog/event/der-dibuk-screening/
LOCATION:Dryden Theatre at George Eastman Museum (formerly George Eastman House)\, 900 East Ave.\, Rochester\, New York\, 14607\, United States
CATEGORIES:JayceLand 2019-Jun-27
END:VEVENT
BEGIN:VEVENT
DTSTART;TZID=America/New_York:20190703T203500
DTEND;TZID=America/New_York:20190703T222700
DTSTAMP:20260425T200331
CREATED:20190627T012050Z
LAST-MODIFIED:20190627T012050Z
UID:24559-1562186100-1562192820@jayceland.com
SUMMARY:American Woman screening (2019-Jul-3 @ 8:35 p.m.)
DESCRIPTION:The Cinema will screen American Woman (Jake Scott\, U.K. / U.S. 2019\, 112 min.) "In a small\, blue-collar town in Pennsylvania\, a 32-year-old woman's teen daughter goes missing\, and the woman is left to raise her infant grandson alone. The story is told over the course of 11 years\, from the time her daughter vanishes\, through the the trials-and-tribulations of subsequent years looking for closure\, leading up the long-awaited discovery of the truth." [source: Cinema Theater coming soon page\, 2019-Jun-26]
URL:https://jayceland.com/blog/event/american-woman-screening-2019-jul-3-835-p-m/
LOCATION:Cinema Theatre\, 957 S. Clinton Ave.\, Rochester\, New York\, 14620\, United States
CATEGORIES:JayceLand 2019-Jun-27
END:VEVENT
BEGIN:VEVENT
DTSTART;TZID=America/New_York:20190703T210000
DTEND;TZID=America/New_York:20190703T230000
DTSTAMP:20260425T200331
CREATED:20190627T012049Z
LAST-MODIFIED:20190627T012049Z
UID:24531-1562187600-1562194800@jayceland.com
SUMMARY:Urban Pioneers\, Dangerbyrd\, Jaynie Crash and The Tall Men musical performances
DESCRIPTION:[source: Facebook\, 2019-Jun-24]
URL:https://jayceland.com/blog/event/urban-pioneers-dangerbyrd-jaynie-crash-and-the-tall-men-musical-performances/
LOCATION:Bug Jar\, 219 Monroe Ave\, Rochester\, New York\, 14607\, United States
CATEGORIES:JayceLand 2019-Jun-27
END:VEVENT
END:VCALENDAR