BEGIN:VCALENDAR
VERSION:2.0
PRODID:-//JayceLand - ECPv6.15.20//NONSGML v1.0//EN
CALSCALE:GREGORIAN
METHOD:PUBLISH
X-WR-CALNAME:JayceLand
X-ORIGINAL-URL:https://jayceland.com/blog
X-WR-CALDESC:Events for JayceLand
REFRESH-INTERVAL;VALUE=DURATION:PT1H
X-Robots-Tag:noindex
X-PUBLISHED-TTL:PT1H
BEGIN:VTIMEZONE
TZID:America/New_York
BEGIN:DAYLIGHT
TZOFFSETFROM:-0500
TZOFFSETTO:-0400
TZNAME:EDT
DTSTART:20180311T070000
END:DAYLIGHT
BEGIN:STANDARD
TZOFFSETFROM:-0400
TZOFFSETTO:-0500
TZNAME:EST
DTSTART:20181104T060000
END:STANDARD
BEGIN:DAYLIGHT
TZOFFSETFROM:-0500
TZOFFSETTO:-0400
TZNAME:EDT
DTSTART:20190310T070000
END:DAYLIGHT
BEGIN:STANDARD
TZOFFSETFROM:-0400
TZOFFSETTO:-0500
TZNAME:EST
DTSTART:20191103T060000
END:STANDARD
BEGIN:DAYLIGHT
TZOFFSETFROM:-0500
TZOFFSETTO:-0400
TZNAME:EDT
DTSTART:20200308T070000
END:DAYLIGHT
BEGIN:STANDARD
TZOFFSETFROM:-0400
TZOFFSETTO:-0500
TZNAME:EST
DTSTART:20201101T060000
END:STANDARD
END:VTIMEZONE
BEGIN:VEVENT
DTSTART;TZID=America/New_York:20190617T133000
DTEND;TZID=America/New_York:20190617T144700
DTSTAMP:20260423T075851
CREATED:20190612T135206Z
LAST-MODIFIED:20190612T135206Z
UID:24357-1560778200-1560782820@jayceland.com
SUMMARY:Mystery of the Wax Museum screening (2019-Jun-17 @ 1:30 p.m.)
DESCRIPTION:The Dryden will screen Mystery of the Wax Museum (Michael Curtiz\, U.S. 1933\, 77 min.\, 35mm) as part of the Riskin and Wray series.  \nA companion of sorts to Doctor X (screening May 28)\, this film reteams director Michael Curtiz with actors Fay Wray and Lionel Atwill in another pre-Code\, two-color Technicolor thriller. This time\, Wray is Charlotte\, whose fiancée\, Ralph (Allen Vincent)\, works at a new wax museum in New York City run by the mysterious Ivan Igor (Atwill). Charlotte notices a similarity between Ivan's wax statue of Joan of Arc and recently deceased model. . . . When Ivan mentions that Charlotte bears a striking resemblance to his lost wax model of Marie Antoinette\, her life becomes endangered. This film's unorthodox mix of coffins\, comedy\, and makeup may just be the last word in gruesomeness. \n [source: George Eastman Museum calendar\, 2019-May-28]
URL:https://jayceland.com/blog/event/mystery-of-the-wax-museum-screening-2019-jun-17-130-p-m/
LOCATION:Dryden Theatre at George Eastman Museum (formerly George Eastman House)\, 900 East Ave.\, Rochester\, New York\, 14607\, United States
CATEGORIES:JayceLand 2019-Jun-13
END:VEVENT
BEGIN:VEVENT
DTSTART;TZID=America/New_York:20190617T180000
DTEND;TZID=America/New_York:20190617T193000
DTSTAMP:20260423T075851
CREATED:20190612T135207Z
LAST-MODIFIED:20190612T135207Z
UID:24367-1560794400-1560799800@jayceland.com
SUMMARY:Rochester 2034 Community Meeting (2019-Jun-17 @ 6 p.m.)
DESCRIPTION:Come join us as we discuss Rochester's Draft Comprehensive Plan. Rochester 2034 covers a wide variety of topics\, from housing and transportation to economic growth and historic preservation. Overall\, the Plan presents a blueprint for growth and development\, with three main themes carried throughout — positioning Rochester for growth\, placemaking\, and social and economic equity. \n [source: City of Rochester website\, 2019-Jun-12]
URL:https://jayceland.com/blog/event/rochester-2034-community-meeting-2019-jun-17-6-p-m/
LOCATION:Phillis Wheatley Community Library\, 33 Dr. Samuel McCree Wy\, Rochester\, New York\, 14608\, United States
CATEGORIES:JayceLand 2019-Jun-13
END:VEVENT
BEGIN:VEVENT
DTSTART;TZID=America/New_York:20190617T190000
DTEND;TZID=America/New_York:20190617T210300
DTSTAMP:20260423T075851
CREATED:20190612T135207Z
LAST-MODIFIED:20190612T135207Z
UID:24372-1560798000-1560805380@jayceland.com
SUMMARY:Captain Marvel screening (2019-Jun-17 @ 7 p.m.)
DESCRIPTION:The Cinema will screen Captain Marvel (Anna Boden\, Ryan Fleck\, U.S. 2019\, 123 min.) "Carol Danvers becomes one of the universe's most powerful heroes when Earth is caught in the middle of a galactic war between two alien races." [source: Cinema Theater coming soon page\, 2019-Jun-12]
URL:https://jayceland.com/blog/event/captain-marvel-screening-2019-jun-17-7-p-m/
LOCATION:Cinema Theatre\, 957 S. Clinton Ave.\, Rochester\, New York\, 14620\, United States
CATEGORIES:JayceLand 2019-Jun-13
END:VEVENT
BEGIN:VEVENT
DTSTART;TZID=America/New_York:20190617T210500
DTEND;TZID=America/New_York:20190617T222900
DTSTAMP:20260423T075851
CREATED:20190612T135207Z
LAST-MODIFIED:20190612T135207Z
UID:24379-1560805500-1560810540@jayceland.com
SUMMARY:Serengeti Rules screening (2019-Jun-17 @ 9:05 p.m.)
DESCRIPTION:The Cinema will screen Serengeti Rules (Nicolas Brown\, U.K. / U.S. 2018\, 84 min.) "Exploring some of the most remote and spectacular places on Earth\, five pioneering scientists make surprising discoveries that flip our understanding of nature on its head\, and offer new hope for restoring our world." [source: Cinema Theater coming soon page\, 2019-Jun-12]
URL:https://jayceland.com/blog/event/serengeti-rules-screening-2019-jun-17-905-p-m/
LOCATION:Cinema Theatre\, 957 S. Clinton Ave.\, Rochester\, New York\, 14620\, United States
CATEGORIES:JayceLand 2019-Jun-13
END:VEVENT
BEGIN:VEVENT
DTSTART;TZID=America/New_York:20190617T220000
DTEND;TZID=America/New_York:20190618T000000
DTSTAMP:20260423T075851
CREATED:20190612T135204Z
LAST-MODIFIED:20190612T135204Z
UID:24339-1560808800-1560816000@jayceland.com
SUMMARY:S.M. Wolf\, Lily Grave\, The Sugargliders musical performances
DESCRIPTION:[source: Facebook\, 2019-Jun-10]
URL:https://jayceland.com/blog/event/s-m-wolf-lily-grave-the-sugargliders-musical-performances/
LOCATION:Bug Jar\, 219 Monroe Ave\, Rochester\, New York\, 14607\, United States
CATEGORIES:JayceLand 2019-Jun-13
END:VEVENT
END:VCALENDAR