BEGIN:VCALENDAR
VERSION:2.0
PRODID:-//JayceLand - ECPv6.15.20//NONSGML v1.0//EN
CALSCALE:GREGORIAN
METHOD:PUBLISH
X-WR-CALNAME:JayceLand
X-ORIGINAL-URL:https://jayceland.com/blog
X-WR-CALDESC:Events for JayceLand
REFRESH-INTERVAL;VALUE=DURATION:PT1H
X-Robots-Tag:noindex
X-PUBLISHED-TTL:PT1H
BEGIN:VTIMEZONE
TZID:America/New_York
BEGIN:DAYLIGHT
TZOFFSETFROM:-0500
TZOFFSETTO:-0400
TZNAME:EDT
DTSTART:20180311T070000
END:DAYLIGHT
BEGIN:STANDARD
TZOFFSETFROM:-0400
TZOFFSETTO:-0500
TZNAME:EST
DTSTART:20181104T060000
END:STANDARD
BEGIN:DAYLIGHT
TZOFFSETFROM:-0500
TZOFFSETTO:-0400
TZNAME:EDT
DTSTART:20190310T070000
END:DAYLIGHT
BEGIN:STANDARD
TZOFFSETFROM:-0400
TZOFFSETTO:-0500
TZNAME:EST
DTSTART:20191103T060000
END:STANDARD
BEGIN:DAYLIGHT
TZOFFSETFROM:-0500
TZOFFSETTO:-0400
TZNAME:EDT
DTSTART:20200308T070000
END:DAYLIGHT
BEGIN:STANDARD
TZOFFSETFROM:-0400
TZOFFSETTO:-0500
TZNAME:EST
DTSTART:20201101T060000
END:STANDARD
END:VTIMEZONE
BEGIN:VEVENT
DTSTART;TZID=America/New_York:20190528T183000
DTEND;TZID=America/New_York:20190528T200300
DTSTAMP:20260422T024159
CREATED:20190523T111046Z
LAST-MODIFIED:20190523T111046Z
UID:24077-1559068200-1559073780@jayceland.com
SUMMARY:Giant Little Ones screening
DESCRIPTION:The Cinema will host a special ImageOut screening of  Giant Little Ones (Keith Behrman\, Canada 2018\, 93 min.) "Two popular teen boys\, best friends since childhood\, discover their lives\, families\, and girlfriends dramatically upended after an unexpected incident occurs on the night of a 17th birthday party." [source: Cinema Theater coming soon page\, 2019-May-22]
URL:https://jayceland.com/blog/event/giant-little-ones-screening/
LOCATION:Cinema Theatre\, 957 S. Clinton Ave.\, Rochester\, New York\, 14620\, United States
CATEGORIES:JayceLand 2019-May-23
END:VEVENT
BEGIN:VEVENT
DTSTART;TZID=America/New_York:20190528T193000
DTEND;TZID=America/New_York:20190528T204600
DTSTAMP:20260422T024159
CREATED:20190523T111044Z
LAST-MODIFIED:20190523T111044Z
UID:24056-1559071800-1559076360@jayceland.com
SUMMARY:Doctor X screening
DESCRIPTION:The Dryden will screen Doctor X (Michael Curtiz\, U.S. 1932\, 76 min.\, 35mm) as part of the Riskin and Wray series.  \nIn this pre-Code\, early two-color Technicolor mystery/horror film\, Doctor Xavier (Lionel Atwill) is suspected of a string of brutal murders in New York City. After an initial period of distrust\, his daughter (Fay Wray) teams with reporter Lee Taylor (Lee Tracy) and uses her father's own unorthodox means of uncovering the truth\, to ferret out the killer. Taking advantage of loose enforcement of the Production Code\, the film weaves adult themes such as rape\, prostitution\, and cannibalism into its tight running time. Michael Curtiz\, years before his blockbuster prestige projects\, adds a flair of aesthetics to the affair. \n [source: George Eastman Museum calendar\, 2019-May-20]
URL:https://jayceland.com/blog/event/doctor-x-screening/
LOCATION:Dryden Theatre at George Eastman Museum (formerly George Eastman House)\, 900 East Ave.\, Rochester\, New York\, 14607\, United States
CATEGORIES:JayceLand 2019-May-23
END:VEVENT
BEGIN:VEVENT
DTSTART;TZID=America/New_York:20190528T201500
DTEND;TZID=America/New_York:20190528T214000
DTSTAMP:20260422T024159
CREATED:20190523T111046Z
LAST-MODIFIED:20190523T111046Z
UID:24078-1559074500-1559079600@jayceland.com
SUMMARY:When the Beat Drops screening
DESCRIPTION:The Cinema will host a special ImageOut screening of  When the Beat Drops (Jamal Sims\, U.S. 2018\, 85 min.) "Explores the development of bucking\, an energetic form of the dance\, from the point of view of Anthony Davis\, an Atlanta native who helped popularize it." [source: Cinema Theater coming soon page\, 2019-May-22]
URL:https://jayceland.com/blog/event/when-the-beat-drops-screening/
LOCATION:Cinema Theatre\, 957 S. Clinton Ave.\, Rochester\, New York\, 14620\, United States
CATEGORIES:JayceLand 2019-May-23
END:VEVENT
BEGIN:VEVENT
DTSTART;TZID=America/New_York:20190528T210000
DTEND;TZID=America/New_York:20190528T230000
DTSTAMP:20260422T024159
CREATED:20190523T111043Z
LAST-MODIFIED:20190523T111043Z
UID:24046-1559077200-1559084400@jayceland.com
SUMMARY:Common Sage\, Carpool\, Full Body\, Adam Warren musical performances
DESCRIPTION:[source: Facebook\, 2019-May-20]
URL:https://jayceland.com/blog/event/common-sage-carpool-full-body-adam-warren-musical-performances/
LOCATION:Bug Jar\, 219 Monroe Ave\, Rochester\, New York\, 14607\, United States
CATEGORIES:JayceLand 2019-May-23
END:VEVENT
END:VCALENDAR