BEGIN:VCALENDAR
VERSION:2.0
PRODID:-//JayceLand - ECPv6.15.20//NONSGML v1.0//EN
CALSCALE:GREGORIAN
METHOD:PUBLISH
X-WR-CALNAME:JayceLand
X-ORIGINAL-URL:https://jayceland.com/blog
X-WR-CALDESC:Events for JayceLand
REFRESH-INTERVAL;VALUE=DURATION:PT1H
X-Robots-Tag:noindex
X-PUBLISHED-TTL:PT1H
BEGIN:VTIMEZONE
TZID:America/New_York
BEGIN:DAYLIGHT
TZOFFSETFROM:-0500
TZOFFSETTO:-0400
TZNAME:EDT
DTSTART:20180311T070000
END:DAYLIGHT
BEGIN:STANDARD
TZOFFSETFROM:-0400
TZOFFSETTO:-0500
TZNAME:EST
DTSTART:20181104T060000
END:STANDARD
BEGIN:DAYLIGHT
TZOFFSETFROM:-0500
TZOFFSETTO:-0400
TZNAME:EDT
DTSTART:20190310T070000
END:DAYLIGHT
BEGIN:STANDARD
TZOFFSETFROM:-0400
TZOFFSETTO:-0500
TZNAME:EST
DTSTART:20191103T060000
END:STANDARD
BEGIN:DAYLIGHT
TZOFFSETFROM:-0500
TZOFFSETTO:-0400
TZNAME:EDT
DTSTART:20200308T070000
END:DAYLIGHT
BEGIN:STANDARD
TZOFFSETFROM:-0400
TZOFFSETTO:-0500
TZNAME:EST
DTSTART:20201101T060000
END:STANDARD
END:VTIMEZONE
BEGIN:VEVENT
DTSTART;TZID=America/New_York:20190525T110000
DTEND;TZID=America/New_York:20190525T130000
DTSTAMP:20260424T155739
CREATED:20190523T111043Z
LAST-MODIFIED:20190523T111043Z
UID:24052-1558782000-1558789200@jayceland.com
SUMMARY:Memorial Day Weekend Tour
DESCRIPTION:From the Revolution to today\, a remembrance of those who gave their last full measure. \n [source: Friends of Mt. Hope website\, 2019-May-20]
URL:https://jayceland.com/blog/event/memorial-day-weekend-tour/
LOCATION:Mt. Hope Cemetery North Gatehouse\, 791 Mt. Hope Ave.\, Rochester\, New York\, 14620\, United States
CATEGORIES:JayceLand 2019-May-23
END:VEVENT
BEGIN:VEVENT
DTSTART;TZID=America/New_York:20190525T161500
DTEND;TZID=America/New_York:20190525T175500
DTSTAMP:20260424T155739
CREATED:20190523T111046Z
LAST-MODIFIED:20190523T111046Z
UID:24076-1558800900-1558806900@jayceland.com
SUMMARY:Ask Dr. Ruth screening (2019-May-25 @ 4:15 p.m.)
DESCRIPTION:The Cinema will screen Ask Dr. Ruth (Ryan White\, U.S. 2019\, 100 min.) "Charting the incredible life of Dr. Ruth Westheimer\, a Holocaust survivor who became America's most famous sex therapist." [source: Cinema Theater coming soon page\, 2019-May-22]
URL:https://jayceland.com/blog/event/ask-dr-ruth-screening-2019-may-25-415-p-m/
LOCATION:Cinema Theatre\, 957 S. Clinton Ave.\, Rochester\, New York\, 14620\, United States
CATEGORIES:JayceLand 2019-May-23
END:VEVENT
BEGIN:VEVENT
DTSTART;TZID=America/New_York:20190525T173000
DTEND;TZID=America/New_York:20190525T193000
DTSTAMP:20260424T155739
CREATED:20190523T111043Z
LAST-MODIFIED:20190523T111043Z
UID:24047-1558805400-1558812600@jayceland.com
SUMMARY:Solidarity and Support: A Dinner to Benefit Benny and Nina Warr
DESCRIPTION:A little more than 6 years ago on May 1\, Benny Warr was pepper sprayed\, dumped out of his motorized wheelchair\, and was punched\, kicked\, and kneed by Rochester Police Department officers Ferrigno\, Liberatore\, and Stewart. He was told to move on as the officers were clearing the block. When he refused and told them that he was waiting for the bus\, they attacked him.   \nFive and half years later a jury finally heard his civil suit and sided with the officers' story giving Benny just $1 in nominal damages. The judge is considering motions to reverse the verdict.   \nOver the last six years\, Benny's quality of life has deteriorated. The pain he feels in his body has gotten progressively worse. He suffers from Ptsd. He is unable to use his prosthesis to get around. All this caused because of police violence.   \nPlease come out showing support and solidarity with Benny and Nina. \n\n [source: Flying Squirrel website\, 2019-May-20]
URL:https://jayceland.com/blog/event/solidarity-and-support-a-dinner-to-benefit-benny-and-nina-warr/
LOCATION:Flying Squirrel Community Space\, 285 Clarissa St.\, Rochester\, New York\, 14608\, United States
CATEGORIES:JayceLand 2019-May-23
END:VEVENT
BEGIN:VEVENT
DTSTART;TZID=America/New_York:20190525T183000
DTEND;TZID=America/New_York:20190525T202700
DTSTAMP:20260424T155739
CREATED:20190523T111043Z
LAST-MODIFIED:20190523T111043Z
UID:24040-1558809000-1558816020@jayceland.com
SUMMARY:Alien screening (2019-May-25 @ 6:30 p.m.)
DESCRIPTION:The Little will screen Alien (Ridley Scott\, U.K. / U.S. 1979\, 117 min.)  \nAfter a space merchant vessel perceives an unknown transmission as a distress call\, its landing on the source moon finds one of the crew attacked by a mysterious lifeform\, and they soon realize that its life cycle has merely begun. \n [source: Little Theatre calendar\, 2019-May-20]
URL:https://jayceland.com/blog/event/alien-screening-2019-may-25-630-p-m/
LOCATION:Little Theatre\, 240 East Ave. #100\, Rochester\, New York\, 14604\, United States
CATEGORIES:JayceLand 2019-May-23
END:VEVENT
BEGIN:VEVENT
DTSTART;TZID=America/New_York:20190525T190000
DTEND;TZID=America/New_York:20190525T202900
DTSTAMP:20260424T155739
CREATED:20190523T111045Z
LAST-MODIFIED:20190523T111045Z
UID:24065-1558810800-1558816140@jayceland.com
SUMMARY:Amazing Grace screening (2019-May-25 @ 7 p.m.)
DESCRIPTION:The Cinema will screen Amazing Grace (Alan Elliott\, Sydney Pollack\, U.S. 2018\, 89 min.) "A documentary presenting Aretha Franklin with choir at the New Bethel Baptist Church in Watts\, Los Angeles in January 1972." [source: Cinema Theater coming soon page\, 2019-May-22]
URL:https://jayceland.com/blog/event/amazing-grace-screening-2019-may-25-7-p-m/
LOCATION:Cinema Theatre\, 957 S. Clinton Ave.\, Rochester\, New York\, 14620\, United States
CATEGORIES:JayceLand 2019-May-23
END:VEVENT
BEGIN:VEVENT
DTSTART;TZID=America/New_York:20190525T193000
DTEND;TZID=America/New_York:20190525T214100
DTSTAMP:20260424T155739
CREATED:20190523T111044Z
LAST-MODIFIED:20190523T111044Z
UID:24057-1558812600-1558820460@jayceland.com
SUMMARY:Erin Brockovich screening
DESCRIPTION:The Dryden will screen Erin Brockovich (Steven Soderbergh\, U.S. 2000\, 131 min.\, 35mm) as part of the Julia Roberts\, and Albert Finney series.  \nJulia Roberts's Academy Award-winning performance anchors this film based on a true story. Erin is a fiery single mother of three who hires Ed Masry (Albert Finney) to sue for damages related to an injury she sustained in a car crash. When her temper gets the better of her in court and she loses the case\, she convinces Masry to give her a job in his office. There\, she comes across the case file of the Jensen family\, who have had problems with tumors and lymphoma connected to the chemicals in the groundwater from the nearby electric plant. As Brockovich and Masry continue their investigation and uncover greater levels of corporate malfeasance\, their case grows to proportions that will change their small town forever. \n [source: George Eastman Museum calendar\, 2019-May-20]
URL:https://jayceland.com/blog/event/erin-brockovich-screening/
LOCATION:Dryden Theatre at George Eastman Museum (formerly George Eastman House)\, 900 East Ave.\, Rochester\, New York\, 14607\, United States
CATEGORIES:JayceLand 2019-May-23
END:VEVENT
BEGIN:VEVENT
DTSTART;TZID=America/New_York:20190525T203000
DTEND;TZID=America/New_York:20190525T223300
DTSTAMP:20260424T155739
CREATED:20190523T111045Z
LAST-MODIFIED:20190523T111045Z
UID:24071-1558816200-1558823580@jayceland.com
SUMMARY:Hotel Mumbai screening (2019-May-25 @ 8:30 p.m.)
DESCRIPTION:The Cinema will screen Hotel Mumbai (Anthony Maras\, Australia / U.S. / India 2018\, 123 min.) "The true story of the Taj Hotel terrorist attack in Mumbai. Hotel staff risk their lives to keep everyone safe as people make unthinkable sacrifices to protect themselves and their families." [source: Cinema Theater coming soon page\, 2019-May-22]
URL:https://jayceland.com/blog/event/hotel-mumbai-screening-2019-may-25-830-p-m/
LOCATION:Cinema Theatre\, 957 S. Clinton Ave.\, Rochester\, New York\, 14620\, United States
CATEGORIES:JayceLand 2019-May-23
END:VEVENT
BEGIN:VEVENT
DTSTART;TZID=America/New_York:20190525T213000
DTEND;TZID=America/New_York:20190525T233000
DTSTAMP:20260424T155739
CREATED:20190523T111043Z
LAST-MODIFIED:20190523T111043Z
UID:24043-1558819800-1558827000@jayceland.com
SUMMARY:Anyone Anyway\, Fortunato\, Anchor musical performances
DESCRIPTION:[source: Facebook\, 2019-May-20]
URL:https://jayceland.com/blog/event/anyone-anyway-fortunato-anchor-musical-performances/
LOCATION:Bug Jar\, 219 Monroe Ave\, Rochester\, New York\, 14607\, United States
CATEGORIES:JayceLand 2019-May-23
END:VEVENT
END:VCALENDAR