BEGIN:VCALENDAR
VERSION:2.0
PRODID:-//JayceLand - ECPv6.15.20//NONSGML v1.0//EN
CALSCALE:GREGORIAN
METHOD:PUBLISH
X-ORIGINAL-URL:https://jayceland.com/blog
X-WR-CALDESC:Events for JayceLand
REFRESH-INTERVAL;VALUE=DURATION:PT1H
X-Robots-Tag:noindex
X-PUBLISHED-TTL:PT1H
BEGIN:VTIMEZONE
TZID:America/New_York
BEGIN:DAYLIGHT
TZOFFSETFROM:-0500
TZOFFSETTO:-0400
TZNAME:EDT
DTSTART:20180311T070000
END:DAYLIGHT
BEGIN:STANDARD
TZOFFSETFROM:-0400
TZOFFSETTO:-0500
TZNAME:EST
DTSTART:20181104T060000
END:STANDARD
BEGIN:DAYLIGHT
TZOFFSETFROM:-0500
TZOFFSETTO:-0400
TZNAME:EDT
DTSTART:20190310T070000
END:DAYLIGHT
BEGIN:STANDARD
TZOFFSETFROM:-0400
TZOFFSETTO:-0500
TZNAME:EST
DTSTART:20191103T060000
END:STANDARD
BEGIN:DAYLIGHT
TZOFFSETFROM:-0500
TZOFFSETTO:-0400
TZNAME:EDT
DTSTART:20200308T070000
END:DAYLIGHT
BEGIN:STANDARD
TZOFFSETFROM:-0400
TZOFFSETTO:-0500
TZNAME:EST
DTSTART:20201101T060000
END:STANDARD
END:VTIMEZONE
BEGIN:VEVENT
DTSTART;TZID=America/New_York:20190521T190000
DTEND;TZID=America/New_York:20190521T203300
DTSTAMP:20260423T072635
CREATED:20190508T172246Z
LAST-MODIFIED:20190508T172246Z
UID:23862-1558465200-1558470780@jayceland.com
SUMMARY:Reel Mind Film Series about Mental Health — 2019 Season: The S Word screening
DESCRIPTION:The Cinema will screen The S Word (Lisa J. Klein\, U.S. 2017\, 93 min.) followed by a discussion with film participant Kelechi Ubozoh as part of the Reel Mind Film Series about Mental Health — 2019 Season.  \nA suicide attempt survivor is on a mission to find fellow survivors and document their stories of courage\, insight and humor. Along the way\, she discovers a rising national movement transforming personal struggles into action. \n [source: Cinema Theater coming soon page\, 2019-May-6]
URL:https://jayceland.com/blog/event/reel-mind-film-series-about-mental-health-2019-season-the-s-word-screening/
LOCATION:Cinema Theatre\, 957 S. Clinton Ave.\, Rochester\, New York\, 14620\, United States
CATEGORIES:JayceLand 2019-May-16
END:VEVENT
BEGIN:VEVENT
DTSTART;TZID=America/New_York:20190521T193000
DTEND;TZID=America/New_York:20190521T214300
DTSTAMP:20260423T072635
CREATED:20190515T141120Z
LAST-MODIFIED:20190515T141120Z
UID:23958-1558467000-1558474980@jayceland.com
SUMMARY:Flower Drum Song screening
DESCRIPTION:The Dryden will screen Flower Drum Song (Henry Koster\, U.S. 1961\, 133 min.\, 35mm) as part of the Eastman Entertains series.  \nNancy Kwan\, fresh from her success in The World of Suzie Wong\, steps into this Rodgers and Hammerstein musical about arranged marriages in San Francisco. Mei Li (Miyoshi Umeki) is a picture bride from China\, who has been chosen to marry Sammy Fong (Jack Soo)\, a nightclub owner who only has eyes for singer Linda Low (Kwan). Sammy instead tries to unload Mei Li on the Wang family\, who have been seeking a bride for their eldest son\, Wang Ta (James Shigeta)\, whom Linda is pursuing because of the family's money. The first major Hollywood film to feature a primarily Asian cast in a contemporary Asian-American story\, it would be the last for another three decades\, until The Joy Luck Club in 1993. \n [source: George Eastman Museum calendar\, 2019-May-13]
URL:https://jayceland.com/blog/event/flower-drum-song-screening/
LOCATION:Dryden Theatre at George Eastman Museum (formerly George Eastman House)\, 900 East Ave.\, Rochester\, New York\, 14607\, United States
CATEGORIES:JayceLand 2019-May-16
END:VEVENT
END:VCALENDAR