BEGIN:VCALENDAR
VERSION:2.0
PRODID:-//JayceLand - ECPv6.15.20//NONSGML v1.0//EN
CALSCALE:GREGORIAN
METHOD:PUBLISH
X-ORIGINAL-URL:https://jayceland.com/blog
X-WR-CALDESC:Events for JayceLand
REFRESH-INTERVAL;VALUE=DURATION:PT1H
X-Robots-Tag:noindex
X-PUBLISHED-TTL:PT1H
BEGIN:VTIMEZONE
TZID:America/New_York
BEGIN:DAYLIGHT
TZOFFSETFROM:-0500
TZOFFSETTO:-0400
TZNAME:EDT
DTSTART:20180311T070000
END:DAYLIGHT
BEGIN:STANDARD
TZOFFSETFROM:-0400
TZOFFSETTO:-0500
TZNAME:EST
DTSTART:20181104T060000
END:STANDARD
BEGIN:DAYLIGHT
TZOFFSETFROM:-0500
TZOFFSETTO:-0400
TZNAME:EDT
DTSTART:20190310T070000
END:DAYLIGHT
BEGIN:STANDARD
TZOFFSETFROM:-0400
TZOFFSETTO:-0500
TZNAME:EST
DTSTART:20191103T060000
END:STANDARD
BEGIN:DAYLIGHT
TZOFFSETFROM:-0500
TZOFFSETTO:-0400
TZNAME:EDT
DTSTART:20200308T070000
END:DAYLIGHT
BEGIN:STANDARD
TZOFFSETFROM:-0400
TZOFFSETTO:-0500
TZNAME:EST
DTSTART:20201101T060000
END:STANDARD
END:VTIMEZONE
BEGIN:VEVENT
DTSTART;TZID=America/New_York:20190516T180000
DTEND;TZID=America/New_York:20190516T210000
DTSTAMP:20260422T115838
CREATED:20190515T141121Z
LAST-MODIFIED:20190515T141121Z
UID:23989-1558029600-1558040400@jayceland.com
SUMMARY:Art Opening: Genesee Libby Photography
DESCRIPTION:Hedonist Artisan Ice Cream will host an Art Opening for Genesee Libby Photography by Jenn Libby\, on display through May 30. [source: Facebook\, 2019-May-15]
URL:https://jayceland.com/blog/event/art-opening-genesee-libby-photography/
LOCATION:Hedonist Artisan Ice Cream\, 672 South Ave.\, Rochester\, New York\, 14620\, United States
CATEGORIES:JayceLand 2019-May-16
END:VEVENT
BEGIN:VEVENT
DTSTART;TZID=America/New_York:20190516T183000
DTEND;TZID=America/New_York:20190516T203000
DTSTAMP:20260422T115838
CREATED:20190515T141121Z
LAST-MODIFIED:20190515T141121Z
UID:23974-1558031400-1558038600@jayceland.com
SUMMARY:Rochester 2034 Launch Party
DESCRIPTION:Mayor Warren is excited to announce the launch of Rochester 2034\, our city's new Comprehensive Plan. Rochester 2034 is a 15-year\, strategic\, community-wide plan to improve our community leading up to our 200th birthday. The project is the result of intense public input and we are now circling back with the community for you to review the draft plan and provide comments. We also want to express our deep gratitude to the thousands of people and organizations who participated in the Plan's development. This is truly a community effort\, so let's celebrate its release together!   \nPlease join the Mayor and her team on May 16\, 2019 at 6:30pm at the Riverside Convention Center for this exciting event. Enjoy light refreshments\, talk with City staff about the different topics covered in the Plan\, and tell us your aspirations for Rochester as we approach our 200th birthday. All are welcome to attend!   \nIn line with the Plan's emphasis on transportation choices\, we encourage you to come to the event by transit (only two blocks south of the RTS Transit Center) or ride your bike! Extra bicycle parking will be provided. The Convention Center is also walkable from several city neighborhoods. \n\n [source: City of Rochester website\, 2019-May-15]
URL:https://jayceland.com/blog/event/rochester-2034-launch-party/
LOCATION:Rochester Riverside Convention Center\, 123 E. Main St.\, Rochester\, New York\, 14604\, United States
CATEGORIES:JayceLand 2019-May-16
END:VEVENT
BEGIN:VEVENT
DTSTART;TZID=America/New_York:20190516T190000
DTEND;TZID=America/New_York:20190516T203400
DTSTAMP:20260422T115838
CREATED:20190508T172247Z
LAST-MODIFIED:20190508T172247Z
UID:23884-1558033200-1558038840@jayceland.com
SUMMARY:Missing Link screening (2019-May-16 @ 7 p.m.)
DESCRIPTION:The Cinema will screen Missing Link (Chris Butler\, Canada / U.S. 2019\, 94 min.) "Mr. Link recruits explorer Sir Lionel Frost to help find his long-lost relatives in the fabled valley of Shangri-La. Along with adventurer Adelina Fortnight\, this trio of explorers travel the world to help their new friend." [source: Cinema Theater coming soon page\, 2019-May-8]
URL:https://jayceland.com/blog/event/missing-link-screening-2019-may-16-7-p-m/
LOCATION:Cinema Theatre\, 957 S. Clinton Ave.\, Rochester\, New York\, 14620\, United States
CATEGORIES:JayceLand 2019-May-16
END:VEVENT
BEGIN:VEVENT
DTSTART;TZID=America/New_York:20190516T190000
DTEND;TZID=America/New_York:20190516T210000
DTSTAMP:20260422T115838
CREATED:20190515T141119Z
LAST-MODIFIED:20190515T141119Z
UID:23951-1558033200-1558040400@jayceland.com
SUMMARY:Twilight Tour (2019-May-16 @ 7 p.m.)
DESCRIPTION:This 75-minute tour includes some topics covered on Sunday North Section tours as well as new material\, on an alternate route in the North Section. \n [source: Friends of Mt. Hope website\, 2019-May-13]
URL:https://jayceland.com/blog/event/twilight-tour-2019-may-16-7-p-m/
LOCATION:Mt. Hope Cemetery North Gatehouse\, 791 Mt. Hope Ave.\, Rochester\, New York\, 14620\, United States
CATEGORIES:JayceLand 2019-May-16
END:VEVENT
BEGIN:VEVENT
DTSTART;TZID=America/New_York:20190516T193000
DTEND;TZID=America/New_York:20190516T212900
DTSTAMP:20260422T115838
CREATED:20190515T141120Z
LAST-MODIFIED:20190515T141120Z
UID:23962-1558035000-1558042140@jayceland.com
SUMMARY:Pretty Woman screening (2019-May-16 @ 7:30 p.m.)
DESCRIPTION:The Dryden will screen Pretty Woman (Garry Marshall\, U.S. 1990\, 119 min.\, 35mm) as part of the Julia Roberts series.  \nJulia Roberts's first starring role may be her most memorable as the iconic "hooker with a heart of gold." Vivian (Roberts) is a Hollywood Boulevard sex worker\, transplanted from the Midwest\, when she happens upon Edward (Richard Gere)\, a recently separated corporate raider with car trouble. Sparks fly\, and Edward hires Vivian to be his companion for the week\, over the objections of his business partner (Jason Alexander). Throughout the week (and across several iconic cinematic moments)\, the business relationship turns personal and the two can't help but fall in love. Roberts's radiant turn was popular not only with audiences\, but also with critics\, and garnered her second Academy Award nomination in as many years. \n [source: George Eastman Museum calendar\, 2019-May-13]
URL:https://jayceland.com/blog/event/pretty-woman-screening-2019-may-16-730-p-m/
LOCATION:Dryden Theatre at George Eastman Museum (formerly George Eastman House)\, 900 East Ave.\, Rochester\, New York\, 14607\, United States
CATEGORIES:JayceLand 2019-May-16
END:VEVENT
BEGIN:VEVENT
DTSTART;TZID=America/New_York:20190516T200000
DTEND;TZID=America/New_York:20190516T220000
DTSTAMP:20260422T115838
CREATED:20190515T141119Z
LAST-MODIFIED:20190515T141119Z
UID:23949-1558036800-1558044000@jayceland.com
SUMMARY:Project Object's Andre Cholmondelay plays Solo Electronics
DESCRIPTION:Andre Cholmondeley: solo electronics/guitar. A blend of ambient textures\, trip-hop influenced beats\, an ongoing study of musique concrete\, and a search for unconventional timbres and sounds in a musical setting. Synthesizer\, guitar\, rhythms and where they all blur and overlap.   \nAndre Cholmondeley\, musician\, multi-instrumentalist\, and music-biz multi-tasker\, is the founder of Project/Object\, the longest running Zappa-alumni-based tribute band in the world. \n\n [source: Bop Shop website\, 2019-May-13]
URL:https://jayceland.com/blog/event/project-objects-andre-cholmondelay-plays-solo-electronics/
LOCATION:Bop Shop Records\, 1460 Monroe Ave.\, Rochester\, New York\, 14618\, United States
CATEGORIES:JayceLand 2019-May-16
END:VEVENT
BEGIN:VEVENT
DTSTART;TZID=America/New_York:20190516T203000
DTEND;TZID=America/New_York:20190516T223000
DTSTAMP:20260422T115838
CREATED:20190515T141119Z
LAST-MODIFIED:20190515T141119Z
UID:23948-1558038600-1558045800@jayceland.com
SUMMARY:Aliza Bridgman\, Sarah Eide\, Dallas Greene musical performances
DESCRIPTION:Aliza Bridgman—Aliza is a Canandaigua\, NY native\, bringing her passion of singing to Rochester\, NY. She has a more recent background and career in communication but has carried her love for singing since she was a small girl. Aliza isn't just a witty girl with humor and a big personality. Aliza is a witty girl with humor\, a big personality\, and a voice worth sharing. She is just getting started\, though her deep\, down-to-earth\, raw style is unique and doesn't disappoint. She's an old soul who's inspiration is driven by voices like those of Janis Joplin\, Jerry Garcia\, Norah Jones\, Amy Winehouse\, Ray Lamontagne\, and Oliver Wood.   \nAliza embraces the bluesy-folky-funky-jaziness of it all and she'll sing to anyone\, anywhere\, when asked\, or completely unprovoked. Around the fire\, friend's living rooms\, her cubicle at work\, staff meetings… where there is Aliza\, there is a song. One thing you can always expect is for her delivery to match her lifestyle —never taking anything too seriously\, and always having a little bit of fun.   \nSarah Eide—In an industry that can often feel over saturated with stale soundscapes\, lifeless lyrics\, and predictable patterns\, Sarah Eide's music cuts through the clutter. Bursting out of any genre's box\, her music deftly weaves influences of roots\, folk\, jazz and pop\, creating a singular sound that is uniquely her own. Songs that are thoughtful\, quirky\, and honest\, are matched with a signature musical style that is equal parts complex and catchy. With skillful piano playing and a powerful voice\, these songs are what pulls her audience in and keeps them coming back. Sarah will be touring the Midwest and Northeast throughout the spring and summer of 2019 in support of her newest release\, "Dreams On Hold" (5/6/19)\, which has already been dubbed "a unique spin on Americana" by NYS Music . Her newest single off the album\, "The Bridge Song" was released with a music video that has the critics raving. glamglare wrote "All that talk about building walls to push people farther apart can be depressing\, but here we have the perfect antidote."   \nDallas Greene—She started writing music when she was 20 years old … She got her first guitar when she was 12; a Squire Stratacaster electric\, matte black finish. It was super hot\, but still\, she didn't have the patience or confidence to pursue music. Then after college\, she moved to Los Angeles to follow her dream of becoming a major Hollywood director and naturally\, was extremely unemployed. With all that free time and grief\, she threw herself into practicing guitar and writing songs that felt right to her and felt good to play. \n\n [source: Abilene Bar and Lounge website\, 2019-May-13]
URL:https://jayceland.com/blog/event/aliza-bridgman-sarah-eide-dallas-greene-musical-performances/
LOCATION:Abilene Bar and Lounge\, 153 Liberty Pole Way\, Rochester\, New York\, 14604\, United States
CATEGORIES:JayceLand 2019-May-16
END:VEVENT
BEGIN:VEVENT
DTSTART;TZID=America/New_York:20190516T203500
DTEND;TZID=America/New_York:20190516T223400
DTSTAMP:20260422T115838
CREATED:20190508T172248Z
LAST-MODIFIED:20190508T172248Z
UID:23889-1558038900-1558046040@jayceland.com
SUMMARY:The Public screening (2019-May-16 @ 8:35 p.m.)
DESCRIPTION:The Cinema will screen The Public (Emilio Estevez\, U.S. 2018\, 119 min.) "An act of civil disobedience turns into a standoff with police when homeless people in Cincinnati take over the public library to seek shelter from the bitter cold." [source: Cinema Theater coming soon page\, 2019-May-8]
URL:https://jayceland.com/blog/event/the-public-screening-2019-may-16-835-p-m/
LOCATION:Cinema Theatre\, 957 S. Clinton Ave.\, Rochester\, New York\, 14620\, United States
CATEGORIES:JayceLand 2019-May-16
END:VEVENT
END:VCALENDAR