BEGIN:VCALENDAR
VERSION:2.0
PRODID:-//JayceLand - ECPv6.15.20//NONSGML v1.0//EN
CALSCALE:GREGORIAN
METHOD:PUBLISH
X-WR-CALNAME:JayceLand
X-ORIGINAL-URL:https://jayceland.com/blog
X-WR-CALDESC:Events for JayceLand
REFRESH-INTERVAL;VALUE=DURATION:PT1H
X-Robots-Tag:noindex
X-PUBLISHED-TTL:PT1H
BEGIN:VTIMEZONE
TZID:America/New_York
BEGIN:DAYLIGHT
TZOFFSETFROM:-0500
TZOFFSETTO:-0400
TZNAME:EDT
DTSTART:20180311T070000
END:DAYLIGHT
BEGIN:STANDARD
TZOFFSETFROM:-0400
TZOFFSETTO:-0500
TZNAME:EST
DTSTART:20181104T060000
END:STANDARD
BEGIN:DAYLIGHT
TZOFFSETFROM:-0500
TZOFFSETTO:-0400
TZNAME:EDT
DTSTART:20190310T070000
END:DAYLIGHT
BEGIN:STANDARD
TZOFFSETFROM:-0400
TZOFFSETTO:-0500
TZNAME:EST
DTSTART:20191103T060000
END:STANDARD
BEGIN:DAYLIGHT
TZOFFSETFROM:-0500
TZOFFSETTO:-0400
TZNAME:EDT
DTSTART:20200308T070000
END:DAYLIGHT
BEGIN:STANDARD
TZOFFSETFROM:-0400
TZOFFSETTO:-0500
TZNAME:EST
DTSTART:20201101T060000
END:STANDARD
END:VTIMEZONE
BEGIN:VEVENT
DTSTART;TZID=America/New_York:20190515T180000
DTEND;TZID=America/New_York:20190515T200000
DTSTAMP:20260422T172441
CREATED:20190515T141121Z
LAST-MODIFIED:20190515T141121Z
UID:23975-1557943200-1557950400@jayceland.com
SUMMARY:Public Informational Meeting: Sager Drive Reconstruction Project
DESCRIPTION:Project Overview\nDesign Features (New Curbs\, Driveways aprons\, Sidewalk Replacement\, Replacement of Catch Basins\, Topsoil and Seed)\nUtility Work\nProject Schedule\nQuestions/Discussion\n\n\n [source: City of Rochester website\, 2019-May-15]
URL:https://jayceland.com/blog/event/public-informational-meeting-sager-drive-reconstruction-project/
LOCATION:Henry Hudson School #28\, 450 Humboldt St.\, Rochester\, New York\, 14609\, United States
CATEGORIES:JayceLand 2019-May-9
END:VEVENT
BEGIN:VEVENT
DTSTART;TZID=America/New_York:20190515T183000
DTEND;TZID=America/New_York:20190515T195000
DTSTAMP:20260422T172441
CREATED:20190508T172246Z
LAST-MODIFIED:20190508T172246Z
UID:23864-1557945000-1557949800@jayceland.com
SUMMARY:The Wall screening
DESCRIPTION:The Cinema will screen The Wall (U.S. 2018\, 80 min.) "With rare footage from some of the most remote reaches of the U.S.\, 'The Wall' explores the impact\, reveals unknown issues and details the unintended consequences of President Trump's $20 billion promise to build a wall from the Gulf to the Pacific." [source: Cinema Theater coming soon page\, 2019-May-6]
URL:https://jayceland.com/blog/event/the-wall-screening/
LOCATION:Cinema Theatre\, 957 S. Clinton Ave.\, Rochester\, New York\, 14620\, United States
CATEGORIES:JayceLand 2019-May-9
END:VEVENT
BEGIN:VEVENT
DTSTART;TZID=America/New_York:20190515T193000
DTEND;TZID=America/New_York:20190515T205900
DTSTAMP:20260422T172441
CREATED:20190508T172247Z
LAST-MODIFIED:20190508T172247Z
UID:23866-1557948600-1557953940@jayceland.com
SUMMARY:Saturday Night and Sunday Morning screening
DESCRIPTION:The Dryden will screen Saturday Night and Sunday Morning (Karel Reisz\, U.K. 1960\, 89 min.\, 16mm) as part of the Albert Finney series.  \nAlbert Finney burst onto cinema screens in 1960 with this portrait of a young British upstart. Arthur Seaton is a hardworking factory worker in Nottingham who nonetheless rails against authority and what he sees as his fellow workers' compliance in their own misery. He finds solace in drinking contests and sexual trysts while trying to avoid complications\, but when the consequences of his actions catch up with him\, he has nowhere to turn. Based on a semi-autobiographical novel by Alan Stilltoe and equally a part of the "Brit New Wave\," the "Angry Young Man" cycle\, and "Kitchen Sink" drama\, this film established Finney as a young actor to watch. \n [source: George Eastman Museum calendar\, 2019-May-6]
URL:https://jayceland.com/blog/event/saturday-night-and-sunday-morning-screening/
LOCATION:Dryden Theatre at George Eastman Museum (formerly George Eastman House)\, 900 East Ave.\, Rochester\, New York\, 14607\, United States
CATEGORIES:JayceLand 2019-May-9
END:VEVENT
BEGIN:VEVENT
DTSTART;TZID=America/New_York:20190515T200000
DTEND;TZID=America/New_York:20190515T220000
DTSTAMP:20260422T172441
CREATED:20190508T172246Z
LAST-MODIFIED:20190508T172246Z
UID:23852-1557950400-1557957600@jayceland.com
SUMMARY:The Great Dead Cowboy Rodeo: Ryan Sutherland and The Revelators\, Jackson Cavalier and Band\, Whirlin' Jack Dervy\, Amber Tracy musical performances
DESCRIPTION:[source: Abilene Bar and Lounge website\, 2019-May-6]
URL:https://jayceland.com/blog/event/the-great-dead-cowboy-rodeo-ryan-sutherland-and-the-revelators-jackson-cavalier-and-band-whirlin-jack-dervy-amber-tracy-musical-performances/
LOCATION:Abilene Bar and Lounge\, 153 Liberty Pole Way\, Rochester\, New York\, 14604\, United States
CATEGORIES:JayceLand 2019-May-9
END:VEVENT
BEGIN:VEVENT
DTSTART;TZID=America/New_York:20190515T210000
DTEND;TZID=America/New_York:20190515T230000
DTSTAMP:20260422T172441
CREATED:20190508T172246Z
LAST-MODIFIED:20190508T172246Z
UID:23849-1557954000-1557961200@jayceland.com
SUMMARY:Expert Timing\, Jokes on U.S.\, Cottage Street\, Tough Bus\, Gilt musical performances
DESCRIPTION:[source: Facebook\, 2019-May-6]
URL:https://jayceland.com/blog/event/expert-timing-jokes-on-u-s-cottage-street-tough-bus-gilt-musical-performances/
LOCATION:Bug Jar\, 219 Monroe Ave\, Rochester\, New York\, 14607\, United States
CATEGORIES:JayceLand 2019-May-9
END:VEVENT
END:VCALENDAR