BEGIN:VCALENDAR
VERSION:2.0
PRODID:-//JayceLand - ECPv6.15.20//NONSGML v1.0//EN
CALSCALE:GREGORIAN
METHOD:PUBLISH
X-WR-CALNAME:JayceLand
X-ORIGINAL-URL:https://jayceland.com/blog
X-WR-CALDESC:Events for JayceLand
REFRESH-INTERVAL;VALUE=DURATION:PT1H
X-Robots-Tag:noindex
X-PUBLISHED-TTL:PT1H
BEGIN:VTIMEZONE
TZID:America/New_York
BEGIN:DAYLIGHT
TZOFFSETFROM:-0500
TZOFFSETTO:-0400
TZNAME:EDT
DTSTART:20180311T070000
END:DAYLIGHT
BEGIN:STANDARD
TZOFFSETFROM:-0400
TZOFFSETTO:-0500
TZNAME:EST
DTSTART:20181104T060000
END:STANDARD
BEGIN:DAYLIGHT
TZOFFSETFROM:-0500
TZOFFSETTO:-0400
TZNAME:EDT
DTSTART:20190310T070000
END:DAYLIGHT
BEGIN:STANDARD
TZOFFSETFROM:-0400
TZOFFSETTO:-0500
TZNAME:EST
DTSTART:20191103T060000
END:STANDARD
BEGIN:DAYLIGHT
TZOFFSETFROM:-0500
TZOFFSETTO:-0400
TZNAME:EDT
DTSTART:20200308T070000
END:DAYLIGHT
BEGIN:STANDARD
TZOFFSETFROM:-0400
TZOFFSETTO:-0500
TZNAME:EST
DTSTART:20201101T060000
END:STANDARD
END:VTIMEZONE
BEGIN:VEVENT
DTSTART;TZID=America/New_York:20190512T090000
DTEND;TZID=America/New_York:20190512T130000
DTSTAMP:20260422T123741
CREATED:20190508T172248Z
LAST-MODIFIED:20190508T172248Z
UID:23892-1557651600-1557666000@jayceland.com
SUMMARY:Brighton Farmers' Market
DESCRIPTION:The summer season of the Brighton Farmers' Market opens this Sunday\, May 12! The Market is held Sundays 9 am to 1 p.m. in the Brighton High School parking lot\, 1150 Winton Rd.\, S.\, Rochester. Please join us at 10 am as Supervisor Bill Moehle presides over the traditional Cutting of the Vine to inaugurate the new season. There will be live music\, food trucks\, and activities for kids\, plus the finest all-local food\, much of it organic. \n [source: Brighton Farmers' Market website\, 2019-May-8]
URL:https://jayceland.com/blog/event/brighton-farmers-market/
LOCATION:Brighton High School\, 1150 S. Winton Rd.\, Brighton\, New York\, 14618\, United States
CATEGORIES:JayceLand 2019-May-9
END:VEVENT
BEGIN:VEVENT
DTSTART;TZID=America/New_York:20190512T130000
DTEND;TZID=America/New_York:20190512T150000
DTSTAMP:20260422T123741
CREATED:20190508T172247Z
LAST-MODIFIED:20190508T172247Z
UID:23879-1557666000-1557673200@jayceland.com
SUMMARY:An Evening of One Acts theatrical performances (2019-May-12 @ 1 p.m.)
DESCRIPTION:The MuCCC will host performances of An Evening of One Acts featuring:  \n\nGood Intentions\, written and directed by Briar-Rose Murphy: "Two former best friends from college run into each other unexpectedly at a mutual acquaintance's party years later\, only to rekindle old hurts that were a result of one's good intentions."\nThe Burning's Bush\, written and directed by Tyler Wolff: "A private detective and his protégé out on a job meet a variety of characters who are out with a slightly different agenda."\nNight Walking\, written by Frank Canino\, and directed by Nick Russo: "A wife discovers that her husband goes to parks for sexual encounters with other men\, and must decide how she will react to this."\nThe Epsilon Effect\, written by David Kent\, and directed by S. Michael Smith: "A brilliant-but-awkward scientist\, an unemployed librarian\, and a 17th-century Puritan walk into a bar… A fast-paced comedy about family\, science\, and finding your place in the world."\nThe College on Level Z\, written by Ariel and Matt Sanders\, and directed by Justin Rielly: "Wanda\, a young parking valet for a hotel\, sneaks away for a break on the garage's lowest level and she finds Edna\, who claims to be a college president\, and learns a lesson in life in this philosophical comic play."\n\n [source: RocWiki events\, 2019-May-6]
URL:https://jayceland.com/blog/event/an-evening-of-one-acts-theatrical-performances-2019-may-12-1-p-m/
LOCATION:MuCCC (Multi-use Community Cultural Center)\, 142 Atlantic Ave.\, Rochester\, New York\, 14607\, United States
CATEGORIES:JayceLand 2019-May-9
END:VEVENT
BEGIN:VEVENT
DTSTART;TZID=America/New_York:20190512T140000
DTEND;TZID=America/New_York:20190512T160000
DTSTAMP:20260422T123741
CREATED:20190508T172246Z
LAST-MODIFIED:20190508T172246Z
UID:23857-1557669600-1557676800@jayceland.com
SUMMARY:North Section Public Tour (2019-May-12 @ 2 p.m.)
DESCRIPTION:This overview tour is a two-hour walk of approximately one mile. It includes the graves of Susan B. Anthony and Frederick Douglass\, as well as topics of local history\, horticulture\, geology\, architecture\, monument symbolism\, and more. Please note that in addition to paved roads the route includes some hills and uneven terrain\, grassy areas\, and dirt paths. We recommend comfortable walking shoes — not open sandals. \n [source: Friends of Mt. Hope website\, 2019-May-6]
URL:https://jayceland.com/blog/event/north-section-public-tour-2019-may-12-2-p-m/
LOCATION:Mt. Hope Cemetery North Gatehouse\, 791 Mt. Hope Ave.\, Rochester\, New York\, 14620\, United States
CATEGORIES:JayceLand 2019-May-9
END:VEVENT
BEGIN:VEVENT
DTSTART;TZID=America/New_York:20190512T163000
DTEND;TZID=America/New_York:20190512T183000
DTSTAMP:20260422T123741
CREATED:20190508T172248Z
LAST-MODIFIED:20190508T172248Z
UID:23891-1557678600-1557685800@jayceland.com
SUMMARY:The Mustang screening (2019-May-12 @ 4:30 p.m.)
DESCRIPTION:The Cinema will screen The Mustang (Laure de Clermont-Tonnerre\, France / U.S. 2019\, 96 min.) "The story of Roman Coleman\, a violent convict\, who is given the chance to participate in a rehabilitation therapy program involving the training of wild mustangs." [source: Cinema Theater coming soon page\, 2019-May-8]
URL:https://jayceland.com/blog/event/the-mustang-screening-2019-may-12-430-p-m/
LOCATION:Cinema Theatre\, 957 S. Clinton Ave.\, Rochester\, New York\, 14620\, United States
CATEGORIES:JayceLand 2019-May-9
END:VEVENT
BEGIN:VEVENT
DTSTART;TZID=America/New_York:20190512T190000
DTEND;TZID=America/New_York:20190512T203400
DTSTAMP:20260422T123741
CREATED:20190508T172247Z
LAST-MODIFIED:20190508T172247Z
UID:23882-1557687600-1557693240@jayceland.com
SUMMARY:Missing Link screening (2019-May-12 @ 7 p.m.)
DESCRIPTION:The Cinema will screen Missing Link (Chris Butler\, Canada / U.S. 2019\, 94 min.) "Mr. Link recruits explorer Sir Lionel Frost to help find his long-lost relatives in the fabled valley of Shangri-La. Along with adventurer Adelina Fortnight\, this trio of explorers travel the world to help their new friend." [source: Cinema Theater coming soon page\, 2019-May-8]
URL:https://jayceland.com/blog/event/missing-link-screening-2019-may-12-7-p-m/
LOCATION:Cinema Theatre\, 957 S. Clinton Ave.\, Rochester\, New York\, 14620\, United States
CATEGORIES:JayceLand 2019-May-9
END:VEVENT
BEGIN:VEVENT
DTSTART;TZID=America/New_York:20190512T203500
DTEND;TZID=America/New_York:20190512T223400
DTSTAMP:20260422T123741
CREATED:20190508T172248Z
LAST-MODIFIED:20190508T172248Z
UID:23887-1557693300-1557700440@jayceland.com
SUMMARY:The Public screening (2019-May-12 @ 8:35 p.m.)
DESCRIPTION:The Cinema will screen The Public (Emilio Estevez\, U.S. 2018\, 119 min.) "An act of civil disobedience turns into a standoff with police when homeless people in Cincinnati take over the public library to seek shelter from the bitter cold." [source: Cinema Theater coming soon page\, 2019-May-8]
URL:https://jayceland.com/blog/event/the-public-screening-2019-may-12-835-p-m/
LOCATION:Cinema Theatre\, 957 S. Clinton Ave.\, Rochester\, New York\, 14620\, United States
CATEGORIES:JayceLand 2019-May-9
END:VEVENT
END:VCALENDAR