BEGIN:VCALENDAR
VERSION:2.0
PRODID:-//JayceLand - ECPv6.15.20//NONSGML v1.0//EN
CALSCALE:GREGORIAN
METHOD:PUBLISH
X-WR-CALNAME:JayceLand
X-ORIGINAL-URL:https://jayceland.com/blog
X-WR-CALDESC:Events for JayceLand
REFRESH-INTERVAL;VALUE=DURATION:PT1H
X-Robots-Tag:noindex
X-PUBLISHED-TTL:PT1H
BEGIN:VTIMEZONE
TZID:America/New_York
BEGIN:DAYLIGHT
TZOFFSETFROM:-0500
TZOFFSETTO:-0400
TZNAME:EDT
DTSTART:20180311T070000
END:DAYLIGHT
BEGIN:STANDARD
TZOFFSETFROM:-0400
TZOFFSETTO:-0500
TZNAME:EST
DTSTART:20181104T060000
END:STANDARD
BEGIN:DAYLIGHT
TZOFFSETFROM:-0500
TZOFFSETTO:-0400
TZNAME:EDT
DTSTART:20190310T070000
END:DAYLIGHT
BEGIN:STANDARD
TZOFFSETFROM:-0400
TZOFFSETTO:-0500
TZNAME:EST
DTSTART:20191103T060000
END:STANDARD
BEGIN:DAYLIGHT
TZOFFSETFROM:-0500
TZOFFSETTO:-0400
TZNAME:EDT
DTSTART:20200308T070000
END:DAYLIGHT
BEGIN:STANDARD
TZOFFSETFROM:-0400
TZOFFSETTO:-0500
TZNAME:EST
DTSTART:20201101T060000
END:STANDARD
END:VTIMEZONE
BEGIN:VEVENT
DTSTART;TZID=America/New_York:20190510T103000
DTEND;TZID=America/New_York:20190510T203000
DTSTAMP:20260421T231431
CREATED:20190508T172246Z
LAST-MODIFIED:20190508T172246Z
UID:23853-1557484200-1557520200@jayceland.com
SUMMARY:Lilac Festival — First Day
DESCRIPTION:[source: Highland Park Neighborhood Association website\, 2019-May-6]
URL:https://jayceland.com/blog/event/lilac-festival-first-day/
LOCATION:Highland Park\, 450 Highland Ave.\, Rochester\, New York\, 14620\, United States
CATEGORIES:JayceLand 2019-May-9
END:VEVENT
BEGIN:VEVENT
DTSTART;TZID=America/New_York:20190510T150000
DTEND;TZID=America/New_York:20190510T170000
DTSTAMP:20260421T231431
CREATED:20190508T172247Z
LAST-MODIFIED:20190508T172247Z
UID:23875-1557500400-1557507600@jayceland.com
SUMMARY:Dr. Elizabeth Ford: Sometimes Amazing Things Happen
DESCRIPTION:Dr. Elizabeth Ford\, author of Sometimes "Amazing Things Happen\," will present her work at Bellevue Hospital in NYC specializing in the care of individuals with mental illness in the criminal justice system. \n [source: Rochester City Newspaper events calendar\, 2019-May-6]
URL:https://jayceland.com/blog/event/dr-elizabeth-ford-sometimes-amazing-things-happen/
LOCATION:Rochester Academy of Medicine\, 1441 East Ave. #100\, Rochester\, New York\, 14610\, United States
CATEGORIES:JayceLand 2019-May-9
END:VEVENT
BEGIN:VEVENT
DTSTART;TZID=America/New_York:20190510T173000
DTEND;TZID=America/New_York:20190510T193000
DTSTAMP:20260421T231431
CREATED:20190508T172246Z
LAST-MODIFIED:20190508T172246Z
UID:23858-1557509400-1557516600@jayceland.com
SUMMARY:Small Fry Art Studio Gallery Opening
DESCRIPTION:We're excited to host our South Wedge neighbor\, Small Fry Art Studio\, in the Abundance Gallery and Cafe through the Month of May. Join us as we celebrate with a gallery opening and sampling of signature Abundance foods. Small Fry Art Studio provides traditional and non-traditional art supplies and a space that is designed to encourage kids to explore their creativity. You can also meet the folks behind Hipocampo Children's Books\, the newly opened bookstore in the South Wedge\, carrying a wide variety of children's books in English\, Spanish and other languages. \n [source: Abundance Food Co-op events page\, 2019-May-6]
URL:https://jayceland.com/blog/event/small-fry-art-studio-gallery-opening/
LOCATION:Abundance Cooperative Market (formerly Echo Tone Music)\, 571 South Ave.\, Rochester\, New York\, 14620\, United States
CATEGORIES:JayceLand 2019-May-9
END:VEVENT
BEGIN:VEVENT
DTSTART;TZID=America/New_York:20190510T180000
DTEND;TZID=America/New_York:20190510T210000
DTSTAMP:20260421T231431
CREATED:20190508T172246Z
LAST-MODIFIED:20190508T172246Z
UID:23859-1557511200-1557522000@jayceland.com
SUMMARY:Opening Reception: White/Black Invitational
DESCRIPTION:The Flower City Arts Center will host an Opening Reception for their White/Black Invitational\, on display through June 22.  \nWhite/Black Invitational features the work of photographers\, printmakers\, and ceramic artists working with the limitations imposed by these colors. Participating artists include: Marilyn Anderson\, Pat Bacon\, Carl Chiarenza\, Lukas Eastman\, Mitch Goldstein\, Nancy Jurs\, Kelly Justice\, Johanna Keefe\, Kyle Lascelle\, Colleen McCall\, Richard Margolis\, Brooke Millecchia\, Joanna Poag\, Wolodymyr "Mirko" Pylyshenko\, Ben Taylor\, Hannah Thompsett\, and Maliya Travers-Crumb. \n [source: Flower City Arts Center website\, 2019-May-6]
URL:https://jayceland.com/blog/event/opening-reception-white-black-invitational/
LOCATION:Flower City Arts Center (formerly Genesee Center for Arts and Education)\, 713 Monroe Ave.\, Rochester\, New York\, 14607\, United States
CATEGORIES:JayceLand 2019-May-9
END:VEVENT
BEGIN:VEVENT
DTSTART;TZID=America/New_York:20190510T190000
DTEND;TZID=America/New_York:20190510T203400
DTSTAMP:20260421T231431
CREATED:20190508T172247Z
LAST-MODIFIED:20190508T172247Z
UID:23880-1557514800-1557520440@jayceland.com
SUMMARY:Missing Link screening (2019-May-10 @ 7 p.m.)
DESCRIPTION:The Cinema will screen Missing Link (Chris Butler\, Canada / U.S. 2019\, 94 min.) "Mr. Link recruits explorer Sir Lionel Frost to help find his long-lost relatives in the fabled valley of Shangri-La. Along with adventurer Adelina Fortnight\, this trio of explorers travel the world to help their new friend." [source: Cinema Theater coming soon page\, 2019-May-8]
URL:https://jayceland.com/blog/event/missing-link-screening-2019-may-10-7-p-m/
LOCATION:Cinema Theatre\, 957 S. Clinton Ave.\, Rochester\, New York\, 14620\, United States
CATEGORIES:JayceLand 2019-May-9
END:VEVENT
BEGIN:VEVENT
DTSTART;TZID=America/New_York:20190510T193000
DTEND;TZID=America/New_York:20190510T213000
DTSTAMP:20260421T231431
CREATED:20190508T172247Z
LAST-MODIFIED:20190508T172247Z
UID:23877-1557516600-1557523800@jayceland.com
SUMMARY:An Evening of One Acts theatrical performances (2019-May-10 @ 7:30 p.m.)
DESCRIPTION:The MuCCC will host performances of An Evening of One Acts featuring:  \n\nGood Intentions\, written and directed by Briar-Rose Murphy: "Two former best friends from college run into each other unexpectedly at a mutual acquaintance's party years later\, only to rekindle old hurts that were a result of one's good intentions."\nThe Burning's Bush\, written and directed by Tyler Wolff: "A private detective and his protégé out on a job meet a variety of characters who are out with a slightly different agenda."\nNight Walking\, written by Frank Canino\, and directed by Nick Russo: "A wife discovers that her husband goes to parks for sexual encounters with other men\, and must decide how she will react to this."\nThe Epsilon Effect\, written by David Kent\, and directed by S. Michael Smith: "A brilliant-but-awkward scientist\, an unemployed librarian\, and a 17th-century Puritan walk into a bar… A fast-paced comedy about family\, science\, and finding your place in the world."\nThe College on Level Z\, written by Ariel and Matt Sanders\, and directed by Justin Rielly: "Wanda\, a young parking valet for a hotel\, sneaks away for a break on the garage's lowest level and she finds Edna\, who claims to be a college president\, and learns a lesson in life in this philosophical comic play."\n\n [source: RocWiki events\, 2019-May-6]
URL:https://jayceland.com/blog/event/an-evening-of-one-acts-theatrical-performances-2019-may-10-730-p-m/
LOCATION:MuCCC (Multi-use Community Cultural Center)\, 142 Atlantic Ave.\, Rochester\, New York\, 14607\, United States
CATEGORIES:JayceLand 2019-May-9
END:VEVENT
BEGIN:VEVENT
DTSTART;TZID=America/New_York:20190510T200000
DTEND;TZID=America/New_York:20190510T214600
DTSTAMP:20260421T231431
CREATED:20190508T172247Z
LAST-MODIFIED:20190508T172247Z
UID:23872-1557518400-1557524760@jayceland.com
SUMMARY:Rochester International Film Festival 2019 Program #2 screening
DESCRIPTION:The Dryden will screen the 2019 Rochester International Film Festival Program #2 featuring:  \n\nThe Scorpion's Tale (Jhosimar Vasquez\, USA\, 22 min.): "Greed\, revenge and death all collide in this taut crime drama which asserts that\, in life\, perhaps nothing is what it seems to be."\nDouble Exposed (Julie Buck\, USA\, 4 min.): "A filmmaker reflects on Super 8 films from her childhood (shot by her grandfather) to shed light on what remained unseen."\n40 Meter (Samuel Flückiger\, Switzerland\, 14 min.): "Kurt drove trains for 40 years and witnessed railroad death firsthand. This is an intimate portrait of a sturdy man navigating trauma."\nHim & Her (Nathalie Lamb\, Germany\, 8 min.): "What if a magical tree house could somehow illustrate our fantasies and desires? And give us reason to reflect on our personal foibles?"\nWritten in Stone (Sangsun Choi\, South Korea / USA\, 18 min.): "This documentary sheds light on the lives of child workers in India who toil alongside family members in a stone quarry village."\nL'Homme et le Poisson (Lewis Leon\, Canada\, 4 min.): "Set against the backdrop of a vast frozen tundra\, a grizzled fisherman gets his comeuppance—from an eerily familiar fish."\nNevada (Javier Kühn\, Spain\, 15 min.): "Two women come face-to-face in a Las Vegas hotel room. While Elsa was hired for the job\, Mrs. Taylor explains the family secret which brought them both here."\nAudition (Kim Seul-ki\, South Korea\, 21 min.): "Will she get the part? Or won't she get the part? Follow a young actor as she makes every effort to master her emotions."\n\n[source: Rochester International Film Festival website\, 2019-May-6]
URL:https://jayceland.com/blog/event/rochester-international-film-festival-2019-program-2-screening/
LOCATION:Dryden Theatre at George Eastman Museum (formerly George Eastman House)\, 900 East Ave.\, Rochester\, New York\, 14607\, United States
CATEGORIES:JayceLand 2019-May-9
END:VEVENT
BEGIN:VEVENT
DTSTART;TZID=America/New_York:20190510T203500
DTEND;TZID=America/New_York:20190510T223400
DTSTAMP:20260421T231431
CREATED:20190508T172247Z
LAST-MODIFIED:20190508T172247Z
UID:23885-1557520500-1557527640@jayceland.com
SUMMARY:The Public screening (2019-May-10 @ 8:35 p.m.)
DESCRIPTION:The Cinema will screen The Public (Emilio Estevez\, U.S. 2018\, 119 min.) "An act of civil disobedience turns into a standoff with police when homeless people in Cincinnati take over the public library to seek shelter from the bitter cold." [source: Cinema Theater coming soon page\, 2019-May-8]
URL:https://jayceland.com/blog/event/the-public-screening-2019-may-10-835-p-m/
LOCATION:Cinema Theatre\, 957 S. Clinton Ave.\, Rochester\, New York\, 14620\, United States
CATEGORIES:JayceLand 2019-May-9
END:VEVENT
END:VCALENDAR