BEGIN:VCALENDAR
VERSION:2.0
PRODID:-//JayceLand - ECPv6.15.20//NONSGML v1.0//EN
CALSCALE:GREGORIAN
METHOD:PUBLISH
X-WR-CALNAME:JayceLand
X-ORIGINAL-URL:https://jayceland.com/blog
X-WR-CALDESC:Events for JayceLand
REFRESH-INTERVAL;VALUE=DURATION:PT1H
X-Robots-Tag:noindex
X-PUBLISHED-TTL:PT1H
BEGIN:VTIMEZONE
TZID:America/New_York
BEGIN:DAYLIGHT
TZOFFSETFROM:-0500
TZOFFSETTO:-0400
TZNAME:EDT
DTSTART:20180311T070000
END:DAYLIGHT
BEGIN:STANDARD
TZOFFSETFROM:-0400
TZOFFSETTO:-0500
TZNAME:EST
DTSTART:20181104T060000
END:STANDARD
BEGIN:DAYLIGHT
TZOFFSETFROM:-0500
TZOFFSETTO:-0400
TZNAME:EDT
DTSTART:20190310T070000
END:DAYLIGHT
BEGIN:STANDARD
TZOFFSETFROM:-0400
TZOFFSETTO:-0500
TZNAME:EST
DTSTART:20191103T060000
END:STANDARD
BEGIN:DAYLIGHT
TZOFFSETFROM:-0500
TZOFFSETTO:-0400
TZNAME:EDT
DTSTART:20200308T070000
END:DAYLIGHT
BEGIN:STANDARD
TZOFFSETFROM:-0400
TZOFFSETTO:-0500
TZNAME:EST
DTSTART:20201101T060000
END:STANDARD
END:VTIMEZONE
BEGIN:VEVENT
DTSTART;TZID=America/New_York:20190505T080000
DTEND;TZID=America/New_York:20190505T140000
DTSTAMP:20260419T134749
CREATED:20190501T172700Z
LAST-MODIFIED:20190501T172700Z
UID:23766-1557043200-1557064800@jayceland.com
SUMMARY:Community Garage Sale (2019-May-5 @ 8 a.m.)
DESCRIPTION:[source: Rochester City Newspaper events calendar\, 2019-Apr-29]
URL:https://jayceland.com/blog/event/community-garage-sale-2019-may-5-8-a-m/
LOCATION:Rochester Public Market\, 280 N. Union St.\, Rochester\, New York\, 14609\, United States
CATEGORIES:JayceLand 2019-May-2
END:VEVENT
BEGIN:VEVENT
DTSTART;TZID=America/New_York:20190505T080000
DTEND;TZID=America/New_York:20190505T155000
DTSTAMP:20260419T134749
CREATED:20190501T172700Z
LAST-MODIFIED:20190501T172700Z
UID:23765-1557043200-1557071400@jayceland.com
SUMMARY:Birds Of Prey Days Festival (2019-May-5 @ 8 a.m.)
DESCRIPTION:[source: Rochester City Newspaper events calendar\, 2019-Apr-29]
URL:https://jayceland.com/blog/event/birds-of-prey-days-festival-2019-may-5-8-a-m/
LOCATION:Braddock Bay Park\, 199 East Manitou Rd.\, Hilton\, New York\, 14468\, United States
CATEGORIES:JayceLand 2019-May-2
END:VEVENT
BEGIN:VEVENT
DTSTART;TZID=America/New_York:20190505T130000
DTEND;TZID=America/New_York:20190505T140000
DTSTAMP:20260419T134749
CREATED:20190501T172701Z
LAST-MODIFIED:20190501T172701Z
UID:23770-1557061200-1557064800@jayceland.com
SUMMARY:Riverside Cemetery: 125 Years of History
DESCRIPTION:Tour Guides Cynthia Howk and Joanne Mitchell will lead a tour of Riverside Cemetery\, founded in 1892 to serve the growing population in the northern part of the city. The 123-acre site borders the Genesee River and provides a permanent resting place to 75\,000 Rochesterians. \n [source: Rochester City Newspaper events calendar\, 2019-May-1]
URL:https://jayceland.com/blog/event/riverside-cemetery-125-years-of-history/
LOCATION:Riverside Cemetery\, 2650 Lake Ave.\, Rochester\, New York\, 14612\, United States
CATEGORIES:JayceLand 2019-May-2
END:VEVENT
BEGIN:VEVENT
DTSTART;TZID=America/New_York:20190505T130000
DTEND;TZID=America/New_York:20190505T144900
DTSTAMP:20260419T134749
CREATED:20190501T172700Z
LAST-MODIFIED:20190501T172700Z
UID:23755-1557061200-1557067740@jayceland.com
SUMMARY:Moschettieri del Re: La Penultima Missione (The King's Musketeers) screening
DESCRIPTION:The Cinema will screen Moschettieri del Re: La Penultima Missione (The King's Musketeers\, Giovanni Veronesi\, Italy 2019\, 109 min.) "The band of musketeers; D'Artagnan\, Porthos\, Aramis and Athos\, portrayed in a purely self-ironic and disenchanted key\, in a series of adventures in order to save King Louis XIV." [source: Cinema Theater coming soon page\, 2019-Apr-29]
URL:https://jayceland.com/blog/event/moschettieri-del-re-la-penultima-missione-the-kings-musketeers-screening/
LOCATION:Cinema Theatre\, 957 S. Clinton Ave.\, Rochester\, New York\, 14620\, United States
CATEGORIES:JayceLand 2019-May-2
END:VEVENT
BEGIN:VEVENT
DTSTART;TZID=America/New_York:20190505T130000
DTEND;TZID=America/New_York:20190505T150000
DTSTAMP:20260419T134749
CREATED:20190501T172659Z
LAST-MODIFIED:20190501T172659Z
UID:23743-1557061200-1557068400@jayceland.com
SUMMARY:Theme Tour: Discover Riverside Cemetery (2019-May-5 @ 1 p.m.)
DESCRIPTION:This tour will introduce visitors to Riverside Cemetery\, founded in 1892. We will explore the western half of this 123-acre site that borders the Genesee River. \n [source: Friends of Mt. Hope website\, 2019-Apr-29]
URL:https://jayceland.com/blog/event/theme-tour-discover-riverside-cemetery-2019-may-5-1-p-m/
LOCATION:Mt. Hope Cemetery North Gatehouse\, 791 Mt. Hope Ave.\, Rochester\, New York\, 14620\, United States
CATEGORIES:JayceLand 2019-May-2
END:VEVENT
BEGIN:VEVENT
DTSTART;TZID=America/New_York:20190505T130000
DTEND;TZID=America/New_York:20190505T150000
DTSTAMP:20260419T134749
CREATED:20190501T172700Z
LAST-MODIFIED:20190501T172700Z
UID:23752-1557061200-1557068400@jayceland.com
SUMMARY:Speak Easy: Open Topic (2019-May-5 @ 1 p.m.)
DESCRIPTION:Speak Easy is coming early this month! Be sure not to miss out on this popular event where local writers read their short works of prose and poetry while you sit back and enjoy hand-crafted cocktails. It's open topic\, so anything (and everything) goes! Don't wait to get your tickets. We had to turn people away at the door for the April show because we were sold out. (Note to pass-holders: All passes are good for this show.) \n [source: Rochester Spoken Word website\, 2019-Apr-29]
URL:https://jayceland.com/blog/event/speak-easy-open-topic-2019-may-5-1-p-m/
LOCATION:Cheshire\, 647 South Ave.\, Rochester\, New York\, 14620\, United States
CATEGORIES:JayceLand 2019-May-2
END:VEVENT
BEGIN:VEVENT
DTSTART;TZID=America/New_York:20190505T140000
DTEND;TZID=America/New_York:20190505T160000
DTSTAMP:20260419T134749
CREATED:20190501T172659Z
LAST-MODIFIED:20190501T172659Z
UID:23744-1557064800-1557072000@jayceland.com
SUMMARY:North Section Public Tour (2019-May-5 @ 2 p.m.)
DESCRIPTION:This overview tour is a two-hour walk of approximately one mile. It includes the graves of Susan B. Anthony and Frederick Douglass\, as well as topics of local history\, horticulture\, geology\, architecture\, monument symbolism\, and more. Please note that in addition to paved roads the route includes some hills and uneven terrain\, grassy areas\, and dirt paths. We recommend comfortable walking shoes — not open sandals. \n [source: Friends of Mt. Hope website\, 2019-Apr-29]
URL:https://jayceland.com/blog/event/north-section-public-tour-2019-may-5-2-p-m/
LOCATION:Mt. Hope Cemetery North Gatehouse\, 791 Mt. Hope Ave.\, Rochester\, New York\, 14620\, United States
CATEGORIES:JayceLand 2019-May-2
END:VEVENT
BEGIN:VEVENT
DTSTART;TZID=America/New_York:20190505T153000
DTEND;TZID=America/New_York:20190505T173000
DTSTAMP:20260419T134749
CREATED:20190501T172700Z
LAST-MODIFIED:20190501T172700Z
UID:23759-1557070200-1557077400@jayceland.com
SUMMARY:Blind Date with Nitrate (2019-May-5 @ 3:30 p.m.)
DESCRIPTION:The Dryden will conclude the 5th Nitrate Picture Show with a Blind Date with Nitrate. "The title for the Blind Date with Nitrate for the 5th Nitrate Picture Show will be announced at the time of the screening." [source: George Eastman Museum calendar\, 2019-Apr-29]
URL:https://jayceland.com/blog/event/blind-date-with-nitrate-2019-may-5-330-p-m/
LOCATION:Dryden Theatre at George Eastman Museum (formerly George Eastman House)\, 900 East Ave.\, Rochester\, New York\, 14607\, United States
CATEGORIES:JayceLand 2019-May-2
END:VEVENT
BEGIN:VEVENT
DTSTART;TZID=America/New_York:20190505T160000
DTEND;TZID=America/New_York:20190505T181300
DTSTAMP:20260419T134749
CREATED:20190501T172702Z
LAST-MODIFIED:20190501T172702Z
UID:23788-1557072000-1557079980@jayceland.com
SUMMARY:The Best of Enemies screening (2019-May-5 @ 4 p.m.)
DESCRIPTION:The Cinema will screen The Best of Enemies (Robin Bissell\, U.S. 2019\, 133 min.) "Civil rights activist Ann Atwater faces off against C.P. Ellis\, Exalted Cyclops of the Ku Klux Klan\, in 1971 Durham\, North Carolina over the issue of school integration." [source: Cinema Theater coming soon page\, 2019-May-1]
URL:https://jayceland.com/blog/event/the-best-of-enemies-screening-2019-may-5-4-p-m/
LOCATION:Cinema Theatre\, 957 S. Clinton Ave.\, Rochester\, New York\, 14620\, United States
CATEGORIES:JayceLand 2019-May-2
END:VEVENT
BEGIN:VEVENT
DTSTART;TZID=America/New_York:20190505T170000
DTEND;TZID=America/New_York:20190505T190000
DTSTAMP:20260419T134749
CREATED:20190501T172701Z
LAST-MODIFIED:20190501T172701Z
UID:23771-1557075600-1557082800@jayceland.com
SUMMARY:Metro Justice Annual Dinner
DESCRIPTION:Keynote: Dr. Cedric Johnson of the department of African American Studies at the University of Illinois\, Chicago. His interests include racial and ethnic politics; African American political thought; neoliberalization; political economy; urban politics; and critical urban theory. Dr. Johnson was awarded the W.E.B. Dubois Outstanding Book Award\, from the National Conference of Black Political Scientists\, in 2008. \n [source: Rochester City Newspaper events calendar\, 2019-May-1]
URL:https://jayceland.com/blog/event/metro-justice-annual-dinner/
LOCATION:Temple B'rith Kodesh\, 2131 Elmwood Ave.\, Rochester\, New York\, 14618\, United States
CATEGORIES:JayceLand 2019-May-2
END:VEVENT
BEGIN:VEVENT
DTSTART;TZID=America/New_York:20190505T190000
DTEND;TZID=America/New_York:20190505T203600
DTSTAMP:20260419T134749
CREATED:20190501T172701Z
LAST-MODIFIED:20190501T172701Z
UID:23775-1557082800-1557088560@jayceland.com
SUMMARY:The Mustang screening (2019-May-5 @ 7 p.m.)
DESCRIPTION:The Cinema will screen The Mustang (Laure de Clermont-Tonnerre\, France / U.S. 2019\, 96 min.) "The story of Roman Coleman\, a violent convict\, who is given the chance to participate in a rehabilitation therapy program involving the training of wild mustangs." [source: Cinema Theater coming soon page\, 2019-May-1]
URL:https://jayceland.com/blog/event/the-mustang-screening-2019-may-5-7-p-m/
LOCATION:Cinema Theatre\, 957 S. Clinton Ave.\, Rochester\, New York\, 14620\, United States
CATEGORIES:JayceLand 2019-May-2
END:VEVENT
BEGIN:VEVENT
DTSTART;TZID=America/New_York:20190505T190000
DTEND;TZID=America/New_York:20190505T210000
DTSTAMP:20260419T134749
CREATED:20190501T172700Z
LAST-MODIFIED:20190501T172700Z
UID:23768-1557082800-1557090000@jayceland.com
SUMMARY:Alexander\, Will Veeder\, Joe+n musical performances
DESCRIPTION:[source: WNY Shows website\, 2019-Apr-29]
URL:https://jayceland.com/blog/event/alexander-will-veeder-joen-musical-performances/
LOCATION:Rochester Contemporary Art Center (RoCo)\, 137 East Ave.\, Rochester\, New York\, 14604\, United States
CATEGORIES:JayceLand 2019-May-2
END:VEVENT
BEGIN:VEVENT
DTSTART;TZID=America/New_York:20190505T204000
DTEND;TZID=America/New_York:20190505T221500
DTSTAMP:20260419T134749
CREATED:20190501T172702Z
LAST-MODIFIED:20190501T172702Z
UID:23782-1557088800-1557094500@jayceland.com
SUMMARY:Diane screening (2019-May-5 @ 8:40 p.m.)
DESCRIPTION:The Cinema will screen Diane (Kent Jones\, U.S. 2018\, 95 min.) "Diane fills her days helping others and desperately attempting to bond with her drug-addicted son. As these pieces of her existence begin to fade\, she finds herself confronting memories she'd sooner forget than face." [source: Cinema Theater coming soon page\, 2019-May-1]
URL:https://jayceland.com/blog/event/diane-screening-2019-may-5-840-p-m/
LOCATION:Cinema Theatre\, 957 S. Clinton Ave.\, Rochester\, New York\, 14620\, United States
CATEGORIES:JayceLand 2019-May-2
END:VEVENT
END:VCALENDAR