BEGIN:VCALENDAR
VERSION:2.0
PRODID:-//JayceLand - ECPv6.15.20//NONSGML v1.0//EN
CALSCALE:GREGORIAN
METHOD:PUBLISH
X-ORIGINAL-URL:https://jayceland.com/blog
X-WR-CALDESC:Events for JayceLand
REFRESH-INTERVAL;VALUE=DURATION:PT1H
X-Robots-Tag:noindex
X-PUBLISHED-TTL:PT1H
BEGIN:VTIMEZONE
TZID:America/New_York
BEGIN:DAYLIGHT
TZOFFSETFROM:-0500
TZOFFSETTO:-0400
TZNAME:EDT
DTSTART:20180311T070000
END:DAYLIGHT
BEGIN:STANDARD
TZOFFSETFROM:-0400
TZOFFSETTO:-0500
TZNAME:EST
DTSTART:20181104T060000
END:STANDARD
BEGIN:DAYLIGHT
TZOFFSETFROM:-0500
TZOFFSETTO:-0400
TZNAME:EDT
DTSTART:20190310T070000
END:DAYLIGHT
BEGIN:STANDARD
TZOFFSETFROM:-0400
TZOFFSETTO:-0500
TZNAME:EST
DTSTART:20191103T060000
END:STANDARD
BEGIN:DAYLIGHT
TZOFFSETFROM:-0500
TZOFFSETTO:-0400
TZNAME:EDT
DTSTART:20200308T070000
END:DAYLIGHT
BEGIN:STANDARD
TZOFFSETFROM:-0400
TZOFFSETTO:-0500
TZNAME:EST
DTSTART:20201101T060000
END:STANDARD
END:VTIMEZONE
BEGIN:VEVENT
DTSTART;TZID=America/New_York:20190315T190000
DTEND;TZID=America/New_York:20190315T212300
DTSTAMP:20260421T070241
CREATED:20190313T155136Z
LAST-MODIFIED:20190313T155136Z
UID:23062-1552676400-1552684980@jayceland.com
SUMMARY:Aquaman screening (2019-Mar-15 @ 7 p.m.)
DESCRIPTION:The Cinema will screen Aquaman (James Wan\, Australia / U.S. 2018\, 143 min.) "Arthur Curry\, the human-born heir to the underwater kingdom of Atlantis\, goes on a quest to prevent a war between the worlds of ocean and land." [source: Cinema Theater coming soon page\, 2019-Mar-13]
URL:https://jayceland.com/blog/event/aquaman-screening-2019-mar-15-7-p-m/
LOCATION:Cinema Theatre\, 957 S. Clinton Ave.\, Rochester\, New York\, 14620\, United States
CATEGORIES:JayceLand 2019-Mar-14
END:VEVENT
BEGIN:VEVENT
DTSTART;TZID=America/New_York:20190315T193000
DTEND;TZID=America/New_York:20190315T213100
DTSTAMP:20260421T070241
CREATED:20190313T155135Z
LAST-MODIFIED:20190313T155135Z
UID:23056-1552678200-1552685460@jayceland.com
SUMMARY:Manbiki kazoku (Shoplifters) screening (2019-Mar-15 @ 7:30 p.m.)
DESCRIPTION:The Dryden will screen Manbiki kazoku (Shoplifters\, Hirokazu Kore-eda\, Japan 2018\, 121 min.\, DCP\, Japanese w/subtitles).  \nWinner of the 2018 Palme d'Or in Cannes and Academy Award nominee for Best Foreign Language Film\, Hirokazu Kore-eda's latest film follows a family on the margins\, whose members live day-to-day off a pension or as a day laborer\, sex worker\, or part-time laundress. The father and son supplement their meals by a coordinated shoplifting scheme that they reason doesn't hurt anyone\, because the food doesn't belong to anyone yet. Still\, when they find a young girl locked out on her porch on a cold winter's night\, they find enough room in their hearts and home to warm her and feed her. When they try to return her\, they find out that the girl is unwanted and take her in permanently. Months later\, when news of the missing girl is televised\, the family must decide what is most important to them. Questioning the definition of family and the difference between morality and justice\, Kore-eda's film delivers the best qualities of his previous work. \n [source: George Eastman Museum calendar\, 2019-Mar-11]
URL:https://jayceland.com/blog/event/manbiki-kazoku-shoplifters-screening-2019-mar-15-730-p-m/
LOCATION:Dryden Theatre at George Eastman Museum (formerly George Eastman House)\, 900 East Ave.\, Rochester\, New York\, 14607\, United States
CATEGORIES:JayceLand 2019-Mar-14
END:VEVENT
BEGIN:VEVENT
DTSTART;TZID=America/New_York:20190315T212500
DTEND;TZID=America/New_York:20190315T232500
DTSTAMP:20260421T070241
CREATED:20190313T155136Z
LAST-MODIFIED:20190313T155136Z
UID:23069-1552685100-1552692300@jayceland.com
SUMMARY:2019 Oscar Nominated Short Films: Animation screening (2019-Mar-15 @ 9:25 p.m.)
DESCRIPTION:The Cinema will screen 2019 Oscar Nominated Short Films: Animation (2019\, 120 min.) [source: Cinema Theater coming soon page\, 2019-Mar-13]
URL:https://jayceland.com/blog/event/2019-oscar-nominated-short-films-animation-screening-2019-mar-15-925-p-m/
LOCATION:Cinema Theatre\, 957 S. Clinton Ave.\, Rochester\, New York\, 14620\, United States
CATEGORIES:JayceLand 2019-Mar-14
END:VEVENT
END:VCALENDAR