BEGIN:VCALENDAR
VERSION:2.0
PRODID:-//JayceLand - ECPv6.15.20//NONSGML v1.0//EN
CALSCALE:GREGORIAN
METHOD:PUBLISH
X-WR-CALNAME:JayceLand
X-ORIGINAL-URL:https://jayceland.com/blog
X-WR-CALDESC:Events for JayceLand
REFRESH-INTERVAL;VALUE=DURATION:PT1H
X-Robots-Tag:noindex
X-PUBLISHED-TTL:PT1H
BEGIN:VTIMEZONE
TZID:America/New_York
BEGIN:DAYLIGHT
TZOFFSETFROM:-0500
TZOFFSETTO:-0400
TZNAME:EDT
DTSTART:20180311T070000
END:DAYLIGHT
BEGIN:STANDARD
TZOFFSETFROM:-0400
TZOFFSETTO:-0500
TZNAME:EST
DTSTART:20181104T060000
END:STANDARD
BEGIN:DAYLIGHT
TZOFFSETFROM:-0500
TZOFFSETTO:-0400
TZNAME:EDT
DTSTART:20190310T070000
END:DAYLIGHT
BEGIN:STANDARD
TZOFFSETFROM:-0400
TZOFFSETTO:-0500
TZNAME:EST
DTSTART:20191103T060000
END:STANDARD
BEGIN:DAYLIGHT
TZOFFSETFROM:-0500
TZOFFSETTO:-0400
TZNAME:EDT
DTSTART:20200308T070000
END:DAYLIGHT
BEGIN:STANDARD
TZOFFSETFROM:-0400
TZOFFSETTO:-0500
TZNAME:EST
DTSTART:20201101T060000
END:STANDARD
END:VTIMEZONE
BEGIN:VEVENT
DTSTART;TZID=America/New_York:20190314T183000
DTEND;TZID=America/New_York:20190314T203000
DTSTAMP:20260421T213647
CREATED:20190313T155136Z
LAST-MODIFIED:20190313T155136Z
UID:23060-1552588200-1552595400@jayceland.com
SUMMARY:History Happy Hour: The Rise and Fall of Freedomland
DESCRIPTION:Located in the Bronx\, this park lasted only four years before declaring bankruptcy and closing its gates in 1964. We'll explore creator C. V. Wood's vision of merging amusement with education (as well as his obsession with Ufos)\, take a ride through the park where visitors were invited to become actors in key moments of American history\, and explore the reasons behind its rapid downfall. Drinks and mingling are followed by an hour-long class and discussion. \n [source: Rochester City Newspaper events calendar\, 2019-Mar-13]
URL:https://jayceland.com/blog/event/history-happy-hour-the-rise-and-fall-of-freedomland/
LOCATION:Nox Cocktail Lounge\, 302 N. Goodman St.\, Rochester\, New York\, 14607\, United States
CATEGORIES:JayceLand 2019-Mar-14
END:VEVENT
BEGIN:VEVENT
DTSTART;TZID=America/New_York:20190314T190000
DTEND;TZID=America/New_York:20190314T202400
DTSTAMP:20260421T213647
CREATED:20190314T183024Z
LAST-MODIFIED:20190314T183143Z
UID:23115-1552590000-1552595040@jayceland.com
SUMMARY:Dirty Looks: Eight Years On film screenings
DESCRIPTION:Visual Studies Workshop will present a screening of Dirty Looks: Eight Years On featuring:  \n\nAmphetamine (Warren Sonbert\, Wendy Appel\, 1966\, 10 min.\, 16mm\, B&W)\n100 Boyfriends Mixtape (the demo) (Brontez Purnell\, 2017\, 8 min.\, Super 8 on video)\nFrenzy (Jill Reiter\, 1993\, 12 min.\, Super 8 on digital video)\nPoppers (Lila De Magalhaes\, 2013\, 5 min.\, video)\nOnward Lossless Follows (Michael Robinson\, 2017\, 17 min.\, HD video)\nLiberaceón (Chris E. Vargas\, 2011\, 13 min.\, SD video)\ntongue job (Aimee Goguen\, 2013\, 4 min.\, Hi8 on SD video)\nEncounters I May or May Not Have Had with Peter Berlin (Mariah Garnett\, 2012\, 15 min.\, 16mm)\n\nVisiting curator Bradford Nordeen presents Dirty Looks: Eight Years On. This selection of films explores eight years of experimental screenings for a shorts program of signature delights that queer the pop cannon and (under)mine history for all of her unanswered questions. Ranging from digital drag revisionism to post-bohemian celluloid\, Dirty Looks: 8 Years on reassesses the past through a fiercely queer and politicized lens\, "who brought us here?" and "where are we now?" Ranging from 16mm films\, super8 transfers\, Hi8\, HD video and Getty stock footage\, this Dl Cliff's Notes screening spins circles around contemporary queer subjectivities\, snarling with a punk zeal and a utopian demand for more.   \nDirty Looks Inc is a platform for queer film\, video and performance. Using film and time-based art to illuminate queer histories and liminal spaces across Los Angeles and New York City\, Dirty Looks traces contemporary queer aesthetics through historical works\, presenting quintessential GLBTQ film and video\, alongside up-and-coming artists and filmmakers. Dirty Looks exhibits a lineage of queer tactics and visual styles for younger artists\, casual viewers and seasoned avant-garde filmgoers\, alike. \n\n [source: Visual Studies Workshop website\, 2019-Mar-14]
URL:https://jayceland.com/blog/event/dirty-looks-eight-years-on-film-screenings/
LOCATION:Visual Studies Workshop\, 31 Prince St.\, Rochester\, New York\, 14607\, United States
CATEGORIES:JayceLand 2019-Mar-14
END:VEVENT
BEGIN:VEVENT
DTSTART;TZID=America/New_York:20190314T190000
DTEND;TZID=America/New_York:20190314T211200
DTSTAMP:20260421T213647
CREATED:20190306T175137Z
LAST-MODIFIED:20190306T175137Z
UID:22980-1552590000-1552597920@jayceland.com
SUMMARY:Vice screening (2019-Mar-14 @ 7 p.m.)
DESCRIPTION:The Cinema will screen Vice (Adam McKay\, U.S. 2018\, 132 min.) "The story of Dick Cheney\, an unassuming bureaucratic Washington insider\, who quietly wielded immense power as Vice President to George W. Bush\, reshaping the country and the globe in ways that we still feel today." [source: Cinema Theater coming soon page\, 2019-Mar-6]
URL:https://jayceland.com/blog/event/vice-screening-2019-mar-14-7-p-m/
LOCATION:Cinema Theatre\, 957 S. Clinton Ave.\, Rochester\, New York\, 14620\, United States
CATEGORIES:JayceLand 2019-Mar-14
END:VEVENT
BEGIN:VEVENT
DTSTART;TZID=America/New_York:20190314T193000
DTEND;TZID=America/New_York:20190314T211600
DTSTAMP:20260421T213647
CREATED:20190313T155136Z
LAST-MODIFIED:20190313T155136Z
UID:23057-1552591800-1552598160@jayceland.com
SUMMARY:La niña santa (The Holy Girl) screening
DESCRIPTION:The Dryden will screen La niña santa (The Holy Girl\, Lucrecia Martel\, Argentina 2004\, 106 min.\, 35mm\, Spanish w/subtitles) as part of the Lucrecia Martel series.  \nTeenaged Amalia (MarÃ­a Alche) lives in a hotel owned by her mother and uncle in La Ciénaga\, a fictional town based on director Lucrecia Martel's hometown of Salta in northwestern Argentina. Amalia is devoutly religious and sexually curious\, embracing the confusion between these two forms of passion when a middle-aged man\, Dr. Jano (Carlos Belloso)\, rubs up against her inappropriately. She decides that his act was a sign from God to save Dr. Jano and begins to stalk him during his stay at the hotel for a medical conference\, desiring both to save him and to sleep with him. With traversing narratives\, claustrophobic compositions\, and layered sound design\, Martel's sophomore film based on personal memories offers a moody and sensual meditation on faith\, family\, and sexual awakening. \n [source: George Eastman Museum calendar\, 2019-Mar-11]
URL:https://jayceland.com/blog/event/la-nina-santa-the-holy-girl-screening/
LOCATION:Dryden Theatre at George Eastman Museum (formerly George Eastman House)\, 900 East Ave.\, Rochester\, New York\, 14607\, United States
CATEGORIES:JayceLand 2019-Mar-14
END:VEVENT
BEGIN:VEVENT
DTSTART;TZID=America/New_York:20190314T200000
DTEND;TZID=America/New_York:20190314T220000
DTSTAMP:20260421T213647
CREATED:20190313T155135Z
LAST-MODIFIED:20190313T155135Z
UID:23045-1552593600-1552600800@jayceland.com
SUMMARY:Philippe Lemm Trio musical performance
DESCRIPTION:"The Philippe Lemm Trio is continually proving to be one of the most exciting and electrifying jazz trio's around today. Led at the helm by drummer Philippe Lemm\, the group met in New York in 2011\, and after one session together\, realized that their undeniable chemistry was one that needed to be taken and shared with the world.   \nComprised of three musicians with exceptional command of their instruments\, the group's repertoire draws heavily from re-imaginations of jazz standards in a way that both defies genre and corresponds to any modern jazz fan.   \nThe group uses their trust and understanding of one another's musical tendencies to create passionate musical soundscapes\, which range from traditional jazz to the progressive rock/classical-influenced music.   \nHearing the trio is a special and unforgettable experience\, and you will be captivated after listening to one piece." \n\n [source: Bop Shop website\, 2019-Mar-11]
URL:https://jayceland.com/blog/event/philippe-lemm-trio-musical-performance/
LOCATION:Bop Shop Records\, 1460 Monroe Ave.\, Rochester\, New York\, 14618\, United States
CATEGORIES:JayceLand 2019-Mar-14
END:VEVENT
BEGIN:VEVENT
DTSTART;TZID=America/New_York:20190314T200000
DTEND;TZID=America/New_York:20190314T220000
DTSTAMP:20260421T213647
CREATED:20190313T155136Z
LAST-MODIFIED:20190313T155136Z
UID:23059-1552593600-1552600800@jayceland.com
SUMMARY:Yellowstone Apocalypse\, Sulaco\, Tumul\, Asthmatic musical performances
DESCRIPTION:[source: WNY Shows website\, 2019-Mar-11]
URL:https://jayceland.com/blog/event/yellowstone-apocalypse-sulaco-tumul-asthmatic-musical-performances/
LOCATION:Interstellar Motors\, 250 Cumberland St.\, Suite 230\, Rochester\, New York\, 14605\, United States
CATEGORIES:JayceLand 2019-Mar-14
END:VEVENT
BEGIN:VEVENT
DTSTART;TZID=America/New_York:20190314T211500
DTEND;TZID=America/New_York:20190314T224400
DTSTAMP:20260421T213647
CREATED:20190306T175138Z
LAST-MODIFIED:20190306T175138Z
UID:22987-1552598100-1552603440@jayceland.com
SUMMARY:Cold War screening (2019-Mar-14 @ 9:15 p.m.)
DESCRIPTION:The Cinema will screen Cold War (Pawel Pawlikowski\, Poland / U.K. / France  2018\, 89 min.) "In the 1950s\, a music director falls in love with a singer and tries to persuade her to flee communist Poland for France." [source: Cinema Theater coming soon page\, 2019-Mar-6]
URL:https://jayceland.com/blog/event/cold-war-screening-2019-mar-14-915-p-m/
LOCATION:Cinema Theatre\, 957 S. Clinton Ave.\, Rochester\, New York\, 14620\, United States
CATEGORIES:JayceLand 2019-Mar-14
END:VEVENT
END:VCALENDAR