BEGIN:VCALENDAR
VERSION:2.0
PRODID:-//JayceLand - ECPv6.15.20//NONSGML v1.0//EN
CALSCALE:GREGORIAN
METHOD:PUBLISH
X-ORIGINAL-URL:https://jayceland.com/blog
X-WR-CALDESC:Events for JayceLand
REFRESH-INTERVAL;VALUE=DURATION:PT1H
X-Robots-Tag:noindex
X-PUBLISHED-TTL:PT1H
BEGIN:VTIMEZONE
TZID:America/New_York
BEGIN:DAYLIGHT
TZOFFSETFROM:-0500
TZOFFSETTO:-0400
TZNAME:EDT
DTSTART:20180311T070000
END:DAYLIGHT
BEGIN:STANDARD
TZOFFSETFROM:-0400
TZOFFSETTO:-0500
TZNAME:EST
DTSTART:20181104T060000
END:STANDARD
BEGIN:DAYLIGHT
TZOFFSETFROM:-0500
TZOFFSETTO:-0400
TZNAME:EDT
DTSTART:20190310T070000
END:DAYLIGHT
BEGIN:STANDARD
TZOFFSETFROM:-0400
TZOFFSETTO:-0500
TZNAME:EST
DTSTART:20191103T060000
END:STANDARD
BEGIN:DAYLIGHT
TZOFFSETFROM:-0500
TZOFFSETTO:-0400
TZNAME:EDT
DTSTART:20200308T070000
END:DAYLIGHT
BEGIN:STANDARD
TZOFFSETFROM:-0400
TZOFFSETTO:-0500
TZNAME:EST
DTSTART:20201101T060000
END:STANDARD
END:VTIMEZONE
BEGIN:VEVENT
DTSTART;TZID=America/New_York:20190313T170000
DTEND;TZID=America/New_York:20190313T200000
DTSTAMP:20260422T055635
CREATED:20190306T175136Z
LAST-MODIFIED:20190306T175136Z
UID:22959-1552496400-1552507200@jayceland.com
SUMMARY:Anonymous Willpower musical performance
DESCRIPTION:The Record Archive will host great classic rock/soul band Anonymous Willpower for a Women's History Month Happy Hour. [source: Record Archive website\, 2019-Mar-4]
URL:https://jayceland.com/blog/event/anonymous-willpower-musical-performance/
LOCATION:Record Archive\, 33 1/3 Rockwood St.\, Rochester\, New York\, 14610\, United States
CATEGORIES:JayceLand 2019-Mar-7
END:VEVENT
BEGIN:VEVENT
DTSTART;TZID=America/New_York:20190313T190000
DTEND;TZID=America/New_York:20190313T210000
DTSTAMP:20260422T055635
CREATED:20190311T191154Z
LAST-MODIFIED:20190311T191216Z
UID:23038-1552503600-1552510800@jayceland.com
SUMMARY:Michelle Younger musical performance (2019-Mar-13 @ 7 p.m.)
DESCRIPTION:[source: Instagram post\, 2019-Mar-11]
URL:https://jayceland.com/blog/event/michelle-younger-musical-performance-2019-mar-13-7-p-m/
LOCATION:Downstairs Cabaret Theatre on Windsor Street\, 20 Windsor St.\, Rochester\, New York\, 14605\, United States
CATEGORIES:JayceLand 2019-Mar-7
END:VEVENT
BEGIN:VEVENT
DTSTART;TZID=America/New_York:20190313T190000
DTEND;TZID=America/New_York:20190313T211200
DTSTAMP:20260422T055635
CREATED:20190306T175137Z
LAST-MODIFIED:20190306T175137Z
UID:22979-1552503600-1552511520@jayceland.com
SUMMARY:Vice screening (2019-Mar-13 @ 7 p.m.)
DESCRIPTION:The Cinema will screen Vice (Adam McKay\, U.S. 2018\, 132 min.) "The story of Dick Cheney\, an unassuming bureaucratic Washington insider\, who quietly wielded immense power as Vice President to George W. Bush\, reshaping the country and the globe in ways that we still feel today." [source: Cinema Theater coming soon page\, 2019-Mar-6]
URL:https://jayceland.com/blog/event/vice-screening-2019-mar-13-7-p-m/
LOCATION:Cinema Theatre\, 957 S. Clinton Ave.\, Rochester\, New York\, 14620\, United States
CATEGORIES:JayceLand 2019-Mar-7
END:VEVENT
BEGIN:VEVENT
DTSTART;TZID=America/New_York:20190313T193000
DTEND;TZID=America/New_York:20190313T210500
DTSTAMP:20260422T055635
CREATED:20190306T175137Z
LAST-MODIFIED:20190306T175137Z
UID:22971-1552505400-1552511100@jayceland.com
SUMMARY:I Confess screening
DESCRIPTION:The Dryden will screen I Confess (Alfred Hitchcock\, U.S. 1953\, 95 min.\, 35mm) as part of the Courtroom Dramas series.  \nThe Master of Suspense tests the boundaries of the sanctity of the confession booth with this courtroom thriller. Following the murder of a lawyer\, the testimony of two young girls lead to the arrest of Father Michael Hogan (Montgomery Clift). Hogan is innocent and knows who the killer is—but only because of a confession\, which he is sworn not to divulge. Although he denies any involvement in the crime\, he cannot offer any contradictory information and must leave it to the insinuations of the prosecutor\, the self-serving tactics of the police\, and faith in his own code of conduct to save him from jail. Hitchcock's own Catholic upbringing adds dimension to this lesser-known gem. \n [source: George Eastman Museum calendar\, 2019-Mar-4]
URL:https://jayceland.com/blog/event/i-confess-screening/
LOCATION:Dryden Theatre at George Eastman Museum (formerly George Eastman House)\, 900 East Ave.\, Rochester\, New York\, 14607\, United States
CATEGORIES:JayceLand 2019-Mar-7
END:VEVENT
BEGIN:VEVENT
DTSTART;TZID=America/New_York:20190313T193000
DTEND;TZID=America/New_York:20190313T213000
DTSTAMP:20260422T055635
CREATED:20190306T175136Z
LAST-MODIFIED:20190306T175136Z
UID:22961-1552505400-1552512600@jayceland.com
SUMMARY:March 13 Chapter Meeting—How Winter Shapes the Alpine Zone by Kayla White
DESCRIPTION:Are you finding it a challenge to navigate this winter's everchanging climate? We humans have the ability to adjust with our clothing\, but how do those fragile plants survive? Come listen to the presentation from Kayla White\, Adirondack Club Summit Steward Coordinator who monitors these plants and evaluate their growth at our March program.   \nNew York's alpine zone is a dangerous\, gripping\, and magnificent place. The exposed\, mercurial world above tree line often features slippery ice\, ripping wind and drifting snow fields. While humans can be warmly-clad visitors in this harsh environment\, this fragile ecological zone is also home to specially-adapted alpine plants that survive here year-round. Over the centuries a cyclic interplay of ice\, wind\, and snow have all shaped the alpine zone\, making it an environment in which only tundra plants can survive. \n\n [source: Adirondack Mountain Club website\, 2019-Mar-4]
URL:https://jayceland.com/blog/event/march-13-chapter-meeting-how-winter-shapes-the-alpine-zone-by-kayla-white/
LOCATION:Rochester Museum and Science Center (RMSC)\, 657 East Ave.\, Rochester\, New York\, 14607\, United States
CATEGORIES:JayceLand 2019-Mar-7
END:VEVENT
BEGIN:VEVENT
DTSTART;TZID=America/New_York:20190313T211500
DTEND;TZID=America/New_York:20190313T224400
DTSTAMP:20260422T055635
CREATED:20190306T175138Z
LAST-MODIFIED:20190306T175138Z
UID:22986-1552511700-1552517040@jayceland.com
SUMMARY:Cold War screening (2019-Mar-13 @ 9:15 p.m.)
DESCRIPTION:The Cinema will screen Cold War (Pawel Pawlikowski\, Poland / U.K. / France  2018\, 89 min.) "In the 1950s\, a music director falls in love with a singer and tries to persuade her to flee communist Poland for France." [source: Cinema Theater coming soon page\, 2019-Mar-6]
URL:https://jayceland.com/blog/event/cold-war-screening-2019-mar-13-915-p-m/
LOCATION:Cinema Theatre\, 957 S. Clinton Ave.\, Rochester\, New York\, 14620\, United States
CATEGORIES:JayceLand 2019-Mar-7
END:VEVENT
END:VCALENDAR