BEGIN:VCALENDAR
VERSION:2.0
PRODID:-//JayceLand - ECPv6.15.20//NONSGML v1.0//EN
CALSCALE:GREGORIAN
METHOD:PUBLISH
X-ORIGINAL-URL:https://jayceland.com/blog
X-WR-CALDESC:Events for JayceLand
REFRESH-INTERVAL;VALUE=DURATION:PT1H
X-Robots-Tag:noindex
X-PUBLISHED-TTL:PT1H
BEGIN:VTIMEZONE
TZID:America/New_York
BEGIN:DAYLIGHT
TZOFFSETFROM:-0500
TZOFFSETTO:-0400
TZNAME:EDT
DTSTART:20180311T070000
END:DAYLIGHT
BEGIN:STANDARD
TZOFFSETFROM:-0400
TZOFFSETTO:-0500
TZNAME:EST
DTSTART:20181104T060000
END:STANDARD
BEGIN:DAYLIGHT
TZOFFSETFROM:-0500
TZOFFSETTO:-0400
TZNAME:EDT
DTSTART:20190310T070000
END:DAYLIGHT
BEGIN:STANDARD
TZOFFSETFROM:-0400
TZOFFSETTO:-0500
TZNAME:EST
DTSTART:20191103T060000
END:STANDARD
BEGIN:DAYLIGHT
TZOFFSETFROM:-0500
TZOFFSETTO:-0400
TZNAME:EDT
DTSTART:20200308T070000
END:DAYLIGHT
BEGIN:STANDARD
TZOFFSETFROM:-0400
TZOFFSETTO:-0500
TZNAME:EST
DTSTART:20201101T060000
END:STANDARD
END:VTIMEZONE
BEGIN:VEVENT
DTSTART;TZID=America/New_York:20190223T110000
DTEND;TZID=America/New_York:20190223T130000
DTSTAMP:20260424T025104
CREATED:20190220T185522Z
LAST-MODIFIED:20190220T185522Z
UID:22745-1550919600-1550926800@jayceland.com
SUMMARY:Winter Tour (2019-Feb-23 @ 11 a.m.)
DESCRIPTION:Enjoy a 60 to 90-minute (depending on weather) guided walking tour on flat\, paved roads. \n [source: Friends of Mt. Hope website\, 2019-Feb-18]
URL:https://jayceland.com/blog/event/winter-tour-2019-feb-23-11-a-m/
LOCATION:Mt. Hope Cemetery South Entrance\, 1133 Mt. Hope Ave.\, Rochester\, New York\, 14620\, United States
CATEGORIES:JayceLand 2019-Feb-21
END:VEVENT
BEGIN:VEVENT
DTSTART;TZID=America/New_York:20190223T130000
DTEND;TZID=America/New_York:20190223T160000
DTSTAMP:20260424T025104
CREATED:20190123T165539Z
LAST-MODIFIED:20190123T165539Z
UID:22387-1550926800-1550937600@jayceland.com
SUMMARY:Listening Circle: Men and Women Becoming Allies for Each Other (2019-Feb-23 @ 1 p.m.)
DESCRIPTION:[source: Rochester City Newspaper events calendar\, 2019-Jan-21]
URL:https://jayceland.com/blog/event/listening-circle-men-and-women-becoming-allies-for-each-other-2019-feb-23-1-p-m/
LOCATION:Irondequoit Public Library\, 1290 Titus Ave.\, Rochester\, New York\, 14617\, United States
CATEGORIES:JayceLand 2019-Feb-21
END:VEVENT
BEGIN:VEVENT
DTSTART;TZID=America/New_York:20190223T130000
DTEND;TZID=America/New_York:20190223T160000
DTSTAMP:20260424T025104
CREATED:20190220T185524Z
LAST-MODIFIED:20190220T185524Z
UID:22756-1550926800-1550937600@jayceland.com
SUMMARY:KCC: Darkroom Experience
DESCRIPTION:Flower City Arts Center is thrilled to partner with the Kodak Camera Club to bring you an afternoon in the darkroom! Participants are invited to bring their negatives (35mm\, 120\, or 4×5) to make their own 8"x10" B&W print in the darkroom. Our staff will take you through the process of selecting a negative to print\, exposure test strip\, and a final B&W print. Participants will walk away with 3 copies of their B&W photograph to hang on their wall\, swap\, and gift! \n [source: Flower City Arts Center website\, 2019-Feb-18]
URL:https://jayceland.com/blog/event/kcc-darkroom-experience/
LOCATION:Flower City Arts Center (formerly Genesee Center for Arts and Education)\, 713 Monroe Ave.\, Rochester\, New York\, 14607\, United States
CATEGORIES:JayceLand 2019-Feb-21
END:VEVENT
BEGIN:VEVENT
DTSTART;TZID=America/New_York:20190223T140000
DTEND;TZID=America/New_York:20190223T155900
DTSTAMP:20260424T025104
CREATED:20190221T144503Z
LAST-MODIFIED:20190221T144503Z
UID:22815-1550930400-1550937540@jayceland.com
SUMMARY:If Beale Street Could Talk screening (2019-Feb-23 @ 2 p.m.)
DESCRIPTION:The Cinema will screen If Beale Street Could Talk (Barry Jenkins\, U.S. 2018\, 119 min.) "A woman in Harlem embraces her pregnancy while she and her family struggle to prove her fiancé innocent of a crime." [source: Cinema Theater coming soon page\, 2019-Feb-21]
URL:https://jayceland.com/blog/event/if-beale-street-could-talk-screening-2019-feb-23-2-p-m/
LOCATION:Cinema Theatre\, 957 S. Clinton Ave.\, Rochester\, New York\, 14620\, United States
CATEGORIES:JayceLand 2019-Feb-21
END:VEVENT
BEGIN:VEVENT
DTSTART;TZID=America/New_York:20190223T160000
DTEND;TZID=America/New_York:20190223T183000
DTSTAMP:20260424T025104
CREATED:20190220T185522Z
LAST-MODIFIED:20190220T185522Z
UID:22739-1550937600-1550946600@jayceland.com
SUMMARY:Community Solidarity Potluck
DESCRIPTION:In response to the food insecurity created by the government shut down\, we will be hosting a series of community potlucks to serve those families most impacted. This is an opportunity to fellowship with our neighbors and build community. \n [source: Flying Squirrel website\, 2019-Feb-18]
URL:https://jayceland.com/blog/event/community-solidarity-potluck/
LOCATION:Flying Squirrel Community Space\, 285 Clarissa St.\, Rochester\, New York\, 14608\, United States
CATEGORIES:JayceLand 2019-Feb-21
END:VEVENT
BEGIN:VEVENT
DTSTART;TZID=America/New_York:20190223T163000
DTEND;TZID=America/New_York:20190223T180000
DTSTAMP:20260424T025104
CREATED:20190221T144503Z
LAST-MODIFIED:20190221T144503Z
UID:22817-1550939400-1550944800@jayceland.com
SUMMARY:Jimi Hendrix: Electric Church screening (2019-Feb-23 @ 4:30 p.m.)
DESCRIPTION:The Cinema will screen Jimi Hendrix: Electric Church (John McDermott\, U.S. 2015\, 90 min.) "This documentary presents the legendary guitarist in full flight at the 1970 Atlanta Pop Festival before the largest U.S. audience of his career. This critically acclaimed film combines color\, 16mm multi-camera footage of Hendrix's unforgettable July 4\, 1970 concert in its original performance sequence together with a new documentary that traces his journey to the festival amidst the dark shadow of civil rights unrest\, the relenting toll of the Vietnam War and a burgeoning festival culture." [source: Cinema Theater coming soon page\, 2019-Feb-21]
URL:https://jayceland.com/blog/event/jimi-hendrix-electric-church-screening-2019-feb-23-430-p-m/
LOCATION:Cinema Theatre\, 957 S. Clinton Ave.\, Rochester\, New York\, 14620\, United States
CATEGORIES:JayceLand 2019-Feb-21
END:VEVENT
BEGIN:VEVENT
DTSTART;TZID=America/New_York:20190223T190000
DTEND;TZID=America/New_York:20190223T211300
DTSTAMP:20260424T025104
CREATED:20190221T144502Z
LAST-MODIFIED:20190221T144502Z
UID:22802-1550948400-1550956380@jayceland.com
SUMMARY:Bohemian Rhapsody screening (2019-Feb-23 @ 7 p.m.)
DESCRIPTION:The Cinema will screen Bohemian Rhapsody (Bryan Singer\, U.K. / U.S. 2018\, 133 min.) "Bohemian Rhapsody is a foot-stomping celebration of Queen\, their music and their extraordinary lead singer Freddie Mercury. Freddie defied stereotypes and shattered convention to become one of the most beloved entertainers on the planet. The film traces the meteoric rise of the band through their iconic songs and revolutionary sound." [source: Cinema Theater coming soon page\, 2019-Feb-21]
URL:https://jayceland.com/blog/event/bohemian-rhapsody-screening-2019-feb-23-7-p-m/
LOCATION:Cinema Theatre\, 957 S. Clinton Ave.\, Rochester\, New York\, 14620\, United States
CATEGORIES:JayceLand 2019-Feb-21
END:VEVENT
BEGIN:VEVENT
DTSTART;TZID=America/New_York:20190223T193000
DTEND;TZID=America/New_York:20190223T224700
DTSTAMP:20260424T025104
CREATED:20190220T185524Z
LAST-MODIFIED:20190220T185524Z
UID:22760-1550950200-1550962020@jayceland.com
SUMMARY:Doctor Zhivago screening
DESCRIPTION:The Dryden will screen Doctor Zhivago (David Lean\, U.S./Italy/U.K. 1965\, 197 min.\, 35mm) as part of the Oscar Week series and theWinter Romance series.  \nAn epic romance of doomed love\, Doctor Zhivago is set amidst the tumultuous years encompassing World War I\, the Russian Revolution of 1917\, and the Russian Civil War. Yuri Zhivago (Omar Sharif) is a married physician and poet who falls madly in love with Lara (Julie Christie)\, a nurse who is also married. The tangled epic of love and war "did nothing less than re-create Moscow and its countryside\," according to Roger Ebert. "Doctor Zhivago\," Ebert continues\, "believes that history should have a lot of room for personal feelings . . . the individual over the state\, the heart over the mind." Banned in the Soviet Union for decades\, Doctor Zhivago won five of the ten Academy Awards for which it was nominated and has continued to garner acclaim ever since. \n [source: George Eastman Museum calendar\, 2019-Feb-18]
URL:https://jayceland.com/blog/event/doctor-zhivago-screening/
LOCATION:Dryden Theatre at George Eastman Museum (formerly George Eastman House)\, 900 East Ave.\, Rochester\, New York\, 14607\, United States
CATEGORIES:JayceLand 2019-Feb-21
END:VEVENT
BEGIN:VEVENT
DTSTART;TZID=America/New_York:20190223T200000
DTEND;TZID=America/New_York:20190223T220000
DTSTAMP:20260424T025104
CREATED:20190220T185522Z
LAST-MODIFIED:20190220T185522Z
UID:22740-1550952000-1550959200@jayceland.com
SUMMARY:Sim Redmond Band musical performance
DESCRIPTION:The Lovin' Cup will host the Sim Redmond Band (whom I first saw at the Krown almost exactly 17 years ago) and liked enough to keep going to their shows for some time.  \nSince their inception almost 20 years ago\, the Sim Redmond Band has been steadily on the rise\, forging new ground in roots music. Traveling around the globe\, playing with the likes of moe.\, the Neville Brothers\, the Wailers\, Jimmy Cliff\, and Habib Koite\, in some of the most beautiful venues in the U.S. and Japan\, the world has taken notice. With 8 tours of Japan under their belt\, Srb's unique blend of roots-rock\, Afro-Carribean\, and reggae music continues to spread like wild fire.   \nThey are based in Ithaca\, NY but their magnetic pole is Africa\, particularly the sounds eminating from West and South Africa. This magnetic pole has served as a pivot for the Sim Redmond Band to spring into straight rock grooves and pumping reggae. The vocal teamwork of Sim Redmond\, Jen Middaugh\, and Nate Silas Richardson creates some of the richest harmonies you'll ever hear. \n\n [source: Lovin Cup website\, 2019-Feb-18]
URL:https://jayceland.com/blog/event/sim-redmond-band-musical-performance/
LOCATION:Lovin' Cup\, 300 Park Point Dr.\, Rochester\, New York\, 14623\, United States
CATEGORIES:JayceLand 2019-Feb-21
END:VEVENT
BEGIN:VEVENT
DTSTART;TZID=America/New_York:20190223T200000
DTEND;TZID=America/New_York:20190223T220000
DTSTAMP:20260424T025104
CREATED:20190220T185522Z
LAST-MODIFIED:20190220T185522Z
UID:22743-1550952000-1550959200@jayceland.com
SUMMARY:Mostly Other People Do The Killing musical performance (2019-Feb-23 @ 8 p.m.)
DESCRIPTION:It's hard to believe that Mostly Other People Do The Killing (henceforth referred to as MOPDtK) have been together since 2003 and have been releasing recordings since 2005. (a dozen at last count.) Starting as a quartet (leader Moppa Elliott – bass\, John Irabagon – reeds\, Peter Evans – trumpet and Kevin Shea – drums) they've been through several personnel shifts\, occasionally adding members. At one point they were up to a septet. But no matter the size\, the band has always maintained its distinct freewheeling approach\, high level musicianship\, complex yet accessible compositions and musical antics that have made them so popular.    \nWe are pleased to be able to bring MOPDtK back to Bop Shop Records\, something we have been wanting to do for several years. Elliott is bringing a unique edition. This will feature MOPDtK as a piano trio featuring new pianist Ron Stabinsky. On record\, Stabinsky made his first appearance on Blue\, the band's notorious "reworking" of Miles Davis' Kind Of Blue recording. Stabinsky subsequently replaced trumpeter Evans on their most recent record\, Mauch Chaunk. Stabinsky has also recently released his first solo piano record\, the ironically titled Free For One. It's a bracing set of free improvisations that's been well-received. We also have to mention bassist Moppa Elliott's recent solo bass release\, Still\, Up In The Air which has also received favorable reviews.  \n\n [source: Bop Shop website\, 2019-Feb-18]
URL:https://jayceland.com/blog/event/mostly-other-people-do-the-killing-musical-performance-2019-feb-23-8-p-m/
LOCATION:Bop Shop Records\, 1460 Monroe Ave.\, Rochester\, New York\, 14618\, United States
CATEGORIES:JayceLand 2019-Feb-21
END:VEVENT
BEGIN:VEVENT
DTSTART;TZID=America/New_York:20190223T211500
DTEND;TZID=America/New_York:20190223T224800
DTSTAMP:20260424T025104
CREATED:20190221T144503Z
LAST-MODIFIED:20190221T144503Z
UID:22809-1550956500-1550962080@jayceland.com
SUMMARY:Minding the Gap screening (2019-Feb-23 @ 9:15 p.m.)
DESCRIPTION:The Cinema will screen Minding the Gap (Bing Liu\, U.S. 2018\, 93 min.) "Academy Award nominee for best documentary. Three young men bond together to escape volatile families in their Rust Belt hometown. As they face adult responsibilities\, unexpected revelations threaten their decade-long friendship." [source: Cinema Theater coming soon page\, 2019-Feb-21]
URL:https://jayceland.com/blog/event/minding-the-gap-screening-2019-feb-23-915-p-m/
LOCATION:Cinema Theatre\, 957 S. Clinton Ave.\, Rochester\, New York\, 14620\, United States
CATEGORIES:JayceLand 2019-Feb-21
END:VEVENT
BEGIN:VEVENT
DTSTART;TZID=America/New_York:20190223T213000
DTEND;TZID=America/New_York:20190223T231500
DTSTAMP:20260424T025104
CREATED:20190220T185517Z
LAST-MODIFIED:20190220T185517Z
UID:22729-1550957400-1550963700@jayceland.com
SUMMARY:Beverly Hills Cop screening
DESCRIPTION:The Little will screen Beverly Hills Cop (Martin Brest\, U.S. 1984\, 105 min.) as part of the Saturday Night Rewind series.  \nEddie Murphy is Axel Foley\, a freewheeling Detroit cop\, pursuing a murder investigation in Beverly Hills. \n [source: Little Theatre calendar\, 2019-Feb-18]
URL:https://jayceland.com/blog/event/beverly-hills-cop-screening/
LOCATION:Little Theatre\, 240 East Ave. #100\, Rochester\, New York\, 14604\, United States
CATEGORIES:JayceLand 2019-Feb-21
END:VEVENT
BEGIN:VEVENT
DTSTART;TZID=America/New_York:20190223T213000
DTEND;TZID=America/New_York:20190223T233000
DTSTAMP:20260424T025104
CREATED:20190220T185522Z
LAST-MODIFIED:20190220T185522Z
UID:22734-1550957400-1550964600@jayceland.com
SUMMARY:Live Emo Night: Cut Me Up Genny\, Nostalgic Stereo musical performances
DESCRIPTION:Come sing along to your favorite Emo\, Pup-Punk and Indie songs from the 2000's and indulge in a Genny or seven with Rochester's own Cut Me Up Genny.   \nYou'll be treated to songs from artists such as Taking Back Sunday\, The Used\, Jimmy Eat World\, Dashboard Confessional\, Underoath\, All Time Low\, The Killers\, and many\, many more! \n\n [source: Facebook\, 2019-Feb-18]
URL:https://jayceland.com/blog/event/live-emo-night-cut-me-up-genny-nostalgic-stereo-musical-performances/
LOCATION:Bug Jar\, 219 Monroe Ave\, Rochester\, New York\, 14607\, United States
CATEGORIES:JayceLand 2019-Feb-21
END:VEVENT
BEGIN:VEVENT
DTSTART;TZID=America/New_York:20190223T230000
DTEND;TZID=America/New_York:20190224T010000
DTSTAMP:20260424T025104
CREATED:20190220T185522Z
LAST-MODIFIED:20190220T185522Z
UID:22738-1550962800-1550970000@jayceland.com
SUMMARY:Ian Downey is Famous\, Zurich Cloud Motors musical performances
DESCRIPTION:[source: Skylark website\, 2019-Feb-18]
URL:https://jayceland.com/blog/event/ian-downey-is-famous-zurich-cloud-motors-musical-performances/
LOCATION:Skylark Lounge\, 40 South Union St.\, Rochester\, New York\, 14607\, United States
CATEGORIES:JayceLand 2019-Feb-21
END:VEVENT
END:VCALENDAR