BEGIN:VCALENDAR
VERSION:2.0
PRODID:-//JayceLand - ECPv6.15.20//NONSGML v1.0//EN
CALSCALE:GREGORIAN
METHOD:PUBLISH
X-ORIGINAL-URL:https://jayceland.com/blog
X-WR-CALDESC:Events for JayceLand
REFRESH-INTERVAL;VALUE=DURATION:PT1H
X-Robots-Tag:noindex
X-PUBLISHED-TTL:PT1H
BEGIN:VTIMEZONE
TZID:America/New_York
BEGIN:DAYLIGHT
TZOFFSETFROM:-0500
TZOFFSETTO:-0400
TZNAME:EDT
DTSTART:20180311T070000
END:DAYLIGHT
BEGIN:STANDARD
TZOFFSETFROM:-0400
TZOFFSETTO:-0500
TZNAME:EST
DTSTART:20181104T060000
END:STANDARD
BEGIN:DAYLIGHT
TZOFFSETFROM:-0500
TZOFFSETTO:-0400
TZNAME:EDT
DTSTART:20190310T070000
END:DAYLIGHT
BEGIN:STANDARD
TZOFFSETFROM:-0400
TZOFFSETTO:-0500
TZNAME:EST
DTSTART:20191103T060000
END:STANDARD
BEGIN:DAYLIGHT
TZOFFSETFROM:-0500
TZOFFSETTO:-0400
TZNAME:EDT
DTSTART:20200308T070000
END:DAYLIGHT
BEGIN:STANDARD
TZOFFSETFROM:-0400
TZOFFSETTO:-0500
TZNAME:EST
DTSTART:20201101T060000
END:STANDARD
END:VTIMEZONE
BEGIN:VEVENT
DTSTART;TZID=America/New_York:20190220T190000
DTEND;TZID=America/New_York:20190220T205600
DTSTAMP:20260422T222447
CREATED:20190213T183532Z
LAST-MODIFIED:20190213T183532Z
UID:22677-1550689200-1550696160@jayceland.com
SUMMARY:The Mule screening (2019-Feb-20 @ 7 p.m.)
DESCRIPTION:The Cinema will screen The Mule (Clint Eastwood\, U.S. 2018\, 116 min.) "A 90-year-old horticulturist and Korean War veteran is caught transporting $3 million worth of cocaine through Illinois for a Mexican drug cartel." [source: Cinema Theater coming soon page\, 2019-Feb-13]
URL:https://jayceland.com/blog/event/the-mule-screening-2019-feb-20-7-p-m/
LOCATION:Cinema Theatre\, 957 S. Clinton Ave.\, Rochester\, New York\, 14620\, United States
CATEGORIES:JayceLand 2019-Feb-14
END:VEVENT
BEGIN:VEVENT
DTSTART;TZID=America/New_York:20190220T193000
DTEND;TZID=America/New_York:20190220T210900
DTSTAMP:20260422T222447
CREATED:20190213T183531Z
LAST-MODIFIED:20190213T183531Z
UID:22668-1550691000-1550696940@jayceland.com
SUMMARY:Suspicion screening
DESCRIPTION:The Dryden will screen Suspicion (Alfred Hitchcock\, U.S. 1941\, 99 min.\, 35mm) as part of the Oscar Week series.  \nA classic Hitchcock psychological thriller\, Suspicion stars Cary Grant as Johnnie Aysgarth\, a gambling playboy who charms and elopes with wealthy and shy Lina McLaidlaw\, played by Joan Fontaine. As Lina learns the hard truth about her husband\, and his business partner turns up dead\, she begins to suspect that he is plotting to murder her for her money. The film's twist ending remains hotly contested to this day. For her portrayal of Lina\, Joan Fontaine won an Academy Award for Best Actress in 1941\, the only performance in a Hitchcock film ever to be awarded an Oscar. \n [source: George Eastman Museum calendar\, 2019-Feb-11]
URL:https://jayceland.com/blog/event/suspicion-screening/
LOCATION:Dryden Theatre at George Eastman Museum (formerly George Eastman House)\, 900 East Ave.\, Rochester\, New York\, 14607\, United States
CATEGORIES:JayceLand 2019-Feb-14
END:VEVENT
BEGIN:VEVENT
DTSTART;TZID=America/New_York:20190220T193000
DTEND;TZID=America/New_York:20190220T213000
DTSTAMP:20260422T222447
CREATED:20190213T183530Z
LAST-MODIFIED:20190213T183530Z
UID:22655-1550691000-1550698200@jayceland.com
SUMMARY:Eastman Wind Orchestra musical performance (2019-Feb-20 @ 7:30 p.m.)
DESCRIPTION:[source: Eastman School of Music Calendar\, 2019-Feb-11]
URL:https://jayceland.com/blog/event/eastman-wind-orchestra-musical-performance-2019-feb-20-730-p-m/
LOCATION:Kodak Hall at Eastman Theatre\, 60 Gibbs St.\, Rochester\, New York\, 14604\, United States
CATEGORIES:JayceLand 2019-Feb-14
END:VEVENT
BEGIN:VEVENT
DTSTART;TZID=America/New_York:20190220T210000
DTEND;TZID=America/New_York:20190220T222800
DTSTAMP:20260422T222447
CREATED:20190213T183533Z
LAST-MODIFIED:20190213T183533Z
UID:22684-1550696400-1550701680@jayceland.com
SUMMARY:Under the Eifel Tower screening (2019-Feb-20 @ 9 p.m.)
DESCRIPTION:The Cinema will screen Under the Eifel Tower (Archie Borders\, U.S. 2018\, 88 min.) "Stuart is a having a mid-life crisis. Desperate for something more in life\, he tags along on his best friend's family vacation to Paris — then proposes to his friend's 26-year-old daughter\, Rosalind\, while standing under the Eiffel Tower." [source: Cinema Theater coming soon page\, 2019-Feb-13]
URL:https://jayceland.com/blog/event/under-the-eifel-tower-screening-2019-feb-20-9-p-m/
LOCATION:Cinema Theatre\, 957 S. Clinton Ave.\, Rochester\, New York\, 14620\, United States
CATEGORIES:JayceLand 2019-Feb-14
END:VEVENT
BEGIN:VEVENT
DTSTART;TZID=America/New_York:20190220T210000
DTEND;TZID=America/New_York:20190220T230000
DTSTAMP:20260422T222447
CREATED:20190213T183532Z
LAST-MODIFIED:20190213T183532Z
UID:22669-1550696400-1550703600@jayceland.com
SUMMARY:Komrads\, Shanghai Beach\, Foot and Mouth Disease musical performances
DESCRIPTION:[source: WNY Shows website\, 2019-Feb-11]
URL:https://jayceland.com/blog/event/komrads-shanghai-beach-foot-and-mouth-disease-musical-performances/
LOCATION:Rosen Krown (formerly Monty's Krown)\, 875 Monroe Ave.\, Rochester\, New York\, 14620\, United States
CATEGORIES:JayceLand 2019-Feb-14
END:VEVENT
END:VCALENDAR