BEGIN:VCALENDAR
VERSION:2.0
PRODID:-//JayceLand - ECPv6.15.20//NONSGML v1.0//EN
CALSCALE:GREGORIAN
METHOD:PUBLISH
X-WR-CALNAME:JayceLand
X-ORIGINAL-URL:https://jayceland.com/blog
X-WR-CALDESC:Events for JayceLand
REFRESH-INTERVAL;VALUE=DURATION:PT1H
X-Robots-Tag:noindex
X-PUBLISHED-TTL:PT1H
BEGIN:VTIMEZONE
TZID:America/New_York
BEGIN:DAYLIGHT
TZOFFSETFROM:-0500
TZOFFSETTO:-0400
TZNAME:EDT
DTSTART:20180311T070000
END:DAYLIGHT
BEGIN:STANDARD
TZOFFSETFROM:-0400
TZOFFSETTO:-0500
TZNAME:EST
DTSTART:20181104T060000
END:STANDARD
BEGIN:DAYLIGHT
TZOFFSETFROM:-0500
TZOFFSETTO:-0400
TZNAME:EDT
DTSTART:20190310T070000
END:DAYLIGHT
BEGIN:STANDARD
TZOFFSETFROM:-0400
TZOFFSETTO:-0500
TZNAME:EST
DTSTART:20191103T060000
END:STANDARD
BEGIN:DAYLIGHT
TZOFFSETFROM:-0500
TZOFFSETTO:-0400
TZNAME:EDT
DTSTART:20200308T070000
END:DAYLIGHT
BEGIN:STANDARD
TZOFFSETFROM:-0400
TZOFFSETTO:-0500
TZNAME:EST
DTSTART:20201101T060000
END:STANDARD
END:VTIMEZONE
BEGIN:VEVENT
DTSTART;TZID=America/New_York:20190206T170000
DTEND;TZID=America/New_York:20190206T200000
DTSTAMP:20260425T181924
CREATED:20190130T201240Z
LAST-MODIFIED:20190130T201301Z
UID:22560-1549472400-1549483200@jayceland.com
SUMMARY:Mary Lupien Campaign Kick-off Event
DESCRIPTION:I've been working hard the past two years since I announced my first City Council bid in 2017. l've strengthened my roots as an activist\, advocate\, and organizer. I've been organizing supporting renters' rights for safe\, quality\, affordable homes. I've advocated for our police be held accountable to communities they serve. I've supported efforts to improve public transit system and to make our city more walkable and bikeable. And I've fought for an open process for deciding the best use for this city's beloved gathering place. I would be honored to continue this work and to be your partner and ally on City Council! \n [source: Mary Lupien e-mail\, 2019-Jan-30]
URL:https://jayceland.com/blog/event/mary-lupien-campaign-kick-off-event/
LOCATION:Radio Social\, 20 Carlson Rd.\, Rochester\, New York\, 14610\, United States
CATEGORIES:JayceLand 2019-Jan-31
END:VEVENT
BEGIN:VEVENT
DTSTART;TZID=America/New_York:20190206T180000
DTEND;TZID=America/New_York:20190206T203000
DTSTAMP:20260425T181924
CREATED:20190130T181421Z
LAST-MODIFIED:20190130T181421Z
UID:22485-1549476000-1549485000@jayceland.com
SUMMARY:Ground and Sky Rochester Poetry Series (2019-Feb-6 @ 6 p.m.)
DESCRIPTION:Poetry is the magic lifting the carpet to reveal\, just now\, just this. Come and offer and bring sacred trust\, building healthy community\, together. \n [source: Rochester Spoken Word website\, 2019-Jan-28]
URL:https://jayceland.com/blog/event/ground-and-sky-rochester-poetry-series-2019-feb-6-6-p-m/
LOCATION:Before Your Quiet Eyes\, 439 Monroe Ave.\, Rochester\, New York\, 14607\, United States
CATEGORIES:JayceLand 2019-Jan-31
END:VEVENT
BEGIN:VEVENT
DTSTART;TZID=America/New_York:20190206T190000
DTEND;TZID=America/New_York:20190206T204300
DTSTAMP:20260425T181924
CREATED:20190130T181423Z
LAST-MODIFIED:20190130T181423Z
UID:22507-1549479600-1549485780@jayceland.com
SUMMARY:Ben is Back screening (2019-Feb-6 @ 7 p.m.)
DESCRIPTION:The Cinema will screen Ben is Back (Peter Hedges\, U.S. 2018\, 103 min.) "A drug addicted teenage boy shows up unexpectedly at his family's home on Christmas Eve." [source: Cinema Theater coming soon page\, 2019-Jan-30]
URL:https://jayceland.com/blog/event/ben-is-back-screening-2019-feb-6-7-p-m/
LOCATION:Cinema Theatre\, 957 S. Clinton Ave.\, Rochester\, New York\, 14620\, United States
CATEGORIES:JayceLand 2019-Jan-31
END:VEVENT
BEGIN:VEVENT
DTSTART;TZID=America/New_York:20190206T193000
DTEND;TZID=America/New_York:20190206T210700
DTSTAMP:20260425T181924
CREATED:20190130T181422Z
LAST-MODIFIED:20190130T181422Z
UID:22496-1549481400-1549487220@jayceland.com
SUMMARY:O Estranho Caso de Angélica (The Strange Case of Angelica) screening
DESCRIPTION:The Dryden will screen O Estranho Caso de Angélica (The Strange Case of Angelica\, Manoel de Oliveira\, Portugal/Spain/France/Brazil 2010\, 97 min.\, 35mm\, Portuguese w/subtitles) as part of the Filmmaking at 80 series.  \nIn this supernatural romance\, photographer Isaac (Ricardo TrÃªpa) is summoned by a wealthy family to create a funerary portrait of Angelica (Pilar López de Ayala)\, who died suddenly and mysteriously after her wedding. To Isaac's astonishment\, Angelica appears to come to life through his lens\, and from that moment he is haunted by her spirit and by love. The film is set in the present while reminiscent of the past\, perhaps because director Manoel de Oliveira wrote the script in 1952 but directed the film in 2010 at the age of 101. The Portuguese centenarian lived to be the world's oldest director with a career spanning from the silent era to his death in 2015. \n [source: George Eastman Museum calendar\, 2019-Jan-28]
URL:https://jayceland.com/blog/event/o-estranho-caso-de-angelica-the-strange-case-of-angelica-screening/
LOCATION:Dryden Theatre at George Eastman Museum (formerly George Eastman House)\, 900 East Ave.\, Rochester\, New York\, 14607\, United States
CATEGORIES:JayceLand 2019-Jan-31
END:VEVENT
BEGIN:VEVENT
DTSTART;TZID=America/New_York:20190206T193000
DTEND;TZID=America/New_York:20190206T213000
DTSTAMP:20260425T181924
CREATED:20190130T181421Z
LAST-MODIFIED:20190130T181421Z
UID:22483-1549481400-1549488600@jayceland.com
SUMMARY:Eastman School Symphony Orchestra musical performance (2019-Feb-6 @ 7:30 p.m.)
DESCRIPTION:[source: Eastman School of Music Calendar\, 2019-Jan-28]
URL:https://jayceland.com/blog/event/eastman-school-symphony-orchestra-musical-performance-2019-feb-6-730-p-m/
LOCATION:Kodak Hall at Eastman Theatre\, 60 Gibbs St.\, Rochester\, New York\, 14604\, United States
CATEGORIES:JayceLand 2019-Jan-31
END:VEVENT
BEGIN:VEVENT
DTSTART;TZID=America/New_York:20190206T200000
DTEND;TZID=America/New_York:20190206T220000
DTSTAMP:20260425T181924
CREATED:20190130T181420Z
LAST-MODIFIED:20190130T181420Z
UID:22479-1549483200-1549490400@jayceland.com
SUMMARY:Ryan Yarmel\, Hotel Cadillac and The Sugargliders\, Madeleine McQueen musical performances
DESCRIPTION:[source: Abilene Bar and Lounge website\, 2019-Jan-28]
URL:https://jayceland.com/blog/event/ryan-yarmel-hotel-cadillac-and-the-sugargliders-madeleine-mcqueen-musical-performances/
LOCATION:Abilene Bar and Lounge\, 153 Liberty Pole Way\, Rochester\, New York\, 14604\, United States
CATEGORIES:JayceLand 2019-Jan-31
END:VEVENT
BEGIN:VEVENT
DTSTART;TZID=America/New_York:20190206T204500
DTEND;TZID=America/New_York:20190206T221000
DTSTAMP:20260425T181924
CREATED:20190130T181423Z
LAST-MODIFIED:20190130T181423Z
UID:22513-1549485900-1549491000@jayceland.com
SUMMARY:The Guilty screening (2019-Feb-6 @ 8:45 p.m.)
DESCRIPTION:The Cinema will screen The Guilty (Gustav MÃ¶ller\, Denmark 2018\, 85 min.) "A police officer assigned alarm dispatch duty enters a race against time when he answers an emergency call from a kidnapped woman." [source: Cinema Theater coming soon page\, 2019-Jan-30]
URL:https://jayceland.com/blog/event/the-guilty-screening-2019-feb-6-845-p-m/
LOCATION:Cinema Theatre\, 957 S. Clinton Ave.\, Rochester\, New York\, 14620\, United States
CATEGORIES:JayceLand 2019-Jan-31
END:VEVENT
BEGIN:VEVENT
DTSTART;TZID=America/New_York:20190206T210000
DTEND;TZID=America/New_York:20190206T230000
DTSTAMP:20260425T181924
CREATED:20190130T181421Z
LAST-MODIFIED:20190130T181421Z
UID:22478-1549486800-1549494000@jayceland.com
SUMMARY:EMDR\, Everdene Holler\, Cu-Cu\, Black Cat Harriet musical performances
DESCRIPTION:[source: Facebook\, 2019-Jan-28]
URL:https://jayceland.com/blog/event/emdr-everdene-holler-cu-cu-black-cat-harriet-musical-performances/
LOCATION:Bug Jar\, 219 Monroe Ave\, Rochester\, New York\, 14607\, United States
CATEGORIES:JayceLand 2019-Jan-31
END:VEVENT
END:VCALENDAR